
BEGIN:VCALENDAR
VERSION:2.0
PRODID:-//Family Life Radio - ECPv6.15.20//NONSGML v1.0//EN
CALSCALE:GREGORIAN
METHOD:PUBLISH
X-WR-CALNAME:Family Life Radio
X-ORIGINAL-URL:https://myflr.org
X-WR-CALDESC:Events for Family Life Radio
REFRESH-INTERVAL;VALUE=DURATION:PT1H
X-Robots-Tag:noindex
X-PUBLISHED-TTL:PT1H
BEGIN:VTIMEZONE
TZID:America/Phoenix
BEGIN:STANDARD
TZOFFSETFROM:-0700
TZOFFSETTO:-0700
TZNAME:MST
DTSTART:20240101T000000
END:STANDARD
END:VTIMEZONE
BEGIN:VEVENT
DTSTART;TZID=America/Phoenix:20251027T180000
DTEND;TZID=America/Phoenix:20251027T200000
DTSTAMP:20260421T163846
CREATED:20251015T202535Z
LAST-MODIFIED:20251015T202535Z
UID:10057004-1761588000-1761595200@myflr.org
SUMMARY:Christian College Fair
DESCRIPTION:Looking for the right Christian college? Join us at Northwest Christian School on October 27th from 6:00–8:00 p.m. and meet representatives from dozens of Christian colleges from all over the United States—all in one place! Come learn more about the amazing opportunities each school provides.
URL:https://myflr.org/event/christian-college-fair/
LOCATION:Northwest Christian School\, 16401 N 43rd Ave\, Phoenix\, AZ\, 85053-2705\, United States
CATEGORIES:Arizona
ATTACH;FMTTYPE=image/jpeg:https://eadn-wc05-15902914.nxedge.io/wp-content/uploads/2025/10/phoenix_area__west_valley_.jpg
ORGANIZER;CN="Northwest Christian School":MAILTO:penriquez@ncsaz.org
END:VEVENT
END:VCALENDAR