
BEGIN:VCALENDAR
VERSION:2.0
PRODID:-//Family Life Radio - ECPv6.15.20//NONSGML v1.0//EN
CALSCALE:GREGORIAN
METHOD:PUBLISH
X-ORIGINAL-URL:https://myflr.org
X-WR-CALDESC:Events for Family Life Radio
REFRESH-INTERVAL;VALUE=DURATION:PT1H
X-Robots-Tag:noindex
X-PUBLISHED-TTL:PT1H
BEGIN:VTIMEZONE
TZID:America/Detroit
BEGIN:DAYLIGHT
TZOFFSETFROM:-0500
TZOFFSETTO:-0400
TZNAME:EDT
DTSTART:20240310T070000
END:DAYLIGHT
BEGIN:STANDARD
TZOFFSETFROM:-0400
TZOFFSETTO:-0500
TZNAME:EST
DTSTART:20241103T060000
END:STANDARD
BEGIN:DAYLIGHT
TZOFFSETFROM:-0500
TZOFFSETTO:-0400
TZNAME:EDT
DTSTART:20250309T070000
END:DAYLIGHT
BEGIN:STANDARD
TZOFFSETFROM:-0400
TZOFFSETTO:-0500
TZNAME:EST
DTSTART:20251102T060000
END:STANDARD
BEGIN:DAYLIGHT
TZOFFSETFROM:-0500
TZOFFSETTO:-0400
TZNAME:EDT
DTSTART:20260308T070000
END:DAYLIGHT
BEGIN:STANDARD
TZOFFSETFROM:-0400
TZOFFSETTO:-0500
TZNAME:EST
DTSTART:20261101T060000
END:STANDARD
END:VTIMEZONE
BEGIN:VEVENT
DTSTART;TZID=America/Detroit:20250719T130000
DTEND;TZID=America/Detroit:20250719T160000
DTSTAMP:20260421T152214
CREATED:20250628T041730Z
LAST-MODIFIED:20250628T041730Z
UID:10046449-1752930000-1752940800@myflr.org
SUMMARY:Healing Harmonies
DESCRIPTION:Free concert given by the Christian band “Not Quite Home” to support the Children’s Grief Center (Great Lakes Bay Region). The Children’s Grief Center is a non-profit organization that provides a free healing environment for children\, teens\, and their families grieving a death. “Not Quite Home” is a Midland Michigan based band that performs their own original contemporary Chrisitan music in an effort to lift others up. “Not Quite Home” will be joined by music artist Andy Scott.
URL:https://myflr.org/event/healing-harmonies/
LOCATION:Central Park Bandshell (Midland\, MI)\, Corner of Rodd St. and Collins St.\, Midland\, MI\, 48642\, United States
CATEGORIES:Michigan
ATTACH;FMTTYPE=image/jpeg:https://eadn-wc05-15902914.nxedge.io/wp-content/uploads/2025/06/Concert-Full-Page-1-scaled.jpg
ORGANIZER;CN="Not Quite Home":MAILTO:mpevans10@gmail.com
END:VEVENT
END:VCALENDAR