
BEGIN:VCALENDAR
VERSION:2.0
PRODID:-//Family Life Radio - ECPv6.15.20//NONSGML v1.0//EN
CALSCALE:GREGORIAN
METHOD:PUBLISH
X-ORIGINAL-URL:https://myflr.org
X-WR-CALDESC:Events for Family Life Radio
REFRESH-INTERVAL;VALUE=DURATION:PT1H
X-Robots-Tag:noindex
X-PUBLISHED-TTL:PT1H
BEGIN:VTIMEZONE
TZID:America/Phoenix
BEGIN:STANDARD
TZOFFSETFROM:-0700
TZOFFSETTO:-0700
TZNAME:MST
DTSTART:20230101T000000
END:STANDARD
END:VTIMEZONE
BEGIN:VEVENT
DTSTART;TZID=America/Phoenix:20250404T190000
DTEND;TZID=America/Phoenix:20250405T153000
DTSTAMP:20260421T173413
CREATED:20250402T214916Z
LAST-MODIFIED:20250402T214949Z
UID:10040378-1743793200-1743867000@myflr.org
SUMMARY:Come Alive Women’s Conference (KC)
DESCRIPTION:COME ALIVE! \nJoin us for an amazing weekend\, just for women! We will enjoy connecting with each other and growing in our faith\, as we worship\, dive into God’s Word\, hear testimonies\, and serve together. \nWhen\nFriday\, 7-9 pm (doors open at 6)\nSaturday\, 9-3:30pm (doors open at 8) \nTheme\n“Come Alive”\nEzekiel 37:14 \nCost\n$40 (includes tote bag\, weekend booklet\, and both continental breakfast and lunch on Saturday)\nT-shirts available for add-on (unisex S-XL: $15\, XXL & XXXL: +$2) \nDeadline to Register\nMarch 26
URL:https://myflr.org/event/come-alive-womens-conference-kc/
LOCATION:Open Door KC\, 3033 N 103rd Terrace\, Kansas City\, KS\, 66109\, United States
CATEGORIES:Kansas,Missouri
ATTACH;FMTTYPE=image/png:https://eadn-wc05-15902914.nxedge.io/wp-content/uploads/2025/03/Promo-Slide-no-QR.png
ORGANIZER;CN="Open Door KC":MAILTO:info@opendoorkc.com
END:VEVENT
BEGIN:VEVENT
DTSTART;TZID=America/Phoenix:20241027T140000
DTEND;TZID=America/Phoenix:20241027T160000
DTSTAMP:20260421T173413
CREATED:20241014T224238Z
LAST-MODIFIED:20241014T224238Z
UID:10036712-1730037600-1730044800@myflr.org
SUMMARY:Fall Festival-KC
DESCRIPTION:Join us for a FREE fall event!! \nChili Cook-off\nTrunk or Treat\nGames\nPrizes\nMore!! \nOctober 27\, 2024 \n2pm-4pm \nOpen Door -KC
URL:https://myflr.org/event/fall-festival-kc/
LOCATION:Open Door KC\, 3033 N 103rd Terrace\, Kansas City\, KS\, 66109\, United States
CATEGORIES:Kansas
ATTACH;FMTTYPE=image/png:https://eadn-wc05-15902914.nxedge.io/wp-content/uploads/2024/10/Fall-Festival-2024-2.png
ORGANIZER;CN="Open Door KC":MAILTO:info@opendoorkc.com
END:VEVENT
BEGIN:VEVENT
DTSTART;TZID=America/Phoenix:20240907T190000
DTEND;TZID=America/Phoenix:20240907T210000
DTSTAMP:20260421T173413
CREATED:20240729T214349Z
LAST-MODIFIED:20240729T214349Z
UID:10031498-1725735600-1725742800@myflr.org
SUMMARY:Tommy Walker FREE Concert-KC
DESCRIPTION:Open Door KC is excited to announce Tommy Walker (and band) in concert on Saturday\, September 7\, 2024. \nThis FREE concert is sponsored by Christ-Centered Recovery in celebration of 34 years of ministry at Open Door KC. \nTo stay updated on this and other upcoming concerts\, visit www.opendoorkc.com or follow Open Door KC on Facebook and Instagram. \nFor media inquiries\, please contact Matt Cobb at 931.754.6378 or via email at mcobb@opendoorkc.com.
URL:https://myflr.org/event/tommy-walker-free-concert-kc/
LOCATION:Open Door KC\, 3033 N 103rd Terrace\, Kansas City\, KS\, 66109\, United States
CATEGORIES:Kansas,Missouri
ATTACH;FMTTYPE=image/png:https://eadn-wc05-15902914.nxedge.io/wp-content/uploads/2024/07/Tommy-Walker.png
ORGANIZER;CN="Open Door KC":MAILTO:info@opendoorkc.com
END:VEVENT
END:VCALENDAR