
BEGIN:VCALENDAR
VERSION:2.0
PRODID:-//Family Life Radio - ECPv6.15.20//NONSGML v1.0//EN
CALSCALE:GREGORIAN
METHOD:PUBLISH
X-ORIGINAL-URL:https://myflr.org
X-WR-CALDESC:Events for Family Life Radio
REFRESH-INTERVAL;VALUE=DURATION:PT1H
X-Robots-Tag:noindex
X-PUBLISHED-TTL:PT1H
BEGIN:VTIMEZONE
TZID:America/Phoenix
BEGIN:STANDARD
TZOFFSETFROM:-0700
TZOFFSETTO:-0700
TZNAME:MST
DTSTART:20250101T000000
END:STANDARD
END:VTIMEZONE
BEGIN:VEVENT
DTSTART;TZID=America/Phoenix:20260312T190000
DTEND;TZID=America/Phoenix:20260312T210000
DTSTAMP:20260419T194609
CREATED:20260210T004519Z
LAST-MODIFIED:20260220T235304Z
UID:10058966-1773342000-1773349200@myflr.org
SUMMARY:RENEW: A Night of Worship | With Benjamin Williams Hastings
DESCRIPTION:RENEW: A Night of Worship | March 12\nWith Benjamin Williams Hastings\nThis is a FREE event. Register today and invite someone to join you. \nEvent details:\nRENEW Gathering\nThursday\, March 12\n7:00 pm\nCalvary Church; 4001 Osuna Rd NE\, Albuquerque\nFREE event \nTickets available now. Register today HERE! \nhttps://luispalauassociation.regfox.com/renew-abq \nBenjamin Williams Hastings songs are sung in churches around the world. Many will recognize music he has written or performed\, including: \nSo Will I (100 Billion X)\nTake You At Your Word\nAbandoned\nThat’s Who I Praise  \nSomething is stirring across the Albuquerque region.\nAcross churches and communities\, believers are being drawn together around prayer\, service\, and a renewed passion to share the hope of Jesus. There is a growing sense that this is a moment to pause\, refocus\, and seek the Lord together. RENEW is a night set apart for worship\, prayer\, and unity. A night to step away from the noise\, lift our eyes\, and gather as one Church. A night to be encouraged\, strengthened\, and reminded that our everyday lives are where faith is lived out and the Good News is carried into our city. \nThis gathering is for the entire Church across Albuquerque. Bring a friend. Bring someone from another church. Bring someone who needs encouragement\, hope\, or a fresh reminder of God’s presence. Come worship together. Come pray together. Come be part of what God is doing in this city.
URL:https://myflr.org/event/renew-a-night-of-worship-march-12-love-nm-benjamin-william-hastings/
LOCATION:Calvary ABQ\, 4001 Osuna Road NE\, Albquerque\, NM\, 87109\, United States
CATEGORIES:Featured,New Mexico
ATTACH;FMTTYPE=image/jpeg:https://eadn-wc05-15902914.nxedge.io/wp-content/uploads/2026/02/RENEW-Gathering-March-12.2026-Benjamin-William-Hastings.jpg
END:VEVENT
END:VCALENDAR