
BEGIN:VCALENDAR
VERSION:2.0
PRODID:-//Family Life Radio - ECPv6.15.20//NONSGML v1.0//EN
CALSCALE:GREGORIAN
METHOD:PUBLISH
X-WR-CALNAME:Family Life Radio
X-ORIGINAL-URL:https://myflr.org
X-WR-CALDESC:Events for Family Life Radio
REFRESH-INTERVAL;VALUE=DURATION:PT1H
X-Robots-Tag:noindex
X-PUBLISHED-TTL:PT1H
BEGIN:VTIMEZONE
TZID:America/Phoenix
BEGIN:STANDARD
TZOFFSETFROM:-0700
TZOFFSETTO:-0700
TZNAME:MST
DTSTART:20230101T000000
END:STANDARD
END:VTIMEZONE
BEGIN:VEVENT
DTSTART;TZID=America/Phoenix:20241011T183000
DTEND;TZID=America/Phoenix:20241011T203000
DTSTAMP:20260421T141830
CREATED:20241003T183551Z
LAST-MODIFIED:20241003T183551Z
UID:10036660-1728671400-1728678600@myflr.org
SUMMARY:Freedom and Joy 2024 Worship Tour
DESCRIPTION:Tickets are on sale NOW!!! Prepare yourself for an extraordinary evening. Night of Worship! This year\, we are thrilled to welcome back the phenomenal Darian Sanders\, he’s bringing a spectacular lineup of worship singers and Broadway performers. This is their 3rd year performing at Pantano\, and they will be glorifying Jesus and inviting everyone to join and do the same. This event promises to be an unforgettable night of powerful praise\, incredible music\, and heartfelt worship that you simply cannot miss.  Bring your ONE\, your family\, or your friends\, this is the perfect opportunity to connect\, worship\, and experience the presence of God in a truly unique setting! \n\n\n\n\nLast year’s Night of Worship sold out quickly\, and tickets are already in high demand. With limited seats available\, now is the time to purchase your tickets. Don’t wait – you won’t want to miss the chance to be part of this awe-inspiring event that everyone will be talking about!  We can’t wait to worship with you. \n\n\nGet your tickets here!!!! 
URL:https://myflr.org/event/freedom-and-joy-2024-worship-tour/
LOCATION:Pantano Christian Church (Tucson\, AZ)\, 1755 S Houghton Rd\, Tucson\, AZ\, 85748\, United States
CATEGORIES:Arizona,Featured
ATTACH;FMTTYPE=image/jpeg:https://eadn-wc05-15902914.nxedge.io/wp-content/uploads/2024/10/Freedom-and-joy-worship-tour.jpg
ORGANIZER;CN="Pantano Christian Church":MAILTO:hello@pantano.church
END:VEVENT
END:VCALENDAR