
BEGIN:VCALENDAR
VERSION:2.0
PRODID:-//Family Life Radio - ECPv6.15.20//NONSGML v1.0//EN
CALSCALE:GREGORIAN
METHOD:PUBLISH
X-ORIGINAL-URL:https://myflr.org
X-WR-CALDESC:Events for Family Life Radio
REFRESH-INTERVAL;VALUE=DURATION:PT1H
X-Robots-Tag:noindex
X-PUBLISHED-TTL:PT1H
BEGIN:VTIMEZONE
TZID:America/Phoenix
BEGIN:STANDARD
TZOFFSETFROM:-0700
TZOFFSETTO:-0700
TZNAME:MST
DTSTART:20230101T000000
END:STANDARD
END:VTIMEZONE
BEGIN:VEVENT
DTSTART;TZID=America/Phoenix:20241221T193000
DTEND;TZID=America/Phoenix:20241221T203000
DTSTAMP:20260421T175829
CREATED:20241213T162553Z
LAST-MODIFIED:20241213T162553Z
UID:10037585-1734809400-1734813000@myflr.org
SUMMARY:Living Nativity
DESCRIPTION:Pennway Church of God will be hosting the Living Nativity on Saturday\, December 21\, 2024. There will be a showing at 6:30PM and 7:30PM.\nWe will be walking through and seeing the birth of our Messiah come to life! Through Scripture\, songs\, and story-telling\, we are able to place ourselves into the story and see that Yeshua came for us today. It wasn’t a typical king’s entry\, but a quiet and holy night that our Savior came into this world. \nCome and join us for either or both showings on Saturday\, December 21! Come early and grab some desserts and Biggby Coffee (and hot cocoa). It’s going to be a great evening of worship!
URL:https://myflr.org/event/living-nativity-3/2024-12-21/2/
LOCATION:Pennway Church of God (Lansing\, MI)\, 1101 East Cavanaugh Road\, Lansing\, MI\, 48910\, United States
CATEGORIES:Michigan
ATTACH;FMTTYPE=image/jpeg:https://eadn-wc05-15902914.nxedge.io/wp-content/uploads/2024/12/2024-The-Living-Nativity-Main-Logo.jpg
ORGANIZER;CN="Pennway Church of God":MAILTO:communications@pennway.org
END:VEVENT
END:VCALENDAR