
BEGIN:VCALENDAR
VERSION:2.0
PRODID:-//Family Life Radio - ECPv6.15.20//NONSGML v1.0//EN
CALSCALE:GREGORIAN
METHOD:PUBLISH
X-ORIGINAL-URL:https://myflr.org
X-WR-CALDESC:Events for Family Life Radio
REFRESH-INTERVAL;VALUE=DURATION:PT1H
X-Robots-Tag:noindex
X-PUBLISHED-TTL:PT1H
BEGIN:VTIMEZONE
TZID:America/Phoenix
BEGIN:STANDARD
TZOFFSETFROM:-0700
TZOFFSETTO:-0700
TZNAME:MST
DTSTART:20250101T000000
END:STANDARD
END:VTIMEZONE
BEGIN:VEVENT
DTSTART;TZID=America/Phoenix:20260418T090000
DTEND;TZID=America/Phoenix:20260418T160000
DTSTAMP:20260419T223852
CREATED:20260210T234232Z
LAST-MODIFIED:20260210T234232Z
UID:10058944-1776502800-1776528000@myflr.org
SUMMARY:Phoenix Bonsai Society Annual Bonsai Show
DESCRIPTION:Experience the beauty and tradition of bonsai at the Phoenix Bonsai Society’s Annual Bonsai Show\, a two‑day celebration of living art. Visitors can explore an inspiring collection of trees styled by local artists\, learn about bonsai techniques\, and meet members of one of Arizona’s oldest bonsai communities.\nSaturday\, April 18 — 9:00 AM to 4:00 PM\nSunday\, April 19 — 10:00 AM to 3:00 PM\nWhether you’re a gardener\, an art lover\, or simply curious\, this event offers a peaceful and engaging look into the world of miniature trees. Perfect for families\, hobbyists\, and anyone looking for a unique cultural experience.
URL:https://myflr.org/event/phoenix-bonsai-society-annual-bonsai-show/
LOCATION:valley garden center\, 1809 North 15th Avenue\, Phoenix\, AZ\, 85007\, United States
CATEGORIES:Arizona
ATTACH;FMTTYPE=image/jpeg:https://eadn-wc05-15902914.nxedge.io/wp-content/uploads/2026/02/Capture2.jpg
END:VEVENT
END:VCALENDAR