
BEGIN:VCALENDAR
VERSION:2.0
PRODID:-//Family Life Radio - ECPv6.15.20//NONSGML v1.0//EN
CALSCALE:GREGORIAN
METHOD:PUBLISH
X-ORIGINAL-URL:https://myflr.org
X-WR-CALDESC:Events for Family Life Radio
REFRESH-INTERVAL;VALUE=DURATION:PT1H
X-Robots-Tag:noindex
X-PUBLISHED-TTL:PT1H
BEGIN:VTIMEZONE
TZID:America/Detroit
BEGIN:DAYLIGHT
TZOFFSETFROM:-0500
TZOFFSETTO:-0400
TZNAME:EDT
DTSTART:20250309T070000
END:DAYLIGHT
BEGIN:STANDARD
TZOFFSETFROM:-0400
TZOFFSETTO:-0500
TZNAME:EST
DTSTART:20251102T060000
END:STANDARD
BEGIN:DAYLIGHT
TZOFFSETFROM:-0500
TZOFFSETTO:-0400
TZNAME:EDT
DTSTART:20260308T070000
END:DAYLIGHT
BEGIN:STANDARD
TZOFFSETFROM:-0400
TZOFFSETTO:-0500
TZNAME:EST
DTSTART:20261101T060000
END:STANDARD
BEGIN:DAYLIGHT
TZOFFSETFROM:-0500
TZOFFSETTO:-0400
TZNAME:EDT
DTSTART:20270314T070000
END:DAYLIGHT
BEGIN:STANDARD
TZOFFSETFROM:-0400
TZOFFSETTO:-0500
TZNAME:EST
DTSTART:20271107T060000
END:STANDARD
END:VTIMEZONE
BEGIN:VEVENT
DTSTART;TZID=America/Detroit:20260520T114500
DTEND;TZID=America/Detroit:20260520T130000
DTSTAMP:20260421T093121
CREATED:20250808T014236Z
LAST-MODIFIED:20250811T125211Z
UID:10050308-1779277500-1779282000@myflr.org
SUMMARY:Port Huron Compass Christian Business Alliance Luncheon - Port Huron
DESCRIPTION:Compass Port Huron began meeting in 2006 and has enjoyed steady growth ever since. We meet on the third Wednesday of every month (except July)\,and always enjoy great food\, conversation\, inspirational speakers and lots of laughs! We love welcoming new guests and we invite you step away from the office\, come\, be fed\, and go back to work inspired!
URL:https://myflr.org/event/port-huron-compass-christian-business-alliance-luncheon-port-huron/2026-05-20/
LOCATION:The Foundry\, 1219 Military Street\, Port Huron\, MI\, 48060\, United States
CATEGORIES:Michigan
ATTACH;FMTTYPE=image/jpeg:https://eadn-wc05-15902914.nxedge.io/wp-content/uploads/2025/08/Compass-Logo-1.jpg
END:VEVENT
END:VCALENDAR