
BEGIN:VCALENDAR
VERSION:2.0
PRODID:-//Family Life Radio - ECPv6.15.20//NONSGML v1.0//EN
CALSCALE:GREGORIAN
METHOD:PUBLISH
X-ORIGINAL-URL:https://myflr.org
X-WR-CALDESC:Events for Family Life Radio
REFRESH-INTERVAL;VALUE=DURATION:PT1H
X-Robots-Tag:noindex
X-PUBLISHED-TTL:PT1H
BEGIN:VTIMEZONE
TZID:America/Phoenix
BEGIN:STANDARD
TZOFFSETFROM:-0700
TZOFFSETTO:-0700
TZNAME:MST
DTSTART:20230101T000000
END:STANDARD
END:VTIMEZONE
BEGIN:VEVENT
DTSTART;TZID=America/Phoenix:20260330T130000
DTEND;TZID=America/Phoenix:20260330T160000
DTSTAMP:20260421T081107
CREATED:20260326T154915Z
LAST-MODIFIED:20260326T154915Z
UID:10060000-1774875600-1774886400@myflr.org
SUMMARY:Where do Bibles come from? (Platteville\, WI)
DESCRIPTION:The Old and New Testament text will be covered\, King James Bible\, and a question and answer session.
URL:https://myflr.org/event/where-do-bibles-come-from-platteville-wi/
LOCATION:Platteville Public Library\, 225 W Main St\, Platteville\, 53818\, United States
CATEGORIES:Iowa,Wisconsin
ATTACH;FMTTYPE=image/jpeg:https://eadn-wc05-15902914.nxedge.io/wp-content/uploads/2026/03/1000012440-1.jpg
ORGANIZER;CN="Potosi Community Bible Church":MAILTO:potosicbc.treasurer@gmail.com
END:VEVENT
BEGIN:VEVENT
DTSTART;TZID=America/Phoenix:20260330T130000
DTEND;TZID=America/Phoenix:20260330T160000
DTSTAMP:20260421T081107
CREATED:20260312T170438Z
LAST-MODIFIED:20260312T170457Z
UID:10059588-1774875600-1774886400@myflr.org
SUMMARY:"Where Do Bibles Come From? (part 2)
DESCRIPTION:“Where Do Bibles Come From? A History of Bible Transmission and Translation for Everyone” will be a free presentation in two parts in Room 202 at the Platteville Public Library by the Potosi Community Bible Church. More details are available on our website and Facebook page.\nSeating is limited to 60 persons\, so RSVP via our Facebook page\, emailing potosicbc.pastor@gmail.com\, calling 608-763-2881\, or at the door if space is available.
URL:https://myflr.org/event/where-do-bibles-come-from-part-2/
LOCATION:Platteville Public Library\, 225 W Main St\, Platteville\, 53818\, United States
CATEGORIES:Iowa,Wisconsin
ATTACH;FMTTYPE=image/jpeg:https://eadn-wc05-15902914.nxedge.io/wp-content/uploads/2026/03/644425789_122097807350435584_7116357311665613947_n-1.jpg
ORGANIZER;CN="Potosi Community Bible Church":MAILTO:potosicbc.treasurer@gmail.com
END:VEVENT
BEGIN:VEVENT
DTSTART;TZID=America/Phoenix:20260323T130000
DTEND;TZID=America/Phoenix:20260323T160000
DTSTAMP:20260421T081107
CREATED:20260402T171441Z
LAST-MODIFIED:20260402T171441Z
UID:10059999-1774270800-1774281600@myflr.org
SUMMARY:Where do Bibles come from? (Platteville\, WI)
DESCRIPTION:Bible text and translation history for everyone. The course covers Old Testament books\, English Bible versions\, and question and answer session.
URL:https://myflr.org/event/where-do-bibles-come-from-platteville-wi-2/
LOCATION:Platteville Public Library\, 225 W Main St\, Platteville\, 53818\, United States
CATEGORIES:Iowa,Wisconsin
ATTACH;FMTTYPE=image/jpeg:https://eadn-wc05-15902914.nxedge.io/wp-content/uploads/2026/03/1000012440.jpg
ORGANIZER;CN="Potosi Community Bible Church":MAILTO:potosicbc.treasurer@gmail.com
END:VEVENT
BEGIN:VEVENT
DTSTART;TZID=America/Phoenix:20260322T130000
DTEND;TZID=America/Phoenix:20260322T160000
DTSTAMP:20260421T081107
CREATED:20260312T170551Z
LAST-MODIFIED:20260312T170551Z
UID:10059587-1774184400-1774195200@myflr.org
SUMMARY:Where Do Bibles Come From? (part 1)
DESCRIPTION:“Where Do Bibles Come From? A History of Bible Transmission and Translation for Everyone” will be a free presentation in two parts in Room 202 at the Platteville Public Library by the Potosi Community Bible Church. More details are available on our website and Facebook page.\nSeating is limited to 60 persons\, so RSVP via our Facebook page\, emailing potosicbc.pastor@gmail.com\, calling 608-763-2881\, or at the door if space is available.
URL:https://myflr.org/event/where-do-bibles-come-from-part-1/
LOCATION:Platteville Public Library\, 225 W Main St\, Platteville\, 53818\, United States
CATEGORIES:Iowa,Wisconsin
ATTACH;FMTTYPE=image/jpeg:https://eadn-wc05-15902914.nxedge.io/wp-content/uploads/2026/03/644425789_122097807350435584_7116357311665613947_n.jpg
ORGANIZER;CN="Potosi Community Bible Church":MAILTO:potosicbc.treasurer@gmail.com
END:VEVENT
BEGIN:VEVENT
DTSTART;TZID=America/Phoenix:20240907T160000
DTEND;TZID=America/Phoenix:20240907T220000
DTSTAMP:20260421T081107
CREATED:20240820T164906Z
LAST-MODIFIED:20240820T164906Z
UID:10033480-1725724800-1725746400@myflr.org
SUMMARY:Re-Tracing Grace-Potosi\, WI
DESCRIPTION:For past\, present\, and future attendees of the Potosi Community Bible Church…\nWhen we remember our co-laborers in Christ since the gospel work in Potosi began\, we see how good God is because you were here. Whether your involvement was for life\, or for a season of life\, the grace we experienced together was special – worthy of remembrance and celebration! Won’t you join us in . . . an evening of Yard Games (BYO)\, Conversation\, Devotional Messages\, Special Music\, Dish-to-pass (aka Potluck) Dinner\, Sharing Time\, and Bonfire/Singing/Fellowship.
URL:https://myflr.org/event/re-tracing-grace-potosi-wi/
LOCATION:Wolfe Family Farm\, 5176 Old County B\, Potosi\, WI\, 53820\, United States
CATEGORIES:Wisconsin
ORGANIZER;CN="Potosi Community Bible Church":MAILTO:potosicbc.treasurer@gmail.com
END:VEVENT
END:VCALENDAR