
BEGIN:VCALENDAR
VERSION:2.0
PRODID:-//Family Life Radio - ECPv6.15.20//NONSGML v1.0//EN
CALSCALE:GREGORIAN
METHOD:PUBLISH
X-WR-CALNAME:Family Life Radio
X-ORIGINAL-URL:https://myflr.org
X-WR-CALDESC:Events for Family Life Radio
REFRESH-INTERVAL;VALUE=DURATION:PT1H
X-Robots-Tag:noindex
X-PUBLISHED-TTL:PT1H
BEGIN:VTIMEZONE
TZID:America/Phoenix
BEGIN:STANDARD
TZOFFSETFROM:-0700
TZOFFSETTO:-0700
TZNAME:MST
DTSTART:20230101T000000
END:STANDARD
END:VTIMEZONE
BEGIN:VEVENT
DTSTART;TZID=America/Phoenix:20240721T143000
DTEND;TZID=America/Phoenix:20240721T220000
DTSTAMP:20260421T163913
CREATED:20240501T220023Z
LAST-MODIFIED:20240501T220023Z
UID:10024766-1721572200-1721599200@myflr.org
SUMMARY:Praise In The Pines-Eagle River\, WI
DESCRIPTION:Join us for a day of fun\, spiritual renewal\, inspiration\, and transformation! Enjoy performances by Big Daddy Weave\, Austin French\, and Hannah Kerr as part of “The Heaven Changes Everything Tour.” Plus\, internationally renowned speaker Bob Lenz. Free community worship service begins at 3pm. Must have ticket for concert. More information at https://praiseinthepines.org/ \nPraise in The Pines \n1800 Pleasure Island Rd Eagle River\, WI \n\nAcclaimed Christian Music – Music is the cornerstone of the event! Experience the uplifting power of worship through music that resonates with the soul\nDynamic teaching – Engage with insightful teachings that illuminate the path to spiritual growth and renewal\nPersonal Testimonies – Hear real stories of triumph over despair\, giving witness to the transformative power of faith\nCommunity Unity – Connect with like-minded individuals who share a common journey towards faith\, hope\, and the abundant love of Christ\nFrom 3:00 PM to 5:00 PM\, we invite you to join us at the Northland Pines Auditorium for “The Worship Experience\,” a pre-concert worship experience that promises to uplift and inspire.  Admission to this event is free\, but seating is limited\nConcert begins at 6:30PM
URL:https://myflr.org/event/praise-in-the-pines-eagle-river-wi/
LOCATION:Northland Pines Field house\, 1800 Pleasure Island Rd\, Eagle River\, WI\, 54521\, United States
CATEGORIES:Iowa,Wisconsin
ATTACH;FMTTYPE=image/png:https://eadn-wc05-15902914.nxedge.io/wp-content/uploads/2024/04/PraiseInThePines_300X300.png
ORGANIZER;CN="Praise In The Pines":MAILTO:rejoice@praiseinthepines.org
END:VEVENT
END:VCALENDAR