
BEGIN:VCALENDAR
VERSION:2.0
PRODID:-//Family Life Radio - ECPv6.15.20//NONSGML v1.0//EN
CALSCALE:GREGORIAN
METHOD:PUBLISH
X-WR-CALNAME:Family Life Radio
X-ORIGINAL-URL:https://myflr.org
X-WR-CALDESC:Events for Family Life Radio
REFRESH-INTERVAL;VALUE=DURATION:PT1H
X-Robots-Tag:noindex
X-PUBLISHED-TTL:PT1H
BEGIN:VTIMEZONE
TZID:America/Detroit
BEGIN:DAYLIGHT
TZOFFSETFROM:-0500
TZOFFSETTO:-0400
TZNAME:EDT
DTSTART:20220313T070000
END:DAYLIGHT
BEGIN:STANDARD
TZOFFSETFROM:-0400
TZOFFSETTO:-0500
TZNAME:EST
DTSTART:20221106T060000
END:STANDARD
BEGIN:DAYLIGHT
TZOFFSETFROM:-0500
TZOFFSETTO:-0400
TZNAME:EDT
DTSTART:20230312T070000
END:DAYLIGHT
BEGIN:STANDARD
TZOFFSETFROM:-0400
TZOFFSETTO:-0500
TZNAME:EST
DTSTART:20231105T060000
END:STANDARD
BEGIN:DAYLIGHT
TZOFFSETFROM:-0500
TZOFFSETTO:-0400
TZNAME:EDT
DTSTART:20240310T070000
END:DAYLIGHT
BEGIN:STANDARD
TZOFFSETFROM:-0400
TZOFFSETTO:-0500
TZNAME:EST
DTSTART:20241103T060000
END:STANDARD
BEGIN:DAYLIGHT
TZOFFSETFROM:-0500
TZOFFSETTO:-0400
TZNAME:EDT
DTSTART:20250309T070000
END:DAYLIGHT
BEGIN:STANDARD
TZOFFSETFROM:-0400
TZOFFSETTO:-0500
TZNAME:EST
DTSTART:20251102T060000
END:STANDARD
BEGIN:DAYLIGHT
TZOFFSETFROM:-0500
TZOFFSETTO:-0400
TZNAME:EDT
DTSTART:20260308T070000
END:DAYLIGHT
BEGIN:STANDARD
TZOFFSETFROM:-0400
TZOFFSETTO:-0500
TZNAME:EST
DTSTART:20261101T060000
END:STANDARD
END:VTIMEZONE
BEGIN:VTIMEZONE
TZID:America/Phoenix
BEGIN:STANDARD
TZOFFSETFROM:-0700
TZOFFSETTO:-0700
TZNAME:MST
DTSTART:20220101T000000
END:STANDARD
END:VTIMEZONE
BEGIN:VTIMEZONE
TZID:America/Chicago
BEGIN:DAYLIGHT
TZOFFSETFROM:-0600
TZOFFSETTO:-0500
TZNAME:CDT
DTSTART:20220313T080000
END:DAYLIGHT
BEGIN:STANDARD
TZOFFSETFROM:-0500
TZOFFSETTO:-0600
TZNAME:CST
DTSTART:20221106T070000
END:STANDARD
BEGIN:DAYLIGHT
TZOFFSETFROM:-0600
TZOFFSETTO:-0500
TZNAME:CDT
DTSTART:20230312T080000
END:DAYLIGHT
BEGIN:STANDARD
TZOFFSETFROM:-0500
TZOFFSETTO:-0600
TZNAME:CST
DTSTART:20231105T070000
END:STANDARD
BEGIN:DAYLIGHT
TZOFFSETFROM:-0600
TZOFFSETTO:-0500
TZNAME:CDT
DTSTART:20240310T080000
END:DAYLIGHT
BEGIN:STANDARD
TZOFFSETFROM:-0500
TZOFFSETTO:-0600
TZNAME:CST
DTSTART:20241103T070000
END:STANDARD
END:VTIMEZONE
BEGIN:VEVENT
DTSTART;TZID=America/Detroit:20250306T190000
DTEND;TZID=America/Detroit:20250306T220000
DTSTAMP:20260421T124415
CREATED:20250117T220612Z
LAST-MODIFIED:20250117T220635Z
UID:10038814-1741287600-1741298400@myflr.org
SUMMARY:Kirk Cameron: Strong Families\, Strong Communities Tour – Panama City
DESCRIPTION:SCHEDULE (subject to change):5:00 PM – VIP doors5:15 PM – Q + A begins6:00 PM – Early Entry doors6:15 PM – General Admission doors7:00 PM – Event begins———————————Join actor Kirk Cameron for an inspiring evening of worship and teaching as he unveils the transformative insights of his new book\, “Born to Be Brave.” In a time of exciting cultural transition\, Cameron delivers a compelling message of hope and courage\, urging Christians to reclaim a vision of victory to strengthen our families and our communities. Drawing on biblical insights and personal stories\, Cameron will gather the family of faith to encourage us to live compassionately\, act with unwavering confidence and courage\, to not just “stand strong\,” but win the hearts and minds of this generation. The night also includes worship from special guest Matt Hammitt. Don’t miss this opportunity to be inspired and walk away equipped to make a meaningful impact on our communities and beyond.———————————For the protection of our ticket buyers and event participants\, third party selling of tickets will not be permitted for any TPR. event pages. There has been an increase in fraudulent and unlawful scams around concert ticket sales online. To ensure everyone has an official ticket to the event through proper channels\, we recommend you purchase your tickets through the official ticketing outlet for your event. Any purchases through 3rd parties or 3rd party ticketing sites are not guaranteed by TPR. and limits your ability to receive up to date information for the event and any necessary assistance.
URL:https://myflr.org/event/kirk-cameron-strong-families-tour-strong-communities-panama-city/
LOCATION:Hiland Park Baptist Church (Panama City\, FL)\, 2611 US-231\, Panama City\, FL\, 32405\, United States
CATEGORIES:Featured,Florida
ATTACH;FMTTYPE=image/jpeg:https://eadn-wc05-15902914.nxedge.io/wp-content/uploads/2025/01/KirkCameron_SFSC2025_PanamaCity_1080x1080-copy.jpg
END:VEVENT
BEGIN:VEVENT
DTSTART;TZID=America/Detroit:20250208T190000
DTEND;TZID=America/Detroit:20250208T213000
DTSTAMP:20260421T124415
CREATED:20250117T220234Z
LAST-MODIFIED:20250117T220923Z
UID:10038813-1739041200-1739050200@myflr.org
SUMMARY:Kirk Cameron: Strong Families\, Strong Communities Tour – Ooltewah
DESCRIPTION:SCHEDULE (subject to change):5:00 PM – VIP doors5:15 PM – Q + A begins6:00 PM – Early Entry doors6:15 PM – General Admission doors7:00 PM – Event begins———————————Join actor Kirk Cameron for an inspiring evening of worship and teaching as he unveils the transformative insights of his new book\, “Born to Be Brave.” In a time of exciting cultural transition\, Cameron delivers a compelling message of hope and courage\, urging Christians to reclaim a vision of victory to strengthen our families and our communities. Drawing on biblical insights and personal stories\, Cameron will gather the family of faith to encourage us to live compassionately\, act with unwavering confidence and courage\, to not just “stand strong\,” but win the hearts and minds of this generation. The night also includes worship from special guest Matt Hammitt. Don’t miss this opportunity to be inspired and walk away equipped to make a meaningful impact on our communities and beyond.———————————For the protection of our ticket buyers and event participants\, third party selling of tickets will not be permitted for any TPR. event pages. There has been an increase in fraudulent and unlawful scams around concert ticket sales online. To ensure everyone has an official ticket to the event through proper channels\, we recommend you purchase your tickets through the official ticketing outlet for your event. Any purchases through 3rd parties or 3rd party ticketing sites are not guaranteed by TPR. and limits your ability to receive up to date information for the event and any necessary assistance. \nSee less
URL:https://myflr.org/event/kirk-cameron-strong-families-tour-strong-communities-ooltewah/
LOCATION:Christway Church\, 6201 Mountainview Rd\, Ooltewah\, TN\, 37363\, United States
CATEGORIES:Featured,Tennesee
ATTACH;FMTTYPE=image/jpeg:https://eadn-wc05-15902914.nxedge.io/wp-content/uploads/2025/01/KirkCameron_SFSC2025_Ooltewah_1080x1080-copy.jpg
END:VEVENT
BEGIN:VEVENT
DTSTART;TZID=America/Detroit:20240511T180000
DTEND;TZID=America/Detroit:20240511T220000
DTSTAMP:20260421T124415
CREATED:20240131T144230Z
LAST-MODIFIED:20240131T144255Z
UID:10019574-1715450400-1715464800@myflr.org
SUMMARY:Gaither Vocal Band “Moments to Remember” – Sterling Heights
DESCRIPTION:Gaither Vocal Band “Moments To Remember” Tour\nWith special guests Ladye Love Smith\, Gene McDonald and Kevin Williams\nSaturday\, May 11th\nBethesda Christian Church in Sterling Heights \n 
URL:https://myflr.org/event/gaither-vocal-band-moments-to-remember-sterling-heights/
LOCATION:Bethesda Christian Church\, 14000 Metro Parkway\, Sterling Heights\, MI\, 48312\, United States
CATEGORIES:Featured,Michigan
ATTACH;FMTTYPE=image/jpeg:https://eadn-wc05-15902914.nxedge.io/wp-content/uploads/2024/01/Gaither_Local_SterlingHeightsMI_1080x1080.jpg
END:VEVENT
BEGIN:VEVENT
DTSTART;TZID=America/Phoenix:20240323T190000
DTEND;TZID=America/Phoenix:20240323T210000
DTSTAMP:20260421T124415
CREATED:20231207T004135Z
LAST-MODIFIED:20231207T004135Z
UID:10018659-1711220400-1711227600@myflr.org
SUMMARY:Steven Curtis Chapman – Still Tour 2024
DESCRIPTION:Family Life Radio & Fill the Gap Concerts presents\, \n Steven Curtis Chapman – Still Tour 2024\nSAT MAR 23\, 2024 @ 7:00pm \nDoor Open: 6:00pm \nLubbock Memorial Civic Center – Lubbock\, TX \nSteven Curtis Chapman’s insights and ideas are wiser and more wide-eyed than ever before on This Moment\, his compelling sixteenth studio album and first new project in more than three years. Wisdom culled from two decades of ante-upping artistry (five Grammy’s\, a record-breaking fifty-one Dove Awards) anchors the set in a delightfully confident pop musicality. Meanwhile\, the new wonders he’s finding at home and now on the other side of the world add passion and a worshipful air to his thoughtful lyrics. \nTicket Link: https://www.axs.com/events/516678/steven-curtis-chapman-tickets
URL:https://myflr.org/event/steven-curtis-chapman-still-tour-2024/
LOCATION:Lubbock Memorial Civic Center\, 1501 Mac Davis Ln\, Lubbock\, 79401
CATEGORIES:Featured,Texas
ATTACH;FMTTYPE=image/jpeg:https://eadn-wc05-15902914.nxedge.io/wp-content/uploads/2023/12/stevencurtischapman_general_1080x1080_1.jpg
END:VEVENT
BEGIN:VEVENT
DTSTART;TZID=America/Detroit:20240310T170000
DTEND;TZID=America/Detroit:20240310T210000
DTSTAMP:20260421T124415
CREATED:20231221T150341Z
LAST-MODIFIED:20231227T163715Z
UID:10018727-1710090000-1710104400@myflr.org
SUMMARY:WINTER JAM ’24 GRAND RAPIDS
DESCRIPTION:Winter Jam Tour\, hosted by Newsong\, Christian music’s biggest tour\, is back for 2024 with headliners Crowder and Lecrae and a solid lineup of acts including CAIN\, Katy Nichole & Seventh Day Slumber. Featuring speaker Zane Black and special guest Joseph O’Brien. Join Jam Nation for early admission\, exclusive t-shirt\, artists Q&A & more. \nPre-Jam artists are SEU Worship\, John Wesley\, and Lin D. Zane Black is included as speaker and Joseph O’Brien as a special guest. \nTickets are not required. A donation of $15 at the door requested. \n\n\n\n\nJam Nation Entry: 3:00 PM \n\n\n\n\n\n\n\nGeneral Admission Entry: 4:00 PM \n\n\n\n\n\n\nPre-Show: 4:00 PM \n\n\n\n\n\n\n\nShow Starts: 5:00 PM
URL:https://myflr.org/event/winter-jam-24-grand-rapids/
LOCATION:Van Andel Arena (Grand Rapids\, MI)\, 130 West Fulton\, Grand Rapids\, MI\, 49503\, United States
CATEGORIES:Featured,Michigan
ATTACH;FMTTYPE=image/png:https://eadn-wc05-15902914.nxedge.io/wp-content/uploads/2023/12/WJ24-1080x1080-Square-Poster-with-City-Specifics_GRAND-RAPIDS_MI.png
END:VEVENT
BEGIN:VEVENT
DTSTART;TZID=America/Detroit:20240225T190000
DTEND;TZID=America/Detroit:20240225T230000
DTSTAMP:20260421T124415
CREATED:20231219T201438Z
LAST-MODIFIED:20231227T163732Z
UID:10018722-1708887600-1708902000@myflr.org
SUMMARY:WINTER JAM ’24 YPSILANTI
DESCRIPTION:Winter Jam Tour\, hosted by Newsong\, Christian music’s biggest tour\, is back for 2024 with headliners Crowder and Lecrae and a solid lineup of acts including CAIN\, Katy Nichole & Seventh Day Slumber. Featuring speaker Zane Black and special guest Joseph O’Brien. Join Jam Nation for early admission\, exclusive t-shirt\, artists Q&A & more. \nPre-Jam artists are SEU Worship\, John Wesley\, and Lin D. Zane Black is included as speaker and Joseph O’Brien as a special guest. \nTickets are not required. A donation of $15 at the door requested. \n\n\n\n\nJam Nation Entry: 5:00 PM \n\n\n\n\n\n\n\nGeneral Admission Entry: 6:00 PM \n\n\n\n\n\n\nPre-Show: 6:00 PM \n\n\n\n\n\n\n\nShow Starts: 7:00 PM
URL:https://myflr.org/event/winter-jam-24-ypsilanti/
LOCATION:EMU George Gervin GameAbove Center (Ypsilanti\, MI)\, 799 N Hewitt Rd\, Ypsilanti\, MI\, 48197\, United States
CATEGORIES:Featured,Michigan
ATTACH;FMTTYPE=image/png:https://eadn-wc05-15902914.nxedge.io/wp-content/uploads/2023/12/WJ24-1080x1080-Square-Poster-with-City-Specifics_YPSILANTI_MI-copy.png
END:VEVENT
BEGIN:VEVENT
DTSTART;TZID=America/Detroit:20231130T190000
DTEND;TZID=America/Detroit:20231130T223000
DTSTAMP:20260421T124415
CREATED:20231120T200355Z
LAST-MODIFIED:20231120T201216Z
UID:10018588-1701370800-1701383400@myflr.org
SUMMARY:A FAMILY CHRISTMAS with WE THE KINGDOM & MATT MAHER
DESCRIPTION:Join us for a wonderful night of Christmas Praise with Matt Maher and We the Kingdom. \nEvent info at https://www.platformtickets.com/tour/family-christmas-2023-we-kingdom-matt-maher/macon-ga \nTicket info at https://www.ticketmaster.com/event/0E005F33AC122CF0
URL:https://myflr.org/event/a-family-christmas-with-we-the-kingdom-and-matt-maher/
LOCATION:Macon City Auditorium (Macon\, GA)\, 415 First Street\, Macon\, GA\, 31201\, United States
CATEGORIES:Featured,Georgia
ATTACH;FMTTYPE=image/jpeg:https://eadn-wc05-15902914.nxedge.io/wp-content/uploads/2023/11/1080-x-1080_MACON.jpg
END:VEVENT
BEGIN:VEVENT
DTSTART;TZID=America/Phoenix:20231109T190000
DTEND;TZID=America/Phoenix:20231109T220000
DTSTAMP:20260421T124415
CREATED:20230726T170824Z
LAST-MODIFIED:20230815T222718Z
UID:10013105-1699556400-1699567200@myflr.org
SUMMARY:Cain Live and In Color Tour w/ guests Katy Nichole and David Leonard
DESCRIPTION:Spend five minutes with the members of CAIN and you’ll feel like you’ve spent the afternoon in the sunshine. The band’s effervescent joy spills over onto each person they meet\, their bright smiles as contagious as their chill-inducing harmonies. Pouring their perpetual joy into their debut album\, 2021’s Rise Up\, CAIN – made up of siblings Madison Cain Johnson\, Taylor Cain Matz\, and Logan Cain – has discovered what it’s like to live their calling while doing their favorite thing\, singing about Jesus. Hearing their songs live\, in the car or at home\, listeners are blessed by the songs of CAIN – music made of hard-won hope that radiates the kind of eternal happiness only found in the goodness of God! \nCain the band is coming to Mesa on the 9th of November at Living Word Bible Church in Mesa and they’re gonna color our city!  As you may know they are known for wearing matching outfits at every performance and public outing. The band has requested that everyone match the band and Wear Red the night of the show!!!! \nGet your tickets today and find out more at https://www.itickets.com/events/473895
URL:https://myflr.org/event/cain-live-and-in-color-tour-w-guests-katy-nichole-and-david-leonard/
LOCATION:Living Word Bible Church\, 3520 E Brown Rd.\, Mesa\, AZ\, 85213\, United States
CATEGORIES:Arizona,Featured
ATTACH;FMTTYPE=image/jpeg:https://eadn-wc05-15902914.nxedge.io/wp-content/uploads/2023/07/cain_localized_mesa-az_1080x1080.jpeg
END:VEVENT
BEGIN:VEVENT
DTSTART;TZID=America/Phoenix:20231019T190000
DTEND;TZID=America/Phoenix:20231019T220000
DTSTAMP:20260421T124415
CREATED:20230801T142944Z
LAST-MODIFIED:20230801T144715Z
UID:10013134-1697742000-1697752800@myflr.org
SUMMARY:CAIN – LIVE AND IN COLOR TOUR – WARNER ROBINS
DESCRIPTION:CAIN has added new fall dates to their Live And In Color Tour! The band is being joined by Katy Nichole and David Leonard for an inspiring and fun night of worship. \n\nJoin us at Second Baptist Church in Warner Robins this October!\nAnd don’t forget to wear BLUE   \n\n\n\nTHU ∙ OCT 19\, 2023 ∙ 7:00 PM \nDoors open at 6:00 pm\n\nSecond Baptist Church\n2504 Moody Road\n\nWarner Robins\, GA 31088 US\n\n\n\n\nTickets on sale now! \nEvent info at https://www.facebook.com/events/1404967273750530\nTicket info at https://www.itickets.com/events/473816
URL:https://myflr.org/event/cain-live-and-in-color-tour-warner-robins/
LOCATION:Hiland Park Baptist Church (Panama City\, FL)\, 2611 US-231\, Panama City\, FL\, 32405\, United States
CATEGORIES:Featured,Georgia
ATTACH;FMTTYPE=image/jpeg:https://eadn-wc05-15902914.nxedge.io/wp-content/uploads/2023/08/Cain-Live-and-In-Color-11x17-Poster-5_23-FINAL-copy.jpg
END:VEVENT
BEGIN:VEVENT
DTSTART;TZID=America/Chicago:20231012T190000
DTEND;TZID=America/Chicago:20231012T220000
DTSTAMP:20260421T124415
CREATED:20231010T163713Z
LAST-MODIFIED:20231010T163713Z
UID:10016741-1697137200-1697148000@myflr.org
SUMMARY:GAITHER VOCAL BAND – THE DARKER THE NIGHT THE BRIGHTER THE LIGHT CONCERT
DESCRIPTION:BILL GAITHER AND THE GAITHER VOCAL BAND \n\n\nTHURSDAY\, OCTOBER 12\, 2023 \nFirst Baptist Church Panama City – Downtown in Panama City\, FL\n\nThursday\, October 12\, 2023\n\n\nDoors Open: 6:00PM CDT\nEvent Starts: 7:00PM CDT \nEvent info at: https://www.platformtickets.com/tour/bill-gaither-and-gaither-vocal-band/panama-city-fl-0 \nTicket info at: https://www.itickets.com/events/474183
URL:https://myflr.org/event/gaither-vocal-band-the-darker-the-night-the-brighter-the-light-concert/
LOCATION:First Bapitst Church of Panama City (Panama City\, FL)\, 640 Grace Avenue\, Panama City\, FL\, 32401\, United States
CATEGORIES:Featured,Florida
ATTACH;FMTTYPE=image/jpeg:https://eadn-wc05-15902914.nxedge.io/wp-content/uploads/2023/10/National_GaitherSpring_Panama-City-FL_1080x1080.jpg
END:VEVENT
BEGIN:VEVENT
DTSTART;TZID=America/Phoenix:20230921T190000
DTEND;TZID=America/Phoenix:20230921T220000
DTSTAMP:20260421T124415
CREATED:20230801T142344Z
LAST-MODIFIED:20230801T144732Z
UID:10013133-1695322800-1695333600@myflr.org
SUMMARY:CAIN – LIVE AND IN COLOR TOUR – PANAMA CITY
DESCRIPTION:CAIN has added new fall dates to their Live And In Color Tour! The band is being joined by Katy Nichole and David Leonard for an inspiring and fun night of worship.\nJoin us at Hiland Park Baptist Church in Panama City this September!\nAnd don’t forget to wear GREEN \nTHU ∙ SEP 21\, 2023 ∙ 7:00 PM \nDoors open at 6:00 pm\n\nHiland Park Baptist Church\n2611 North Highway 231\n\n\nPanama City\, FL 32405 US \nTickets on sale now! \nEvent info at https://www.facebook.com/events/1259519611354500\nTicket info at https://www.itickets.com/events/473735
URL:https://myflr.org/event/cain-live-and-in-color-tour-panama-city/
LOCATION:Hiland Park Baptist Church (Panama City\, FL)\, 2611 US-231\, Panama City\, FL\, 32405\, United States
CATEGORIES:Featured,Florida
ATTACH;FMTTYPE=image/jpeg:https://eadn-wc05-15902914.nxedge.io/wp-content/uploads/2023/08/Cain-Live-and-In-Color-11x17-Poster-5_23-FINAL-copy.jpg
END:VEVENT
BEGIN:VEVENT
DTSTART;TZID=America/Phoenix:20230422T190000
DTEND;TZID=America/Phoenix:20230422T220000
DTSTAMP:20260421T124415
CREATED:20230309T004823Z
LAST-MODIFIED:20230309T004947Z
UID:10007842-1682190000-1682200800@myflr.org
SUMMARY:Elevation Nights (Elevation Worship & Steven Furtick)
DESCRIPTION:Family Life Radio & Premier Production presents\, Elevation Nights (Elevation Worship & Steven Furtick) \nSaturday\, April 22\, 2023 \n\nT-Mobile Center \n1407 Grand Boulevard\nKansas City\, MO 64106\n(816) 949-7100\n\n\nDoors Open: 6:00 PM\nShow Starts: 7:00 PM \n\nGet tickets HERE\n\nPremier Productions and Elevation Church announce Elevation Nights Spring 2023 Tour\, featuring Elevation Worship and Steven Furtick. The life-changing night of worship will sweep across eight cities this Spring as this passionate group of award-winning worship leaders brings their message of hope and life to audiences across the country.\n\n 
URL:https://myflr.org/event/elevation-nights-elevation-worship-steven-furtick/
LOCATION:T-Mobile Center (Kansas City\, MO)\, 1407 Grand Boulevard\, Kansas City\, MO\, 64106\, United States
CATEGORIES:Featured,Kansas,Missouri
ATTACH;FMTTYPE=image/jpeg:https://eadn-wc05-15902914.nxedge.io/wp-content/uploads/2023/03/EN_DATESPECIFIC_APR22_1080x1080.jpg
END:VEVENT
END:VCALENDAR