
BEGIN:VCALENDAR
VERSION:2.0
PRODID:-//Family Life Radio - ECPv6.15.20//NONSGML v1.0//EN
CALSCALE:GREGORIAN
METHOD:PUBLISH
X-WR-CALNAME:Family Life Radio
X-ORIGINAL-URL:https://myflr.org
X-WR-CALDESC:Events for Family Life Radio
REFRESH-INTERVAL;VALUE=DURATION:PT1H
X-Robots-Tag:noindex
X-PUBLISHED-TTL:PT1H
BEGIN:VTIMEZONE
TZID:America/Phoenix
BEGIN:STANDARD
TZOFFSETFROM:-0700
TZOFFSETTO:-0700
TZNAME:MST
DTSTART:20240101T000000
END:STANDARD
END:VTIMEZONE
BEGIN:VEVENT
DTSTART;TZID=America/Phoenix:20260328T090000
DTEND;TZID=America/Phoenix:20260329T220000
DTSTAMP:20260421T184556
CREATED:20260218T001348Z
LAST-MODIFIED:20260218T001348Z
UID:10059030-1774688400-1774821600@myflr.org
SUMMARY:The Ultimate Game 2026 — Your Life Conference! (Lubbock\, TX & Eastern NM)
DESCRIPTION:Calling all youth\, college students\, and families from the West Texas Panhandle and Eastern New Mexico… \nREACH CM & Family Life Radio invite you to be part of an unforgettable weekend of faith\, fun\, and future-focused encouragement at: \n⭐ The Ultimate Game 2026 — Your Life Conference\nThis powerful two-day experience is designed to inspire the next generation with hope\, vision\, and purpose in Christ. \n\n📅 Event Dates & Times\nFriday\, March 27\, 2026🕕 6:00 PM – 10:00 PM \nSaturday\, March 28\, 2026🕘 9:00 AM – 10:00 PM \n\n📍 Location\nPrima Vista Event Center402 FM-179Lubbock\, TX 79416 \n\n🎤 Featured Guests\n🎷 Reggie Dabbs — Special Speaker & Saxophone ArtistOne of the most sought-after youth and school speakers in the nation(reggiedabbsonline.com) \n🏆 Jared Greer — American Ninja WarriorBringing the high-energy obstacle course experience(obstacleministry.com) \n\n🎟️ Get Your Tickets Today!\nDon’t miss this incredible weekend in Lubbock!Get tickets HERE! 👉 https://www.eventbrite.com/e/the-ultimate-game-your-life-tickets-1982732556450?aff=oddtdtcreator \nBring your youth group\, friends\, college crew\, or the whole family — and come ready for God to move in a powerful way. \n________________________________________________________________________________ \n💥 What to Expect\n✔️ American Ninja Warrior-style obstacle course✔️ Powerful messages of faith and purpose✔️ Fun\, connection\, and encouragement for all ages✔️ A weekend of spiritual renewal and direction \nThis is more than an event… it’s a moment to reset your life with God’s truth. \n\n🌱 Life Perfect Vision\nThis conference is about: \n\n\nSharing God’s plans of hope and a future \n\n\nGiving guidance for everyday next steps \n\n\nReaching youth and families of all backgrounds \n\n\n📖 Jeremiah 29:11“‘For I know the plans I have for you\,’ says the Lord… plans to give you hope and a future.”
URL:https://myflr.org/event/the-ultimate-game-2026-your-life-conference-lubbock-tx-eastern-nm/2026-03-28/
LOCATION:Prima Vista Events Center\, 402 N FM 179\, Lubbock\, TX\, 79416\, United States
CATEGORIES:Featured,New Mexico,Texas
ATTACH;FMTTYPE=image/png:https://eadn-wc05-15902914.nxedge.io/wp-content/uploads/2026/02/The-Ultimate-Game-2026-Graphic.png
ORGANIZER;CN="REACH CM":MAILTO:reachcommunity.as@gmail.com
END:VEVENT
BEGIN:VEVENT
DTSTART;TZID=America/Phoenix:20251008T080000
DTEND;TZID=America/Phoenix:20251010T170000
DTSTAMP:20260421T184556
CREATED:20250826T173646Z
LAST-MODIFIED:20250826T211806Z
UID:10051231-1759910400-1760115600@myflr.org
SUMMARY:THE ULTIMATE SCHOOL TOUR (LUBBOCK)
DESCRIPTION:Family Life Radio and REACH Communuty presents The Ultimate School Tour October 6-8th\, 2025 \nFeaturing Reggie Dabbs. This will be a 30 minute assembly at Middle Schools & High Schools in Lubbock ISD & Surrounding West Texas Schools. There are limited spaces as we schedule each school to have an awesome speaker. Reggie Dabbs is one of the most sought after public school and event speakers in the United States & around the world.\nSee events at www.reachcommunity.org to sign up your school now! \nThis will be an awesome time of encouragement\, hope\, purpose\, & fun as Reggie shares his life & his Professional Saxophone talent. This is a free event brought to you by REACH Community.
URL:https://myflr.org/event/the-ultimate-school-tour-lubbock/2025-10-08/
CATEGORIES:Featured,Texas
ATTACH;FMTTYPE=image/jpeg:https://eadn-wc05-15902914.nxedge.io/wp-content/uploads/2025/08/Reggie-Dabbs-Graphic-2025.jpg
ORGANIZER;CN="REACH CM":MAILTO:reachcommunity.as@gmail.com
END:VEVENT
END:VCALENDAR