
BEGIN:VCALENDAR
VERSION:2.0
PRODID:-//Family Life Radio - ECPv6.15.20//NONSGML v1.0//EN
CALSCALE:GREGORIAN
METHOD:PUBLISH
X-ORIGINAL-URL:https://myflr.org
X-WR-CALDESC:Events for Family Life Radio
REFRESH-INTERVAL;VALUE=DURATION:PT1H
X-Robots-Tag:noindex
X-PUBLISHED-TTL:PT1H
BEGIN:VTIMEZONE
TZID:America/Phoenix
BEGIN:STANDARD
TZOFFSETFROM:-0700
TZOFFSETTO:-0700
TZNAME:MST
DTSTART:20240101T000000
END:STANDARD
END:VTIMEZONE
BEGIN:VEVENT
DTSTART;TZID=America/Phoenix:20250912T173000
DTEND;TZID=America/Phoenix:20250912T190000
DTSTAMP:20260421T102958
CREATED:20250729T232749Z
LAST-MODIFIED:20250729T232749Z
UID:10049263-1757698200-1757703600@myflr.org
SUMMARY:Spaghetti Dinner
DESCRIPTION:Free community dinner featuring spaghetti\, salad\, and dessert. All donations will benefit our local Wickenburg High School\, Lady Wranglers Volleyball team.
URL:https://myflr.org/event/spaghetti-dinner-3/
LOCATION:Redeemer Lutheran Church\, 450 W Rose Ln\, Wickenburg\, AZ\, 85390\, United States
CATEGORIES:Arizona
ATTACH;FMTTYPE=image/png:https://eadn-wc05-15902914.nxedge.io/wp-content/uploads/2025/07/Spaghetti-Dinner-2025.png
ORGANIZER;CN="Redeemer Lutheran Church":MAILTO:wickenburgredeemer@gmail.com
END:VEVENT
END:VCALENDAR