
BEGIN:VCALENDAR
VERSION:2.0
PRODID:-//Family Life Radio - ECPv6.15.20//NONSGML v1.0//EN
CALSCALE:GREGORIAN
METHOD:PUBLISH
X-WR-CALNAME:Family Life Radio
X-ORIGINAL-URL:https://myflr.org
X-WR-CALDESC:Events for Family Life Radio
REFRESH-INTERVAL;VALUE=DURATION:PT1H
X-Robots-Tag:noindex
X-PUBLISHED-TTL:PT1H
BEGIN:VTIMEZONE
TZID:America/Phoenix
BEGIN:STANDARD
TZOFFSETFROM:-0700
TZOFFSETTO:-0700
TZNAME:MST
DTSTART:20250101T000000
END:STANDARD
END:VTIMEZONE
BEGIN:VEVENT
DTSTART;TZID=America/Phoenix:20260417T190000
DTEND;TZID=America/Phoenix:20260417T210000
DTSTAMP:20260419T210829
CREATED:20260402T162431Z
LAST-MODIFIED:20260402T162431Z
UID:10060077-1776452400-1776459600@myflr.org
SUMMARY:Ultimate Date Night with Jay and Laura Laffoon
DESCRIPTION:“Whether you are married or dating\, you are invited to join us for The Ultimate Date Night with Jay and Laura Laffoon on Friday\, April 17th at 7 pm!  During this 90-minute comedic look at this thing called marriage\, Jay & Laura will reveal 7 different ways to fight for YOUR marriage\, using their unique blend of music\, comedy and Biblical truth. The cost is $50 per couple – scan the QR code to register today!”
URL:https://myflr.org/event/ultimate-date-night-with-jay-and-laura-laffoon/
LOCATION:Redeeming Love Christian Embassy (Bay City\, MI)\, 4521 Monitor Road\, South Entrance\, Bay City\, MI\, 48706\, United States
CATEGORIES:Michigan
ATTACH;FMTTYPE=image/jpeg:https://eadn-wc05-15902914.nxedge.io/wp-content/uploads/2026/04/Ultimate-Date-Night-1.jpg
END:VEVENT
END:VCALENDAR