
BEGIN:VCALENDAR
VERSION:2.0
PRODID:-//Family Life Radio - ECPv6.15.20//NONSGML v1.0//EN
CALSCALE:GREGORIAN
METHOD:PUBLISH
X-ORIGINAL-URL:https://myflr.org
X-WR-CALDESC:Events for Family Life Radio
REFRESH-INTERVAL;VALUE=DURATION:PT1H
X-Robots-Tag:noindex
X-PUBLISHED-TTL:PT1H
BEGIN:VTIMEZONE
TZID:America/Detroit
BEGIN:DAYLIGHT
TZOFFSETFROM:-0500
TZOFFSETTO:-0400
TZNAME:EDT
DTSTART:20240310T070000
END:DAYLIGHT
BEGIN:STANDARD
TZOFFSETFROM:-0400
TZOFFSETTO:-0500
TZNAME:EST
DTSTART:20241103T060000
END:STANDARD
BEGIN:DAYLIGHT
TZOFFSETFROM:-0500
TZOFFSETTO:-0400
TZNAME:EDT
DTSTART:20250309T070000
END:DAYLIGHT
BEGIN:STANDARD
TZOFFSETFROM:-0400
TZOFFSETTO:-0500
TZNAME:EST
DTSTART:20251102T060000
END:STANDARD
BEGIN:DAYLIGHT
TZOFFSETFROM:-0500
TZOFFSETTO:-0400
TZNAME:EDT
DTSTART:20260308T070000
END:DAYLIGHT
BEGIN:STANDARD
TZOFFSETFROM:-0400
TZOFFSETTO:-0500
TZNAME:EST
DTSTART:20261101T060000
END:STANDARD
END:VTIMEZONE
BEGIN:VTIMEZONE
TZID:America/Phoenix
BEGIN:STANDARD
TZOFFSETFROM:-0700
TZOFFSETTO:-0700
TZNAME:MST
DTSTART:20240101T000000
END:STANDARD
END:VTIMEZONE
BEGIN:VEVENT
DTSTART;TZID=America/Detroit:20250330T110000
DTEND;TZID=America/Detroit:20250330T130000
DTSTAMP:20260419T170542
CREATED:20250220T144859Z
LAST-MODIFIED:20250220T144859Z
UID:10040100-1743332400-1743339600@myflr.org
SUMMARY:Women’s Conference – Ypsilanti
DESCRIPTION:Women’s Conference: Reclaim Your Fight\nDate:\nThursday\, March 27th 10am-1pm\, Evangelist Judith Thurman\nFriday\, March 28th 6:30pm-8:30pm\, Pastor Kendra Graham\nSaturday\, March 29th 10am-1pm\, Pastor Rosa Bevier\nSunday\, March 30th 11am-1pm\, Pastor Mark Graham \nLocation: Restore World Church\, 2146 Moeller Ave\, Ypsilanti\, MI 48197 \nLadies\, it’s time to get your fight back! Join us for a powerful Women’s Conference designed to help you stand strong and face the battles in your life with the unshakable power of God’s Word. Whatever challenges you may be dealing with—whether in your personal\, emotional\, spiritual\, or physical life—this event is here to remind you that you are not alone and that the strength to overcome is already within you. \nNow is the time to fight\, and we’re here to equip you with the tools you need to reclaim your victory. Bring your friends\, family\, and anyone who needs encouragement as we dive into God’s Word together\, learning how to fight with faith\, strength\, and unwavering courage. \nThis is more than just a conference—it’s a call to rise up\, take back what’s been stolen\, and walk in the victory God has promised for each and every one of us. \nDon’t miss out on this life-changing event! We look forward to seeing you there\, ready to get your fight back and walk into your purpose that God has prepared for you.
URL:https://myflr.org/event/womens-conference-ypsilanti-2/2025-03-30/
LOCATION:Restore World Church (Ypsilanti\, MI)\, 2146 Moeller Ave\, Ypsilanti\, MI\, 48197\, United States
CATEGORIES:Michigan
ATTACH;FMTTYPE=image/jpeg:https://eadn-wc05-15902914.nxedge.io/wp-content/uploads/2025/02/wcc.jpg
ORGANIZER;CN="Restore World Church":MAILTO:rwcinfo2@gmail.com
END:VEVENT
BEGIN:VEVENT
DTSTART;TZID=America/Phoenix:20250327T100000
DTEND;TZID=America/Phoenix:20250327T130000
DTSTAMP:20260419T170542
CREATED:20250212T174328Z
LAST-MODIFIED:20250212T174328Z
UID:10039494-1743069600-1743080400@myflr.org
SUMMARY:Women’s Conference – Ypsilanti
DESCRIPTION:Women’s Conference: Reclaim Your Fight\nDate:\nThursday\, March 27th 10am-1pm\, Evangelist Judith Thurman\nFriday\, March 28th 6:30pm-8:30pm\, Pastor Kendra Graham\nSaturday\, March 29th 10am-1pm\, Pastor Rosa Bevier\nSunday\, March 30th 11am-1pm\, Pastor Mark Graham \nLocation: Restore World Church\, 2146 Moeller Ave\, Ypsilanti\, MI 48197 \nLadies\, it’s time to get your fight back! Join us for a powerful Women’s Conference designed to help you stand strong and face the battles in your life with the unshakable power of God’s Word. Whatever challenges you may be dealing with—whether in your personal\, emotional\, spiritual\, or physical life—this event is here to remind you that you are not alone and that the strength to overcome is already within you. \nNow is the time to fight\, and we’re here to equip you with the tools you need to reclaim your victory. Bring your friends\, family\, and anyone who needs encouragement as we dive into God’s Word together\, learning how to fight with faith\, strength\, and unwavering courage. \nThis is more than just a conference—it’s a call to rise up\, take back what’s been stolen\, and walk in the victory God has promised for each and every one of us. \nDon’t miss out on this life-changing event! We look forward to seeing you there\, ready to get your fight back and walk into your purpose that God has prepared for you.
URL:https://myflr.org/event/womens-conference-ypsilanti/
LOCATION:Restore World Church (Ypsilanti\, MI)\, 2146 Moeller Ave\, Ypsilanti\, MI\, 48197\, United States
CATEGORIES:Michigan
ATTACH;FMTTYPE=image/jpeg:https://eadn-wc05-15902914.nxedge.io/wp-content/uploads/2025/02/wcc.jpg
ORGANIZER;CN="Restore World Church":MAILTO:rwcinfo2@gmail.com
END:VEVENT
END:VCALENDAR