
BEGIN:VCALENDAR
VERSION:2.0
PRODID:-//Family Life Radio - ECPv6.15.20//NONSGML v1.0//EN
CALSCALE:GREGORIAN
METHOD:PUBLISH
X-WR-CALNAME:Family Life Radio
X-ORIGINAL-URL:https://myflr.org
X-WR-CALDESC:Events for Family Life Radio
REFRESH-INTERVAL;VALUE=DURATION:PT1H
X-Robots-Tag:noindex
X-PUBLISHED-TTL:PT1H
BEGIN:VTIMEZONE
TZID:America/Detroit
BEGIN:DAYLIGHT
TZOFFSETFROM:-0500
TZOFFSETTO:-0400
TZNAME:EDT
DTSTART:20250309T070000
END:DAYLIGHT
BEGIN:STANDARD
TZOFFSETFROM:-0400
TZOFFSETTO:-0500
TZNAME:EST
DTSTART:20251102T060000
END:STANDARD
BEGIN:DAYLIGHT
TZOFFSETFROM:-0500
TZOFFSETTO:-0400
TZNAME:EDT
DTSTART:20260308T070000
END:DAYLIGHT
BEGIN:STANDARD
TZOFFSETFROM:-0400
TZOFFSETTO:-0500
TZNAME:EST
DTSTART:20261101T060000
END:STANDARD
BEGIN:DAYLIGHT
TZOFFSETFROM:-0500
TZOFFSETTO:-0400
TZNAME:EDT
DTSTART:20270314T070000
END:DAYLIGHT
BEGIN:STANDARD
TZOFFSETFROM:-0400
TZOFFSETTO:-0500
TZNAME:EST
DTSTART:20271107T060000
END:STANDARD
END:VTIMEZONE
BEGIN:VTIMEZONE
TZID:America/Phoenix
BEGIN:STANDARD
TZOFFSETFROM:-0700
TZOFFSETTO:-0700
TZNAME:MST
DTSTART:20240101T000000
END:STANDARD
END:VTIMEZONE
BEGIN:VEVENT
DTSTART;TZID=America/Detroit:20260207T090000
DTEND;TZID=America/Detroit:20260207T150000
DTSTAMP:20260421T203759
CREATED:20251203T213833Z
LAST-MODIFIED:20251203T213833Z
UID:10057686-1770454800-1770476400@myflr.org
SUMMARY:2026 No Regrets Men's Conference
DESCRIPTION:Join us at Rives Church on Saturday\, February 7th from 9am – 3pm as we simulcast the 2026 No Regrets Men’s Conference – Surrender. The cost is $30/person including lunch when you pre-register\, or $35 at the door.\nGuest speakers include: Simon Mbevi\, Thaddeus Williams\, Steve Carter\, Kenny Luck\, Chris Brown\, Bob Merritt\, and many others.\nBe part of a global movement of over 15\,000 men growing in faith\, purpose\, and courage. “…offer your bodies as a living sacrifice.” Romans 12:1
URL:https://myflr.org/event/2026-no-regrets-mens-conference/
LOCATION:Rives Church (Rives Junction\, MI)\, 2800 W Berry Rd\, Rives Junction\, MI\, 49277\, United States
CATEGORIES:Michigan
ATTACH;FMTTYPE=image/png:https://eadn-wc05-15902914.nxedge.io/wp-content/uploads/2025/11/Digital-Graphics_Square-Verse.png
ORGANIZER;CN="Rives Church":MAILTO:office@riveschurch.org
END:VEVENT
BEGIN:VEVENT
DTSTART;TZID=America/Phoenix:20250721T090000
DTEND;TZID=America/Phoenix:20250725T113000
DTSTAMP:20260421T203759
CREATED:20250606T173141Z
LAST-MODIFIED:20250606T173141Z
UID:10045789-1753088400-1753443000@myflr.org
SUMMARY:VBS - Up\, Down\, and Out
DESCRIPTION:RBM Ministries will be teaching our VBS\, and this year’s theme is “Up\, Down\, and Out”. It is open to kids ages 5-12 years old\, and we will meet Monday through Friday from 9 – 11:30 am.
URL:https://myflr.org/event/vbs-up-down-and-out/
LOCATION:Rives Church (Rives Junction\, MI)\, 2800 W Berry Rd\, Rives Junction\, MI\, 49277\, United States
CATEGORIES:Michigan
ATTACH;FMTTYPE=image/jpeg:https://eadn-wc05-15902914.nxedge.io/wp-content/uploads/2025/06/VBS.jpg
ORGANIZER;CN="Rives Church":MAILTO:office@riveschurch.org
END:VEVENT
BEGIN:VEVENT
DTSTART;TZID=America/Phoenix:20250201T090000
DTEND;TZID=America/Phoenix:20250201T143000
DTSTAMP:20260421T203759
CREATED:20250106T141741Z
LAST-MODIFIED:20250106T141741Z
UID:10038465-1738400400-1738420200@myflr.org
SUMMARY:No Regrets Men’s Conference
DESCRIPTION:We will livestream the “No Regrets Men’s Conference” on Saturday\, Feb 1st from 9 am – 2:30 pm. The cost is $35/person and includes lunch and snacks. This conference will help men to grow in their faith and develop their leadership skills.
URL:https://myflr.org/event/no-regrets-mens-conference-2/
LOCATION:Rives Church (Rives Junction\, MI)\, 2800 W Berry Rd\, Rives Junction\, MI\, 49277\, United States
CATEGORIES:Michigan
ATTACH;FMTTYPE=image/png:https://eadn-wc05-15902914.nxedge.io/wp-content/uploads/2025/01/Digital-Graphics_1920x1080.png
ORGANIZER;CN="Rives Church":MAILTO:office@riveschurch.org
END:VEVENT
END:VCALENDAR