
BEGIN:VCALENDAR
VERSION:2.0
PRODID:-//Family Life Radio - ECPv6.15.20//NONSGML v1.0//EN
CALSCALE:GREGORIAN
METHOD:PUBLISH
X-WR-CALNAME:Family Life Radio
X-ORIGINAL-URL:https://myflr.org
X-WR-CALDESC:Events for Family Life Radio
REFRESH-INTERVAL;VALUE=DURATION:PT1H
X-Robots-Tag:noindex
X-PUBLISHED-TTL:PT1H
BEGIN:VTIMEZONE
TZID:America/Phoenix
BEGIN:STANDARD
TZOFFSETFROM:-0700
TZOFFSETTO:-0700
TZNAME:MST
DTSTART:20240101T000000
END:STANDARD
END:VTIMEZONE
BEGIN:VEVENT
DTSTART;TZID=America/Phoenix:20251101T100000
DTEND;TZID=America/Phoenix:20251101T160000
DTSTAMP:20260421T195641
CREATED:20250826T182339Z
LAST-MODIFIED:20250826T182339Z
UID:10050793-1761991200-1762012800@myflr.org
SUMMARY:Scandinavian Festival
DESCRIPTION:A Scandinavian Festival will be held at St John’s United Methodist Church\, 2626 Arizona NE\, Albuquerque\, NM \n Saturday\, November 1\, 2025  \n10am-4pm  \nFeaturing Scandinavian food\, folk art\, live entertainment and more. \nAdmission/parking: free \nhttps://www.facebook.com/NMRosemalers/ or http://www.facebook.com/scandiabq/
URL:https://myflr.org/event/scandinavian-festival-2/
LOCATION:St Johns United Methodist Church\, Albuquerque\, NM\, 2626 Arizona St NE\, Albuquerque\, NM\, 87110\, United States
CATEGORIES:New Mexico
ORGANIZER;CN="Rosemalers of NM%2C Albuquerque%2C NM":MAILTO:missrichards@msn.com
END:VEVENT
END:VCALENDAR