
BEGIN:VCALENDAR
VERSION:2.0
PRODID:-//Family Life Radio - ECPv6.15.20//NONSGML v1.0//EN
CALSCALE:GREGORIAN
METHOD:PUBLISH
X-ORIGINAL-URL:https://myflr.org
X-WR-CALDESC:Events for Family Life Radio
REFRESH-INTERVAL;VALUE=DURATION:PT1H
X-Robots-Tag:noindex
X-PUBLISHED-TTL:PT1H
BEGIN:VTIMEZONE
TZID:America/Phoenix
BEGIN:STANDARD
TZOFFSETFROM:-0700
TZOFFSETTO:-0700
TZNAME:MST
DTSTART:20240101T000000
END:STANDARD
END:VTIMEZONE
BEGIN:VEVENT
DTSTART;TZID=America/Phoenix:20260404T100000
DTEND;TZID=America/Phoenix:20260404T113000
DTSTAMP:20260421T061943
CREATED:20260311T171148Z
LAST-MODIFIED:20260311T171148Z
UID:10059539-1775296800-1775302200@myflr.org
SUMMARY:Community Wide Easter Egg Hunt
DESCRIPTION:7\,000 Eggs. One Epic Morning. 🐰✨\nGet your baskets ready! We’re hosting a community-wide Easter Egg Hunt and we’ve hidden over 7\,000 eggs just waiting to be found. Whether you’re a tiny hopper or a seasoned hunter\, there’s a prize with your name on it! \nWhen: Saturday\, April 4th | 10:00 AM SHARP! Where: Udall Park (Ramadas 7\, 8\, & 9)\nThe Great Scramble Schedule \nDon’t blink! These eggs go fast—arrive early to stake out your spot.\n• 10:05 AM: Ages 1–4 & Special Needs\n• 10:10 AM: Ages 5–8\n• 10:15 AM: Ages 9–12 \n________________________________________\nBeyond the Hunt\nStick around for a morning full of community fun:\n• 🎨 Creativity: Face Painting & Crafts\n• 🎟️ Prizes: Enter our Raffle!\n• 🙏 Connection: Visit our Prayer Station\nDon’t be late—once the whistle blows\, the eggs go!
URL:https://myflr.org/event/community-wide-easter-egg-hunt-4/
CATEGORIES:Arizona
ATTACH;FMTTYPE=image/png:https://eadn-wc05-15902914.nxedge.io/wp-content/uploads/2026/03/Posting-graphic.png
ORGANIZER;CN="Sabino Road Baptist Church":MAILTO:sabinoroad@gmail.com
END:VEVENT
BEGIN:VEVENT
DTSTART;TZID=America/Phoenix:20260322T183000
DTEND;TZID=America/Phoenix:20260322T193000
DTSTAMP:20260421T061943
CREATED:20260311T170130Z
LAST-MODIFIED:20260311T170130Z
UID:10059543-1774204200-1774207800@myflr.org
SUMMARY:Renew the Fire - Night of Worship
DESCRIPTION:This isn’t just another worship service! Join us for a night of worship to the Lord. Renew your passion!
URL:https://myflr.org/event/renew-the-fire-night-of-worship/
LOCATION:2710 N Sabino Canyon Rd\, Tucson\, AZ\, 2710 N Sabino Canyon Road\, Tucson\, AZ\, 85715\, United States
CATEGORIES:Arizona
ATTACH;FMTTYPE=image/jpeg:https://eadn-wc05-15902914.nxedge.io/wp-content/uploads/2026/03/642289901_1321447966674894_6456599883700061681_n.jpg
ORGANIZER;CN="Sabino Road Baptist Church":MAILTO:sabinoroad@gmail.com
END:VEVENT
BEGIN:VEVENT
DTSTART;TZID=America/Phoenix:20251205T183000
DTEND;TZID=America/Phoenix:20251205T200000
DTSTAMP:20260421T061943
CREATED:20251105T232325Z
LAST-MODIFIED:20251105T232325Z
UID:10057135-1764959400-1764964800@myflr.org
SUMMARY:Sabino Snow Festival
DESCRIPTION:❄️ Get Ready to Jingle All the Way! ❄️\nDid someone say… SNOW?! That’s right! Ditch the desert boots and grab your mittens because the most anticipated event of the season is here!\n________________________________________\nKick off your Christmas season with a blizzard of fun at the FREE Sabino Snow Festival!\n• When: December 5th and 6th\n• Time: Join us each evening at 6:30 PM for a family-friendly Christmas celebration!\n• Where: Sabino Road Baptist Church (2710 N Sabino Canyon Road)\n________________________________________\nPrepare for an unforgettable night packed with Christmas cheer:\n• Festive Crafts & Face Painting: Get creative and sparkly!\n• Warm Treats: Sip on delicious hot cocoa and nibble on yummy cookies!\n• Main Event: Experience the awe of a LIVE Nativity scene!\n• Christmas Magic: A truly snowy forecast with a chance of full-on blizzard conditions! 🌨️\n• Be a Blessing: Bring canned goods or shelf-stable goods to stock the shelves at Caring Ministries.\nBring your whole family and make memories that will last all season long. The Sabino Snow Festival—where the Christmas spirit is forecasted to be absolutely SNOWY!\n________________________________________
URL:https://myflr.org/event/sabino-snow-festival-3/
LOCATION:2710 N Sabino Canyon Rd\, Tucson\, AZ\, 2710 N Sabino Canyon Road\, Tucson\, AZ\, 85715\, United States
CATEGORIES:Arizona
ATTACH;FMTTYPE=image/png:https://eadn-wc05-15902914.nxedge.io/wp-content/uploads/2025/11/Banner-Resized-below-2mb.png
ORGANIZER;CN="Sabino Road Baptist Church":MAILTO:sabinoroad@gmail.com
END:VEVENT
BEGIN:VEVENT
DTSTART;TZID=America/Phoenix:20250419T083000
DTEND;TZID=America/Phoenix:20250419T120000
DTSTAMP:20260421T061943
CREATED:20250402T171326Z
LAST-MODIFIED:20250402T171326Z
UID:10040360-1745051400-1745064000@myflr.org
SUMMARY:Community Wide Easter Egg Hunt
DESCRIPTION:Join us for our community-wide Easter Egg Hunt! Saturday\, April 19th at 10:00am sharp!\nWe are excited to be hosting an Egg Hunt for our community with over 7\,000 eggs! \nAge groups are:\n1 – 4; 5 – 8; 9 – 12\nAnd an area for children with special needs.\nWe will have crafts\, face painting\, raffle\, a prayer station and the egg hunt!\nRamadas 7\, 8 and 9 at Udall Park\nRegister at sabinoroad.org/egghunt2025
URL:https://myflr.org/event/community-wide-easter-egg-hunt-3/
LOCATION:Udall Park (Tucson\, AZ)\, 7290 E Tanque Verde Rd\, Tucson\, AZ\, 85715\, United States
CATEGORIES:Arizona
ATTACH;FMTTYPE=image/png:https://eadn-wc05-15902914.nxedge.io/wp-content/uploads/2025/03/PR-Graphic.png
ORGANIZER;CN="Sabino Road Baptist Church":MAILTO:sabinoroad@gmail.com
END:VEVENT
END:VCALENDAR