
BEGIN:VCALENDAR
VERSION:2.0
PRODID:-//Family Life Radio - ECPv6.15.20//NONSGML v1.0//EN
CALSCALE:GREGORIAN
METHOD:PUBLISH
X-WR-CALNAME:Family Life Radio
X-ORIGINAL-URL:https://myflr.org
X-WR-CALDESC:Events for Family Life Radio
REFRESH-INTERVAL;VALUE=DURATION:PT1H
X-Robots-Tag:noindex
X-PUBLISHED-TTL:PT1H
BEGIN:VTIMEZONE
TZID:America/Phoenix
BEGIN:STANDARD
TZOFFSETFROM:-0700
TZOFFSETTO:-0700
TZNAME:MST
DTSTART:20240101T000000
END:STANDARD
END:VTIMEZONE
BEGIN:VEVENT
DTSTART;TZID=America/Phoenix:20251114T160000
DTEND;TZID=America/Phoenix:20251114T200000
DTSTAMP:20260421T062734
CREATED:20250902T180933Z
LAST-MODIFIED:20250902T180933Z
UID:10051256-1763136000-1763150400@myflr.org
SUMMARY:Hope Bible Fall Fest
DESCRIPTION:Hope Bible Church invites you and your family to our 2025 Fall Festival! Come enjoy an afternoon of fun with exciting games\, prizes\, a festive photo booth\, and plenty of fall-themed activities for all ages. This is a wonderful opportunity to connect with the local community\, make new memories\, and celebrate the season together. Everyone is welcome—we can’t wait to see you there!
URL:https://myflr.org/event/hope-bible-fall-fest/
LOCATION:Hope Bible Church\, 9425 N. 26th St.\, Phoenix\, AZ\, 85028\, United States
CATEGORIES:Arizona
ATTACH;FMTTYPE=image/png:https://eadn-wc05-15902914.nxedge.io/wp-content/uploads/2025/08/Green-and-Grey-Bold-World-Charity-Day-Email-Header.png
ORGANIZER;CN="Sadie Brandon":MAILTO:sadiejo1232@gmail.com
END:VEVENT
END:VCALENDAR