
BEGIN:VCALENDAR
VERSION:2.0
PRODID:-//Family Life Radio - ECPv6.15.20//NONSGML v1.0//EN
CALSCALE:GREGORIAN
METHOD:PUBLISH
X-ORIGINAL-URL:https://myflr.org
X-WR-CALDESC:Events for Family Life Radio
REFRESH-INTERVAL;VALUE=DURATION:PT1H
X-Robots-Tag:noindex
X-PUBLISHED-TTL:PT1H
BEGIN:VTIMEZONE
TZID:America/Phoenix
BEGIN:STANDARD
TZOFFSETFROM:-0700
TZOFFSETTO:-0700
TZNAME:MST
DTSTART:20250101T000000
END:STANDARD
END:VTIMEZONE
BEGIN:VEVENT
DTSTART;TZID=America/Phoenix:20260404T100000
DTEND;TZID=America/Phoenix:20260404T120000
DTSTAMP:20260421T041059
CREATED:20260204T034008Z
LAST-MODIFIED:20260204T034008Z
UID:10058405-1775296800-1775304000@myflr.org
SUMMARY:Children's Easter Event
DESCRIPTION:Easter story walk with egg collection\, food and prizes. Fun for the whole family.
URL:https://myflr.org/event/childrens-easter-event/
LOCATION:Sahuarita First Assembly\, 18180 South La Canada Drive\, Sahuarita\, AZ\, 85629-9741
CATEGORIES:Arizona
ATTACH;FMTTYPE=image/png:https://eadn-wc05-15902914.nxedge.io/wp-content/uploads/2026/02/Easter-Saturday-for-da-kids-Flyer-4.png
ORGANIZER;CN="Sahuarita First Assembly":MAILTO:sah1ag@yahoo.com
END:VEVENT
END:VCALENDAR