
BEGIN:VCALENDAR
VERSION:2.0
PRODID:-//Family Life Radio - ECPv6.15.20//NONSGML v1.0//EN
CALSCALE:GREGORIAN
METHOD:PUBLISH
X-ORIGINAL-URL:https://myflr.org
X-WR-CALDESC:Events for Family Life Radio
REFRESH-INTERVAL;VALUE=DURATION:PT1H
X-Robots-Tag:noindex
X-PUBLISHED-TTL:PT1H
BEGIN:VTIMEZONE
TZID:America/Phoenix
BEGIN:STANDARD
TZOFFSETFROM:-0700
TZOFFSETTO:-0700
TZNAME:MST
DTSTART:20230101T000000
END:STANDARD
END:VTIMEZONE
BEGIN:VEVENT
DTSTART;TZID=America/Phoenix:20241012T080000
DTEND;TZID=America/Phoenix:20241012T140000
DTSTAMP:20260421T141828
CREATED:20240911T163432Z
LAST-MODIFIED:20240911T163432Z
UID:10033868-1728720000-1728741600@myflr.org
SUMMARY:San Francisco de Asis Parish Women’s’ Club Arts and Craft Fair – Vendor registration
DESCRIPTION:The SFdA Parish Women’s Club All Seasons Arts and Crafts Fair is BACK….after a Covid hiatus. \nWe are now open for Vendor registration. \nSELLING ART AND CRAFTS FOR HALLOWEEN\, THANKSGIVING & CHRISTMAS\, \nFESTIVE FOOD(PASOLE) BAKED GOODS\nRAFFLE\nSFdA School Gym \nVENDOR REGISTRATION:\nSend: Vendor name\, Address\, Email\, Phone\, Description of Products to\nSFDAWC_CraftShoww@Proton.ME\nMake checks payable to SFdA Parish/Women’s Club ($55 per table) and mail to 1600 E RT 66\, Flagstaff\, AZ 86004
URL:https://myflr.org/event/san-francisco-de-asis-parish-womens-club-arts-and-craft-fair-vendor-registration/
LOCATION:San Fransisco De Asis Parish\, 1443 E Ponderosa Pkwy\, Flagstaff\, AZ\, 86001\, United States
CATEGORIES:Arizona
ATTACH;FMTTYPE=image/jpeg:https://eadn-wc05-15902914.nxedge.io/wp-content/uploads/2024/09/San-Fransisco-fall-fair.jpg
ORGANIZER;CN="San Francisco de Asis Parish Women&#8217%3Bs Club":MAILTO:SFDAWC_CraftShow@proton.ME
END:VEVENT
END:VCALENDAR