
BEGIN:VCALENDAR
VERSION:2.0
PRODID:-//Family Life Radio - ECPv6.15.20//NONSGML v1.0//EN
CALSCALE:GREGORIAN
METHOD:PUBLISH
X-ORIGINAL-URL:https://myflr.org
X-WR-CALDESC:Events for Family Life Radio
REFRESH-INTERVAL;VALUE=DURATION:PT1H
X-Robots-Tag:noindex
X-PUBLISHED-TTL:PT1H
BEGIN:VTIMEZONE
TZID:America/Phoenix
BEGIN:STANDARD
TZOFFSETFROM:-0700
TZOFFSETTO:-0700
TZNAME:MST
DTSTART:20240101T000000
END:STANDARD
END:VTIMEZONE
BEGIN:VEVENT
DTSTART;TZID=America/Phoenix:20251024T100000
DTEND;TZID=America/Phoenix:20251024T113000
DTSTAMP:20260421T135652
CREATED:20250930T191132Z
LAST-MODIFIED:20250930T191132Z
UID:10056620-1761300000-1761305400@myflr.org
SUMMARY:Free Seminar: Understanding Social Security and Its Recent Changes
DESCRIPTION:Free Seminar: Understanding Social Security & Its Recent Changes \nLearn how recent changes in Social Security may affect you or your loved ones. This seminar will cover SSDI\, SSI\, budget cuts\, and the new tax bill. \nJack Burns\, Public Affairs Specialist at the Social Security Administration\, will be leading this conversation and will be available to address questions. \nWhy Attend? \nUnderstand recent changes in Social Security\nLearn how budget cuts and the new tax bill could affect you\nGet a clear\, general overview of Social Security benefits\nAsk questions in the Q&A session\nWhen: Friday\, October 24th at 10:00am\nWhere: Community Hall at Scottsdale Worship Center \nSpace is limited. Register to save your seat. \nScottsdale Worship Center\n6508 E Cactus Rd\, Scottsdale\, AZ 85254
URL:https://myflr.org/event/free-seminar-understanding-social-security-and-its-recent-changes/
LOCATION:6508 E Cactus Rd\, Scottsdale AZ 85254\, 6508 E CACTUS RD\, SCOTTSDALE\, AZ\, 85254-4553\, United States
CATEGORIES:Arizona
ATTACH;FMTTYPE=image/png:https://eadn-wc05-15902914.nxedge.io/wp-content/uploads/2025/09/Symposium-Registration-Covers-720-x-405-mm-1-scaled.png
ORGANIZER;CN="Scottsdale Worship Center":MAILTO:jackie@scottsdaleworship.com
END:VEVENT
END:VCALENDAR