
BEGIN:VCALENDAR
VERSION:2.0
PRODID:-//Family Life Radio - ECPv6.15.20//NONSGML v1.0//EN
CALSCALE:GREGORIAN
METHOD:PUBLISH
X-ORIGINAL-URL:https://myflr.org
X-WR-CALDESC:Events for Family Life Radio
REFRESH-INTERVAL;VALUE=DURATION:PT1H
X-Robots-Tag:noindex
X-PUBLISHED-TTL:PT1H
BEGIN:VTIMEZONE
TZID:America/Phoenix
BEGIN:STANDARD
TZOFFSETFROM:-0700
TZOFFSETTO:-0700
TZNAME:MST
DTSTART:20230101T000000
END:STANDARD
END:VTIMEZONE
BEGIN:VEVENT
DTSTART;TZID=America/Phoenix:20240907T170000
DTEND;TZID=America/Phoenix:20240907T200000
DTSTAMP:20260421T191302
CREATED:20240819T130106Z
LAST-MODIFIED:20240819T130106Z
UID:10033198-1725728400-1725739200@myflr.org
SUMMARY:Moo-moos & Mocktails Charity Fundraiser for ShesUnCovered
DESCRIPTION:Join us on September 7th\, 2024 from 5-8pm for a fantastic and fun evening of dressing up in our best moo-moos and sipping mocktails to fundraise for women and girls with low-to-severe forms of hair loss. There will be giveaways\, best-dressed contests\, vendors\, and raffles!\nPurchase tickets by scanning the QR. We hope to see you there! \nAbout ShesUnCovered\nShesUnCovered\, a non-profit in Lansing\, offers emotional support\, confidence coaching\, connections to mental health resources\, and wig consultation for women and girls dealing with hair loss. Moo-moos & Mocktails allows ShesUnCovered to offer services to an underserved population and spread awareness of Alopecia Areata and other forms of hair loss. \n“Many of the women and girls dealing with hair loss experience depression\, self-loathing\, hopelessness\, loneliness\, and even suicidal thoughts\,” said Nekeyta Brunson\, founder of ShesUnCovered. “We are committed to helping these women and girls realize their worth and value beyond hair.”
URL:https://myflr.org/event/moo-moos-mocktails-charity-fundraiser-for-shesuncovered/
LOCATION:Angelene L. Trice Family Life Center at Tabernacle of David (Lansing\, MI)\, 2645 W. Holmes Rd\, Lansing\, MI\, 48911\, United States
CATEGORIES:Michigan
ATTACH;FMTTYPE=image/png:https://eadn-wc05-15902914.nxedge.io/wp-content/uploads/2024/08/1.png
ORGANIZER;CN="ShesUnCovered":MAILTO:shesuncovered@uncoveredbeautystudio.com
END:VEVENT
END:VCALENDAR