
BEGIN:VCALENDAR
VERSION:2.0
PRODID:-//Family Life Radio - ECPv6.15.20//NONSGML v1.0//EN
CALSCALE:GREGORIAN
METHOD:PUBLISH
X-ORIGINAL-URL:https://myflr.org
X-WR-CALDESC:Events for Family Life Radio
REFRESH-INTERVAL;VALUE=DURATION:PT1H
X-Robots-Tag:noindex
X-PUBLISHED-TTL:PT1H
BEGIN:VTIMEZONE
TZID:America/Phoenix
BEGIN:STANDARD
TZOFFSETFROM:-0700
TZOFFSETTO:-0700
TZNAME:MST
DTSTART:20230101T000000
END:STANDARD
END:VTIMEZONE
BEGIN:VEVENT
DTSTART;TZID=America/Phoenix:20241208T180000
DTEND;TZID=America/Phoenix:20241208T200000
DTSTAMP:20260421T191256
CREATED:20241113T142752Z
LAST-MODIFIED:20241113T142752Z
UID:10037431-1733680800-1733688000@myflr.org
SUMMARY:Live Nativity
DESCRIPTION:Saturday\, December 7\n6:00 – 6:30p Car Drive Thru\n6:30 – 8:00p Horse-drawn Wagon\nSunday\, December 8\n6:00 – 8:00p Horse-drawn Wagon \nTAKE A RIDE THROUGH THE CHIRSTMAS STORY!\nEach year Shiloh Community Church hosts this special event to bring in the true meaning of Christmas. You will witness the Christmas story as you ride through the campground. At the end\, enjoy cookies and hot chocolate.\nFun for the whole family…and it’s FREE! \nGod’s Restful Acres Campground\n1494 Jones Road\nFenwick\, MI\n48834
URL:https://myflr.org/event/live-nativity-2/2024-12-08/
LOCATION:Shiloh Community Church Campground (Fenwick\, MI)\, 1494 Jones road\, Fenwick\, MI\, 48834\, United States
CATEGORIES:Michigan
ATTACH;FMTTYPE=image/jpeg:https://eadn-wc05-15902914.nxedge.io/wp-content/uploads/2024/11/464865666_990706396429220_4871731522387152620_n.jpg
ORGANIZER;CN="Shiloh Community Church":MAILTO:office@shilohcc.org
END:VEVENT
END:VCALENDAR