
BEGIN:VCALENDAR
VERSION:2.0
PRODID:-//Family Life Radio - ECPv6.15.20//NONSGML v1.0//EN
CALSCALE:GREGORIAN
METHOD:PUBLISH
X-ORIGINAL-URL:https://myflr.org
X-WR-CALDESC:Events for Family Life Radio
REFRESH-INTERVAL;VALUE=DURATION:PT1H
X-Robots-Tag:noindex
X-PUBLISHED-TTL:PT1H
BEGIN:VTIMEZONE
TZID:America/Phoenix
BEGIN:STANDARD
TZOFFSETFROM:-0700
TZOFFSETTO:-0700
TZNAME:MST
DTSTART:20230101T000000
END:STANDARD
END:VTIMEZONE
BEGIN:VTIMEZONE
TZID:America/Detroit
BEGIN:DAYLIGHT
TZOFFSETFROM:-0500
TZOFFSETTO:-0400
TZNAME:EDT
DTSTART:20230312T070000
END:DAYLIGHT
BEGIN:STANDARD
TZOFFSETFROM:-0400
TZOFFSETTO:-0500
TZNAME:EST
DTSTART:20231105T060000
END:STANDARD
BEGIN:DAYLIGHT
TZOFFSETFROM:-0500
TZOFFSETTO:-0400
TZNAME:EDT
DTSTART:20240310T070000
END:DAYLIGHT
BEGIN:STANDARD
TZOFFSETFROM:-0400
TZOFFSETTO:-0500
TZNAME:EST
DTSTART:20241103T060000
END:STANDARD
BEGIN:DAYLIGHT
TZOFFSETFROM:-0500
TZOFFSETTO:-0400
TZNAME:EDT
DTSTART:20250309T070000
END:DAYLIGHT
BEGIN:STANDARD
TZOFFSETFROM:-0400
TZOFFSETTO:-0500
TZNAME:EST
DTSTART:20251102T060000
END:STANDARD
END:VTIMEZONE
BEGIN:VEVENT
DTSTART;TZID=America/Phoenix:20250307T190000
DTEND;TZID=America/Phoenix:20250307T210000
DTSTAMP:20260421T133121
CREATED:20250218T173235Z
LAST-MODIFIED:20250218T173235Z
UID:10039964-1741374000-1741381200@myflr.org
SUMMARY:
DESCRIPTION:Fanmily Life Radio and Show Ops presents\, “Love Your Neighbor Tour w/ Jordan St. Cyr-The Storyteller Tour \nMarch 7\, 2025 \n5:30pm: VIP \n6:30pm: Doors GA \n7pm: Event \nEast Side Church of Christ\n201 31st St\nSnyder\, TX 79549-3814\nCome enjoy an amazing evening of worship with Jordan St. Cyr as he visits Snyder\, TX on March 7th with support from Philippa Hanna! Featuring songs like “Fires\,” “Weary Traveler\,” and Jordan St. Cyr’s newest album “My Foundation\,” don’t miss out on this extraordinary night of music and inspiration. We hope to see you there! \nDon’t miss out on the chance to upgrade your experience with VIP tickets for early entry\, premium seating\, and an exclusive Q&A! \nGet your tickets HERE!
URL:https://myflr.org/event/171990/
LOCATION:East Side Church of Christ\, 201 31st St\, Synder\, TX\, 79549\, United States
CATEGORIES:Featured,Texas
ATTACH;FMTTYPE=image/png:https://eadn-wc05-15902914.nxedge.io/wp-content/uploads/2025/02/678026c83e931b833e38621a_12.12.24-Square-Graphic-Jordan-St-Cyr-1.png
END:VEVENT
BEGIN:VEVENT
DTSTART;TZID=America/Phoenix:20240922T190000
DTEND;TZID=America/Phoenix:20240922T213000
DTSTAMP:20260421T133121
CREATED:20240910T144928Z
LAST-MODIFIED:20240910T144928Z
UID:10033865-1727031600-1727040600@myflr.org
SUMMARY:Citywide Worship Nights ALBUQUERQUE
DESCRIPTION:★ ????????????????????????????????????????????’???? ???????????????????? ???????? ???????????????????????????? is coming on September 22nd led by Grammy Nominated & Gold-selling artist BRITT NICOLE (Known for 9 Top-10 Hits on Christian Radio)\, Chart-Topping Worship Leader RYAN ELLIS (‘I Thank God’\, ‘Resurrection Power’) and 2x Grammy Winner SKYE REEDY! Gather with believers throughout your community for a powerful evening of your favorite Worship Anthems sung over Your City! \nSunday\, September 22nd @7pm \nAlbuquerque’s First Baptist Church \n4101 Paseo Del Norte NW ABQ 87114 \n➤ For Tickets & Information: Click “LEARN MORE” or visit ShowOpsPresents.com
URL:https://myflr.org/event/citywide-worship-nights-albuquerque/
CATEGORIES:Featured,New Mexico
ATTACH;FMTTYPE=image/jpeg:https://eadn-wc05-15902914.nxedge.io/wp-content/uploads/2024/09/CitwideWorshipNightABQ2024-Updated.jpg
END:VEVENT
BEGIN:VEVENT
DTSTART;TZID=America/Phoenix:20240712T190000
DTEND;TZID=America/Phoenix:20240712T210000
DTSTAMP:20260421T133121
CREATED:20240618T225845Z
LAST-MODIFIED:20240618T225845Z
UID:10029104-1720810800-1720818000@myflr.org
SUMMARY:Community Worship Nights – w/ Eli Gable\, Iveth Luna\, Sam McCabe (KS)
DESCRIPTION:Family Life Radio and Show Ops brings you\, ‘Community Worship Nights’ – Topeka\, KS  \nWith Eli Gable\, Iveth Luna\, Sam McCabe \nHighland Park Baptist \n820 SE 29th St Central Highland Park \nTopeka\, KS 66605-1201 \nDoors 06:00 PM\nEvent 07:00 PM\n\nGet your Tickets Here!\n\nJoin us for a powerful Night of Worship\, Ministry\, and Community as the Nationwide Community Worship Nights Tour comes to Topeka\, Kansas this summer! Tickets are just $10!
URL:https://myflr.org/event/community-worship-nights-w-eli-gable-iveth-luna-sam-mccabe-ks/
LOCATION:Highland Park Baptist\, 820 SE 29th St Central Highland Park\, Topeka\, 66605\, United States
CATEGORIES:Featured,Kansas,Missouri
ATTACH;FMTTYPE=image/jpeg:https://eadn-wc05-15902914.nxedge.io/wp-content/uploads/2024/06/132538176335052217155672151704689771715567215.jpeg
END:VEVENT
BEGIN:VEVENT
DTSTART;TZID=America/Detroit:20240620T180000
DTEND;TZID=America/Detroit:20240620T220000
DTSTAMP:20260421T133121
CREATED:20240417T200824Z
LAST-MODIFIED:20240603T131554Z
UID:10024556-1718906400-1718920800@myflr.org
SUMMARY:June Community Worship Nights – South Rockwood
DESCRIPTION:Come join us this summer as the Community Night Worship visits South Rockwood\, MI! Three nights\, nine artists\, one $20 GA ticket or one $40 VIP ticket for the whole season! \nFeaturing Seph Schlueter\, Baily Hager and Ivey Asher
URL:https://myflr.org/event/june-community-worship-nights-south-rockwood/
LOCATION:I Am Church\, 3744 Carleton Rockwood Road\, South Rockwood\, MI\, 48179\, United States
CATEGORIES:Featured,Michigan
ATTACH;FMTTYPE=image/jpeg:https://eadn-wc05-15902914.nxedge.io/wp-content/uploads/2024/04/4.4.24-Square-Graphic-Summer-Concert-Series-Midwest-South-Rockwood-MI.jpeg
END:VEVENT
BEGIN:VEVENT
DTSTART;TZID=America/Phoenix:20240509T190000
DTEND;TZID=America/Phoenix:20240509T210000
DTSTAMP:20260421T133121
CREATED:20240314T214012Z
LAST-MODIFIED:20240423T212129Z
UID:10020943-1715281200-1715288400@myflr.org
SUMMARY:Family Life Radio Listener Appreciation Tour: Mike Donehey: The Voice of TENTH AVE NORTH-ABQ
DESCRIPTION:Family Life Radio’s Listener Appreciation Tour!\nFeaturing Mike Donehey: The Voice of Tenth Avenue North w/ guest Stephen Stanley\nThursday\, May 9th\, 2024\nMontgomery Church of Christ\n7PM\n\n★ Performing the hits of his Platinum & Gold Selling band\, TENTH AVENUE NORTH\, we are thrilled to welcome award-winning singer and songwriter Mike Donehey! Mike will deliver you a night full of classics you know and love\, plus stories and worship. As the lead singer and founder of Tenth Avenue North\, Mike has voiced 12 Top-10 Hits on Christian Radio\, including signature anthems such as “Control (Somehow You Want Me)”\, “By Your Side”\, “You Are More”\, “Worn”\, “I Have This Hope”\, and many more!\n\n Tickets just went on-sale and early bird General Admission tickets are ONLY $10 for a very Limited Time!\n Montgomery Church of Christ: 7201 Montgomery Blvd NE Knapp Heights Albuquerque\, NM 87109 Special Guest: Stephen Stanley\n➤ Tickets & Information!
URL:https://myflr.org/event/mike-donehey-the-voice-of-tenth-ave-north-abq/
LOCATION:Montgomery Church of Christ\, 7201 Montgomery Blvd NE\, Albuquerque\, 87109\, United States
CATEGORIES:Featured,New Mexico
ATTACH;FMTTYPE=image/png:https://eadn-wc05-15902914.nxedge.io/wp-content/uploads/2024/03/Mike-Donehey.West-Josh-Baldwin.East-April-2024.jpg
END:VEVENT
BEGIN:VEVENT
DTSTART;TZID=America/Phoenix:20240427T190000
DTEND;TZID=America/Phoenix:20240427T210000
DTSTAMP:20260421T133121
CREATED:20240320T163926Z
LAST-MODIFIED:20240325T174114Z
UID:10022811-1714244400-1714251600@myflr.org
SUMMARY:Family Life Radio Listener Appreciation Tour: An Evening with Mike Donehey from Tenth Avenue North
DESCRIPTION:Family Life Radio’s Listener Appreciation Tour!\n\nFeaturing Mike Donehey: The Voice of Tenth Avenue North\n\n★ Performing the hits of his Platinum & Gold Selling band\, TENTH AVENUE NORTH\, we are thrilled to welcome award-winning singer and songwriter Mike Donehey! Mike will deliver you a night full of classics you know and love\, plus stories and worship. As the lead singer and founder of Tenth Avenue North\, Mike has voiced 12 Top-10 Hits on Christian Radio\, including signature anthems such as “Control (Somehow You Want Me)”\, “By Your Side”\, “You Are More”\, “Worn”\, “I Have This Hope”\, and many more! On April 27th\, he’s coming for a special night of stories and songs and we would love for you to come sing along and worship with us.\n\nGeneral Admission tickets are only $10 and VIP tickets\, which include early entry and a special Q&A with Mike\, are $20!
URL:https://myflr.org/event/family-life-radio-listener-appreciation-tour-an-evening-with-mike-donehey/
LOCATION:Calvary Baptist Church Lompac\, 3355 Constellation Rd\, Lompoc\, 93436-1809\, United States
CATEGORIES:California,Featured
ATTACH;FMTTYPE=image/png:https://eadn-wc05-15902914.nxedge.io/wp-content/uploads/2024/03/Lompac.png
END:VEVENT
END:VCALENDAR