
BEGIN:VCALENDAR
VERSION:2.0
PRODID:-//Family Life Radio - ECPv6.15.20//NONSGML v1.0//EN
CALSCALE:GREGORIAN
METHOD:PUBLISH
X-WR-CALNAME:Family Life Radio
X-ORIGINAL-URL:https://myflr.org
X-WR-CALDESC:Events for Family Life Radio
REFRESH-INTERVAL;VALUE=DURATION:PT1H
X-Robots-Tag:noindex
X-PUBLISHED-TTL:PT1H
BEGIN:VTIMEZONE
TZID:America/Phoenix
BEGIN:STANDARD
TZOFFSETFROM:-0700
TZOFFSETTO:-0700
TZNAME:MST
DTSTART:20220101T000000
END:STANDARD
END:VTIMEZONE
BEGIN:VEVENT
DTSTART;TZID=America/Phoenix:20241214T183000
DTEND;TZID=America/Phoenix:20241215T140000
DTSTAMP:20260421T194632
CREATED:20241018T174758Z
LAST-MODIFIED:20241018T174758Z
UID:10037165-1734201000-1734271200@myflr.org
SUMMARY:5th Anniversary-The Voice of Christmas
DESCRIPTION:Family Life Radio and SiSu Dance Company bring you\,\nThe Voice of Christmas returns to the stage\n– a family favorite for young and old!\nTICKETS ON SALE NOW\nDecember 14 6:30 PM\nDecember 15 2 PM \nWritten and Choreographed by Megan Nicko\nDirector/Founder SiSu® Dance Company \nThe Voice of Christmas brings intimate insight into the holiday season’s importance for young and old alike. The birth of Jesus is entwined into the original Nutcracker story by having Marie receive not a nutcracker as a gift\, but like each child at the Christmas party\, Marie is given a piece from a small nativity scene. Marie and the rest of the children discover the story of the first Christmas from the family’s grandmother. \nMarie is then taken on a journey where she encounters the ever-present struggle between good and evil\, culminating in experiencing our beloved Savior at birth. In celebration\, she witnesses the beauty of dancers from many countries\, all bringing their gifts of dance to the Savior. Finally\, Marie falls asleep with a new meaning of why our Christmas tradition is truly precious and something to be celebrated. \nTchaikovsky’s Nutcracker Suite music is prevalent throughout the show\, with additional music by various Christian artists. \nWe hope you enjoy the return of this unique production as much as we enjoy bringing it to you. Tell others about The Voice of Christmas and make it a family holiday tradition!\n 
URL:https://myflr.org/event/5th-anniversary-the-voice-of-christmas/
LOCATION:Sandia Preparatory School\, 532 Osuna Rd NE\, ABQ\, NM\, 87113\, United States
CATEGORIES:Featured,New Mexico
ATTACH;FMTTYPE=image/jpeg:https://eadn-wc05-15902914.nxedge.io/wp-content/uploads/2024/10/2024-THE-VOICE-OF-CHRISTMAS-WEBSITE-SOCIAL-MEDIA.jpeg
ORGANIZER;CN="SiSu Dance Academy":MAILTO:https://www.sisudanceacademy.com/contact
END:VEVENT
BEGIN:VEVENT
DTSTART;TZID=America/Phoenix:20240525T183000
DTEND;TZID=America/Phoenix:20240526T140000
DTSTAMP:20260421T194632
CREATED:20240507T173151Z
LAST-MODIFIED:20240517T165023Z
UID:10025667-1716661800-1716732000@myflr.org
SUMMARY:The Red Shoes-FREE EVENT!
DESCRIPTION:Family Life Radio 91.5 FM & Sisu Dance Company’s brought you last summer\,  the brand new production\, premier performance of The Red Shoes. We are bringing it back for those who enjoyed it\, and those who missed it the first time! \nThe Red Shoes\nAdapted and Choreographed by Megan Nicko\nDirector/Founder SiSu® Dance Company \nMay 25 at 6:30PM\nMay 26 at 2PM \nSandia Preparatory School\n532 Osuna Rd. NE\nAlbuquerque\, NM 87113 \nTHIS SHOW IS NOW A FREE EVENT and a charitable donation can be given if you would like to do so to cover the cost of this production!! You must register\, as seating is limited! \nFor FREE REGISTRATION GO HERE! \nPublished by Hans Christian Andersen in 1845\, The Red Shoes became a British drama feature film starring renowned dancers from the ballet world in 1948. SiSu® Dance Company’s adaptation of The Red Shoes is based on Anderson’s tale. \nThe moral message is the tragic flaw of sin in the form of envy\, jealousy\, temptation\, selfishness\, and greed. The sinful nature of vanity and disobedience leads to the virtues of modesty and obedience. Megan Nicko choreographed and adapted the short story\, giving it additional re-staging\, new characters\, story interest\, and meaning. \nSiSu® Dance Company is committed to continually bringing new and vibrant performances to the Albuquerque community that will encourage each one of us\, dancers and ticket holders alike\, to contemplate the way we live and what we live for.  The story behind The Red Shoes holds a special place in our director’s heart\, who not only performed in an earlier version of this ballet but also felt compelled to take it even further\, with special staging and meaning throughout the performance.
URL:https://myflr.org/event/the-red-shoes/
LOCATION:Sandia Preparatory School\, 532 Osuna Rd NE\, ABQ\, NM\, 87113\, United States
CATEGORIES:Featured,New Mexico
ATTACH;FMTTYPE=image/jpeg:https://eadn-wc05-15902914.nxedge.io/wp-content/uploads/2024/05/The-RED-SHOES-image-2024.jpg
ORGANIZER;CN="SiSu Dance Academy":MAILTO:https://www.sisudanceacademy.com/contact
END:VEVENT
BEGIN:VEVENT
DTSTART;TZID=America/Phoenix:20231217T140000
DTEND;TZID=America/Phoenix:20231217T160000
DTSTAMP:20260421T194632
CREATED:20231114T191720Z
LAST-MODIFIED:20231114T193252Z
UID:10018474-1702821600-1702828800@myflr.org
SUMMARY:The Voice of Christmas
DESCRIPTION:RETURNING is The SiSu® Dance Company’s Popular Production for the Holiday Season\nSaturday\, Dec 16th\, 2023 at 6:30pm \nSunday\, Dec 17th\, 2023 at  2:00pm \nSandia Preparatory School-532 Osuna Rd NE ABQ\, NM 87113 \nGet tickets HERE \nThe Voice of Christmas\nWritten and Choreographed by Megan Nicko\nDirector/Founder SiSu® Dance Company \nSiSu® Dance Company is pleased to once again bring to our community this unique production. The Voice of Christmas brings intimate insight into the importance of the holiday season for young and old alike. The birth of Jesus is entwined into the original Nutcracker story by having Marie receive not a nutcracker as a gift\, but like each child at the Christmas party\, Marie is given a piece from a small nativity scene. Marie and the rest of the children discover the story of the first Christmas from the family’s grandmother. \nMarie is then taken on a journey where she encounters the ever-present struggle between good and evil\, culminating in experiencing our beloved Savior at birth. In celebration\, she witnesses the beauty of dancers from many countries\, all bringing their gifts of dance to the Savior. Finally\, Marie falls asleep with a new meaning of why our Christmas tradition is truly precious and something to be celebrated. \nTchaikovsky’s Nutcracker Suite music is prevalent throughout the show\, with additional music by various Christian artists. \nWe hope you’ll tell others about The Voice of Christmas and make it a family holiday tradition!\nQuestions About Performances\n505-975-4987
URL:https://myflr.org/event/the-voice-of-christmas/2023-12-17/
LOCATION:Sandia Preparatory School\, 532 Osuna Rd NE\, ABQ\, NM\, 87113\, United States
CATEGORIES:Featured,New Mexico
ATTACH;FMTTYPE=image/jpeg:https://eadn-wc05-15902914.nxedge.io/wp-content/uploads/2023/11/The-Voice-of-Christmas-2023.jpg
ORGANIZER;CN="SiSu Dance Academy":MAILTO:https://www.sisudanceacademy.com/contact
END:VEVENT
END:VCALENDAR