
BEGIN:VCALENDAR
VERSION:2.0
PRODID:-//Family Life Radio - ECPv6.15.20//NONSGML v1.0//EN
CALSCALE:GREGORIAN
METHOD:PUBLISH
X-WR-CALNAME:Family Life Radio
X-ORIGINAL-URL:https://myflr.org
X-WR-CALDESC:Events for Family Life Radio
REFRESH-INTERVAL;VALUE=DURATION:PT1H
X-Robots-Tag:noindex
X-PUBLISHED-TTL:PT1H
BEGIN:VTIMEZONE
TZID:America/Phoenix
BEGIN:STANDARD
TZOFFSETFROM:-0700
TZOFFSETTO:-0700
TZNAME:MST
DTSTART:20230101T000000
END:STANDARD
END:VTIMEZONE
BEGIN:VEVENT
DTSTART;TZID=America/Phoenix:20241205T180000
DTEND;TZID=America/Phoenix:20241205T203000
DTSTAMP:20260421T165644
CREATED:20241125T203423Z
LAST-MODIFIED:20241125T203423Z
UID:10037451-1733421600-1733430600@myflr.org
SUMMARY:Night of Hope: Messianic Renowned Pianist Sam Rotman
DESCRIPTION:Join Us for A Gala Event: Night of Hope \nExperience an unforgettable evening at A Gala Event: Night of Hope—a night dedicated to worship\, community\, and celebration. This event brings together friends\, family\, and supporters for an inspiring evening of live music\, heartfelt fellowship\, and powerful testimonies. \nThe highlight of the night will be an exclusive performance by Sam Rotman\, renowned pianist\, who will share his unique blend of testimony\, worship\, and classical artistry. Guests will also enjoy a carefully curated selection of food and refreshments beforehand\, adding warmth and hospitality to this gathering. \nThis event is a wonderful opportunity to engage in fellowship across generations\, fostering unity and understanding within our Jewish\, Christian and Messianic communities. \nDetails: \nDress Code: Formal Attire Encouraged\nDate and Time: December 5th\, 2024\nLocation: First Baptist Church Sun Lakes\nEvent Schedule: 6-7pm Fellowship and Special Hors D’oeuvres\,\n7-8:30 Worship Event in Sanctuary\n8:30pm Parting Blessing \nDon’t miss this chance to be part of an inspiring celebration. Secure your tickets today\, and let’s come together to celebrate our hope in Messiah!
URL:https://myflr.org/event/night-of-hope-messianic-renowned-pianist-sam-rotman/
CATEGORIES:Arizona
ATTACH;FMTTYPE=image/png:https://eadn-wc05-15902914.nxedge.io/wp-content/uploads/2024/11/Web-Image-Sam.png
ORGANIZER;CN="Son of David Messianic Fellowship":MAILTO:riesgraf.fellowship@gmail.com
END:VEVENT
BEGIN:VEVENT
DTSTART;TZID=America/Phoenix:20240718T190000
DTEND;TZID=America/Phoenix:20240718T220000
DTSTAMP:20260421T165644
CREATED:20240618T182059Z
LAST-MODIFIED:20240618T182059Z
UID:10029097-1721329200-1721340000@myflr.org
SUMMARY:SOLU Israel
DESCRIPTION:Yeshua clearly told his disciples to “go” as a “light to the nations.” This was Israel’s call from the beginning & it still is today. So whether to our neighbors in the region or to the ends of the earth\, SOLU Israel said “yes” to this call to help carry the gospel of the kingdom to the nations that the end might come. \nJoin SOLU Israel for a worship event in Chandler\, Arizona\, on July 18th! Doors open at 6:05 PM\, event starts at 7 PM. Don’t miss a time such as this to unite in worship!
URL:https://myflr.org/event/solu-israel/
LOCATION:Faith Family Church\, 11530 E Queen Creek Rd\, Chandler\, AZ\, 85286\, United States
CATEGORIES:Arizona
ATTACH;FMTTYPE=image/jpeg:https://eadn-wc05-15902914.nxedge.io/wp-content/uploads/2024/06/e2fdf255-560c-472d-9d2e-2e01c415c6b7.jpeg
ORGANIZER;CN="Son of David Messianic Fellowship":MAILTO:riesgraf.fellowship@gmail.com
END:VEVENT
BEGIN:VEVENT
DTSTART;TZID=America/Phoenix:20240718T190000
DTEND;TZID=America/Phoenix:20240718T210000
DTSTAMP:20260421T165644
CREATED:20240702T200823Z
LAST-MODIFIED:20240709T192035Z
UID:10030666-1721329200-1721336400@myflr.org
SUMMARY:SOLU Israel
DESCRIPTION:Yeshua clearly told his disciples to “go” as a “light to the nations.” This was Israel’s call from the beginning & it still is today. So whether to our neighbors in the region or to the ends of the earth\, SOLU Israel said “yes” to this call to help carry the gospel of the kingdom to the nations that the end might come. \nJoin SOLU Israel for a worship event in Chandler\, Arizona\, on July 18th! Doors open at 6:05 PM\, event starts at 7 PM. Don’t miss a time such as this to unite in worship! \nEvent Information: \nAdmission: Free\nRegistration: Required\nOffering: Electronic offering welcomed with registration\nLove Offering: Will be taken at the event
URL:https://myflr.org/event/solu-israel-2/
LOCATION:Faith Family Church\, 11530 E Queen Creek Rd\, Chandler\, AZ\, 85286\, United States
CATEGORIES:Arizona,New Mexico
ATTACH;FMTTYPE=image/jpeg:https://eadn-wc05-15902914.nxedge.io/wp-content/uploads/2024/06/TOUR-FLYERS-2024-22.jpg
ORGANIZER;CN="Son of David Messianic Fellowship":MAILTO:riesgraf.fellowship@gmail.com
END:VEVENT
END:VCALENDAR