
BEGIN:VCALENDAR
VERSION:2.0
PRODID:-//Family Life Radio - ECPv6.15.20//NONSGML v1.0//EN
CALSCALE:GREGORIAN
METHOD:PUBLISH
X-ORIGINAL-URL:https://myflr.org
X-WR-CALDESC:Events for Family Life Radio
REFRESH-INTERVAL;VALUE=DURATION:PT1H
X-Robots-Tag:noindex
X-PUBLISHED-TTL:PT1H
BEGIN:VTIMEZONE
TZID:America/Phoenix
BEGIN:STANDARD
TZOFFSETFROM:-0700
TZOFFSETTO:-0700
TZNAME:MST
DTSTART:20240101T000000
END:STANDARD
END:VTIMEZONE
BEGIN:VEVENT
DTSTART;TZID=America/Phoenix:20250413T100000
DTEND;TZID=America/Phoenix:20250420T110000
DTSTAMP:20260421T175836
CREATED:20250318T130730Z
LAST-MODIFIED:20250318T130730Z
UID:10040358-1744538400-1745146800@myflr.org
SUMMARY:Holy Week Schedule
DESCRIPTION:St. Andrew United Methodist Church\nHoly Week Schedule: \nApril 13 – Palm Sunday Service- 10:00am\nEaster Egg Hunt – 11:15am \nApril 17 – Maundy Thursday – 6:00pm \nApril 18 – Good Friday Service – 6:00pm \nApril 20 – Easter Sunrise Service – 7:00am\nEaster Sunday Service – 10:00am
URL:https://myflr.org/event/holy-week-schedule/
LOCATION:St. Andrew United Methodist Church (Panama City\, FL)\, 2001 W 11th St\, Panama City\, 32401\, United States
CATEGORIES:Florida
ORGANIZER;CN="St. Andrew United Methodist Church":MAILTO:office@sa-umc.com
END:VEVENT
END:VCALENDAR