
BEGIN:VCALENDAR
VERSION:2.0
PRODID:-//Family Life Radio - ECPv6.15.20//NONSGML v1.0//EN
CALSCALE:GREGORIAN
METHOD:PUBLISH
X-ORIGINAL-URL:https://myflr.org
X-WR-CALDESC:Events for Family Life Radio
REFRESH-INTERVAL;VALUE=DURATION:PT1H
X-Robots-Tag:noindex
X-PUBLISHED-TTL:PT1H
BEGIN:VTIMEZONE
TZID:America/Phoenix
BEGIN:STANDARD
TZOFFSETFROM:-0700
TZOFFSETTO:-0700
TZNAME:MST
DTSTART:20250101T000000
END:STANDARD
END:VTIMEZONE
BEGIN:VEVENT
DTSTART;VALUE=DATE:20260417
DTEND;VALUE=DATE:20260419
DTSTAMP:20260420T165239
CREATED:20260414T171352Z
LAST-MODIFIED:20260414T171352Z
UID:10060062-1776384000-1776556799@myflr.org
SUMMARY:2 day 16th Annual Crawfish Festival
DESCRIPTION:🦞 16th Annual Crawfish Festival \nJoin us at Our Lady of La Vang Parish for a weekend of amazing food! \nSt. Frances Cabrini Catholic Church\n📍 3201 E Presidio Rd\, Tucson\, AZ 85716 \n📅 April 17 (Fri): 5–10 PM\n📅 April 18 (Sat): 11 AM–10 PM \n🔥 Fresh Cajun Crawfish air-shipped from Louisiana and boiled live on-site with bold Cajun seasoning! Including blue crabs\, mussels & shrimp for a true Southern experience. \n🍜 Plus enjoy authentic Vietnamese food\, refreshing boba tea\, and home-grown sugar cane juice. \nOpen to the Public. Free Entry. \nBring your friends and family to celebrate great food\, culture\, and community with us! 🎉 \n#LaVangTucson #crawfishfestival #vietnamesefood #cajunseafood #supportlocal
URL:https://myflr.org/event/2-day-16th-annual-crawfish-festival/
LOCATION:St Frances Cabrini Church\, 3201 E. Presidio Road\, Tucson\, 85716\, United States
CATEGORIES:Arizona
ATTACH;FMTTYPE=image/png:https://eadn-wc05-15902914.nxedge.io/wp-content/uploads/2026/03/Orange-White-and-Red-Modern-Seafood-Menu-A4-2.png
ORGANIZER;CN="St Frances Cabrini Church":MAILTO:tran.anton.16@gmail.com
END:VEVENT
END:VCALENDAR