
BEGIN:VCALENDAR
VERSION:2.0
PRODID:-//Family Life Radio - ECPv6.15.20//NONSGML v1.0//EN
CALSCALE:GREGORIAN
METHOD:PUBLISH
X-WR-CALNAME:Family Life Radio
X-ORIGINAL-URL:https://myflr.org
X-WR-CALDESC:Events for Family Life Radio
REFRESH-INTERVAL;VALUE=DURATION:PT1H
X-Robots-Tag:noindex
X-PUBLISHED-TTL:PT1H
BEGIN:VTIMEZONE
TZID:America/Phoenix
BEGIN:STANDARD
TZOFFSETFROM:-0700
TZOFFSETTO:-0700
TZNAME:MST
DTSTART:20240101T000000
END:STANDARD
END:VTIMEZONE
BEGIN:VEVENT
DTSTART;TZID=America/Phoenix:20251010T190000
DTEND;TZID=America/Phoenix:20251010T200000
DTSTAMP:20260421T154506
CREATED:20251009T195808Z
LAST-MODIFIED:20251009T195808Z
UID:10056663-1760122800-1760126400@myflr.org
SUMMARY:Community Interfaith Vigil for Humanity - To Recognize and Rekindle the Sacred Light in One Another Amidst the Chaos and Darkness
DESCRIPTION:Mt. Pleasant faith leaders invite the public to a community interfaith prayer vigil October 10\, at 7:00 p.m. at the Mt. Pleasant Town Center on the corner of Main and Broadway streets. Titled Community Interfaith Vigil for Humanity – To Recognize and Rekindle the Sacred Light in One Another Amidst the Chaos and Darkness\, the vigil is designed to find common ground and provide comfort to people who may be hurting. A group of Mt. Pleasant faith leaders\, including St. John’s Episcopal Church\, First Presbyterian Church and Unitarian Universalist Fellowship of Central Michigan and Indivisible Central Michigan planned the prayer vigil in light of many people hurting in our country and throughout the world. They saw a need to find common ground and come together to show a collective humanity and lift up those experiencing difficult times\, to show that all are loved and worthy.
URL:https://myflr.org/event/community-interfaith-vigil-for-humanity-to-recognize-and-rekindle-the-sacred-light-in-one-another-amidst-the-chaos-and-darkness/
LOCATION:Mt. Pleasant Town Center\, Main and Broadway streets\, Mt. Pleasant\, MI\, 48858\, United States
CATEGORIES:Michigan
ATTACH;FMTTYPE=image/jpeg:https://eadn-wc05-15902914.nxedge.io/wp-content/uploads/2025/10/interfaith_annex.jpg
ORGANIZER;CN="St. John%E2%80%99s Episcopal Church%2C First Presbyterian Church and Unitarian Universalist Fellowship of Central Michigan and Indivisible Central Michigan":MAILTO:marla.schneider606@gmail.com
END:VEVENT
END:VCALENDAR