
BEGIN:VCALENDAR
VERSION:2.0
PRODID:-//Family Life Radio - ECPv6.15.20//NONSGML v1.0//EN
CALSCALE:GREGORIAN
METHOD:PUBLISH
X-WR-CALNAME:Family Life Radio
X-ORIGINAL-URL:https://myflr.org
X-WR-CALDESC:Events for Family Life Radio
REFRESH-INTERVAL;VALUE=DURATION:PT1H
X-Robots-Tag:noindex
X-PUBLISHED-TTL:PT1H
BEGIN:VTIMEZONE
TZID:America/Detroit
BEGIN:DAYLIGHT
TZOFFSETFROM:-0500
TZOFFSETTO:-0400
TZNAME:EDT
DTSTART:20250309T070000
END:DAYLIGHT
BEGIN:STANDARD
TZOFFSETFROM:-0400
TZOFFSETTO:-0500
TZNAME:EST
DTSTART:20251102T060000
END:STANDARD
BEGIN:DAYLIGHT
TZOFFSETFROM:-0500
TZOFFSETTO:-0400
TZNAME:EDT
DTSTART:20260308T070000
END:DAYLIGHT
BEGIN:STANDARD
TZOFFSETFROM:-0400
TZOFFSETTO:-0500
TZNAME:EST
DTSTART:20261101T060000
END:STANDARD
BEGIN:DAYLIGHT
TZOFFSETFROM:-0500
TZOFFSETTO:-0400
TZNAME:EDT
DTSTART:20270314T070000
END:DAYLIGHT
BEGIN:STANDARD
TZOFFSETFROM:-0400
TZOFFSETTO:-0500
TZNAME:EST
DTSTART:20271107T060000
END:STANDARD
END:VTIMEZONE
BEGIN:VEVENT
DTSTART;TZID=America/Detroit:20260510T103000
DTEND;TZID=America/Detroit:20260510T130000
DTSTAMP:20260419T201633
CREATED:20260209T184058Z
LAST-MODIFIED:20260209T184058Z
UID:10058933-1778409000-1778418000@myflr.org
SUMMARY:Mothers Day BBQ
DESCRIPTION:St. Michael’s Mother’s Day BBQ Richville Michigan\n10:30 AM Til Sold Out\nDinner Includes\, 1/2 chicken\, Dressing\, Mashed Potatoes\, Gravy\, Corn\, Coleslaw\, Cupcake.\n$13.00 a dinner\nProceeds benefit St. Michael’s School and Church.
URL:https://myflr.org/event/mothers-day-bbq-3/
LOCATION:St. Michael’s Lutheran School (Richville\, MI)\, 9344 W Saginaw Rd\,\, Richville\, MI\, 48757\, United States
CATEGORIES:Michigan
ATTACH;FMTTYPE=image/jpeg:https://eadn-wc05-15902914.nxedge.io/wp-content/uploads/2026/02/stmikeschickenbbq2026.jpg
ORGANIZER;CN="St. Michael's Outreach Team":MAILTO:ramprod@airadv.net
END:VEVENT
END:VCALENDAR