
BEGIN:VCALENDAR
VERSION:2.0
PRODID:-//Family Life Radio - ECPv6.15.19//NONSGML v1.0//EN
CALSCALE:GREGORIAN
METHOD:PUBLISH
X-ORIGINAL-URL:https://myflr.org
X-WR-CALDESC:Events for Family Life Radio
REFRESH-INTERVAL;VALUE=DURATION:PT1H
X-Robots-Tag:noindex
X-PUBLISHED-TTL:PT1H
BEGIN:VTIMEZONE
TZID:America/Phoenix
BEGIN:STANDARD
TZOFFSETFROM:-0700
TZOFFSETTO:-0700
TZNAME:MST
DTSTART:20250101T000000
END:STANDARD
END:VTIMEZONE
BEGIN:VEVENT
DTSTART;TZID=America/Phoenix:20260425T160000
DTEND;TZID=America/Phoenix:20260425T180000
DTSTAMP:20260419T160130
CREATED:20260414T181711Z
LAST-MODIFIED:20260414T182557Z
UID:10060292-1777132800-1777140000@myflr.org
SUMMARY:Kids Spring Fair/Feria de Primavera para Niños
DESCRIPTION:You’re invited to our Kids Spring Fair!\nThey’ll be fun\, food and games for FREE!!!\nDIVERSION\, COMIDA\, JUEGOS FREE!!!!! GRATIS!!!!!!
URL:https://myflr.org/event/kids-spring-fair-feria-de-primavera-para-ninos/
LOCATION:Sunnyside Baptist Church\, 2300 N West St.\, Flagstaff\, AZ\, United States
CATEGORIES:Arizona
ATTACH;FMTTYPE=image/jpeg:https://eadn-wc05-15902914.nxedge.io/wp-content/uploads/2026/04/1000020096-scaled.jpg
END:VEVENT
BEGIN:VEVENT
DTSTART;TZID=America/Phoenix:20260425T160000
DTEND;TZID=America/Phoenix:20260425T180000
DTSTAMP:20260419T160130
CREATED:20260414T182933Z
LAST-MODIFIED:20260414T182933Z
UID:10060267-1777132800-1777140000@myflr.org
SUMMARY:Kids Spring Fair/Feria de Primavera para Niños
DESCRIPTION:You’re invited to our Kids Spring Fair!\nThey’ll be fun\, food and games for FREE!!!\nDIVERSION\, COMIDA\, JUEGOS FREE!!!!! GRATIS!!!!!!
URL:https://myflr.org/event/kids-spring-fair-feria-de-primavera-para-ninos-2/
LOCATION:Sunnyside Baptist Church\, 2300 N West St\, Flagstaff\, AZ\, 86004\, United States
CATEGORIES:Arizona
ATTACH;FMTTYPE=image/jpeg:https://eadn-wc05-15902914.nxedge.io/wp-content/uploads/2026/04/8212.jpg
END:VEVENT
END:VCALENDAR