
BEGIN:VCALENDAR
VERSION:2.0
PRODID:-//Family Life Radio - ECPv6.15.20//NONSGML v1.0//EN
CALSCALE:GREGORIAN
METHOD:PUBLISH
X-WR-CALNAME:Family Life Radio
X-ORIGINAL-URL:https://myflr.org
X-WR-CALDESC:Events for Family Life Radio
REFRESH-INTERVAL;VALUE=DURATION:PT1H
X-Robots-Tag:noindex
X-PUBLISHED-TTL:PT1H
BEGIN:VTIMEZONE
TZID:America/Detroit
BEGIN:DAYLIGHT
TZOFFSETFROM:-0500
TZOFFSETTO:-0400
TZNAME:EDT
DTSTART:20240310T070000
END:DAYLIGHT
BEGIN:STANDARD
TZOFFSETFROM:-0400
TZOFFSETTO:-0500
TZNAME:EST
DTSTART:20241103T060000
END:STANDARD
BEGIN:DAYLIGHT
TZOFFSETFROM:-0500
TZOFFSETTO:-0400
TZNAME:EDT
DTSTART:20250309T070000
END:DAYLIGHT
BEGIN:STANDARD
TZOFFSETFROM:-0400
TZOFFSETTO:-0500
TZNAME:EST
DTSTART:20251102T060000
END:STANDARD
BEGIN:DAYLIGHT
TZOFFSETFROM:-0500
TZOFFSETTO:-0400
TZNAME:EDT
DTSTART:20260308T070000
END:DAYLIGHT
BEGIN:STANDARD
TZOFFSETFROM:-0400
TZOFFSETTO:-0500
TZNAME:EST
DTSTART:20261101T060000
END:STANDARD
END:VTIMEZONE
BEGIN:VEVENT
DTSTART;TZID=America/Detroit:20250823T160000
DTEND;TZID=America/Detroit:20250823T200000
DTSTAMP:20260421T191300
CREATED:20250711T181033Z
LAST-MODIFIED:20250711T181057Z
UID:10048800-1755964800-1755979200@myflr.org
SUMMARY:BURNING LIGHTS
DESCRIPTION:3rd Annual Burning Lights to Host an Event for Those Seeking\nthe Lord and Community. \nPortland\, MI – Join us for our 3rd Annual Burning Lights event on Saturday\, August 23\nfrom 4 to 8 PM. This event is come as you are and open to all people of any age group. There is\nfree admission and parking. This event will include music\, food\, testimonials\, baptisms\, and a\nbouncy house for the kids! \nThis event will provide a platform for anyone new that would like to learn and know\nmore about the Lord\, ask questions\, or would like prayer. There is something for all no matter\nwhere you are in your faith. We will have praise and worship throughout the evening.\nIn addition\, this will be a place for those seeking community and fellowship. We\nencourage the connection of all the local areas in and around Portland to come and enjoy the\nevening with us. \n3rd Annual Burning Lights Event Details:\nDate/Time: Saturday\, August 23\, 2025 / 4:00 – 8:00 PM\nEvent Location: 11303 E. Grand River Trail\, Portland\, MI 48875\nFacebook : 3rd Annual Burning Lights\, if going or interested\,\nhttps://facebook.com/events/s/3rd-annual-burning-lights/2126361534513449/
URL:https://myflr.org/event/burning-lights-2/
LOCATION:11303 E. Grand River Trail\, Portland\, MI 48875\, 11303 E. Grand River Trail\, Portland\, MI\, 48875\, United States
CATEGORIES:Featured,Michigan
ATTACH;FMTTYPE=image/jpeg:https://eadn-wc05-15902914.nxedge.io/wp-content/uploads/2025/07/3rd-Annual-Burning-Lights.jpeg
ORGANIZER;CN="Susan Moyer":MAILTO:slmoyer12@yahoo.com
END:VEVENT
END:VCALENDAR