
BEGIN:VCALENDAR
VERSION:2.0
PRODID:-//Family Life Radio - ECPv6.15.20//NONSGML v1.0//EN
CALSCALE:GREGORIAN
METHOD:PUBLISH
X-WR-CALNAME:Family Life Radio
X-ORIGINAL-URL:https://myflr.org
X-WR-CALDESC:Events for Family Life Radio
REFRESH-INTERVAL;VALUE=DURATION:PT1H
X-Robots-Tag:noindex
X-PUBLISHED-TTL:PT1H
BEGIN:VTIMEZONE
TZID:America/Phoenix
BEGIN:STANDARD
TZOFFSETFROM:-0700
TZOFFSETTO:-0700
TZNAME:MST
DTSTART:20230101T000000
END:STANDARD
END:VTIMEZONE
BEGIN:VEVENT
DTSTART;TZID=America/Phoenix:20250719T170000
DTEND;TZID=America/Phoenix:20250719T200000
DTSTAMP:20260421T154350
CREATED:20250606T010122Z
LAST-MODIFIED:20250606T010122Z
UID:10045802-1752944400-1752955200@myflr.org
SUMMARY:back to school bash
DESCRIPTION:This is a free community event happening at 1515 Grand Ave. in Phoenix\, Arizona at the Phoenix Teen challenge men’s center. We will be giving away free food\, free water. We will be preaching the gospel of Jesus and over 1000 children can walk away with a backpack full of school supplies.!
URL:https://myflr.org/event/back-to-school-bash-3/
LOCATION:Teen Challenge of Arizona\, 1515 Grand Ave\, Phoenix\, AZ\, 85007\, United States
CATEGORIES:Arizona,Featured
ATTACH;FMTTYPE=image/png:https://eadn-wc05-15902914.nxedge.io/wp-content/uploads/2025/06/Untitled-design-9.png
ORGANIZER;CN="Teen Challenge Phoenix":MAILTO:phx-pr@tcaz.org
END:VEVENT
BEGIN:VEVENT
DTSTART;TZID=America/Phoenix:20240720T170000
DTEND;TZID=America/Phoenix:20240720T200000
DTSTAMP:20260421T154350
CREATED:20240604T181409Z
LAST-MODIFIED:20240604T181409Z
UID:10027038-1721494800-1721505600@myflr.org
SUMMARY:15th annual Back To School Backpack Bash
DESCRIPTION:Teen Challenge Phoenix annual event where we distribute 1000 backpacks with school supplies to families in need. Free event with free food free games free entertainment and free raffle prize giveaways.
URL:https://myflr.org/event/15th-annual-back-to-school-backpack-bash/2024-07-20/2/
LOCATION:Teen Challenge Phoenix\, 1515 Grand Ave\, Phoenix\, AZ\, 85007\, United States
CATEGORIES:Arizona
ATTACH;FMTTYPE=image/png:https://eadn-wc05-15902914.nxedge.io/wp-content/uploads/2024/06/IMG_0130.png
ORGANIZER;CN="Teen Challenge Phoenix":MAILTO:phx-pr@tcaz.org
END:VEVENT
END:VCALENDAR