
BEGIN:VCALENDAR
VERSION:2.0
PRODID:-//Family Life Radio - ECPv6.15.20//NONSGML v1.0//EN
CALSCALE:GREGORIAN
METHOD:PUBLISH
X-ORIGINAL-URL:https://myflr.org
X-WR-CALDESC:Events for Family Life Radio
REFRESH-INTERVAL;VALUE=DURATION:PT1H
X-Robots-Tag:noindex
X-PUBLISHED-TTL:PT1H
BEGIN:VTIMEZONE
TZID:America/Phoenix
BEGIN:STANDARD
TZOFFSETFROM:-0700
TZOFFSETTO:-0700
TZNAME:MST
DTSTART:20240101T000000
END:STANDARD
END:VTIMEZONE
BEGIN:VEVENT
DTSTART;TZID=America/Phoenix:20251117T180000
DTEND;TZID=America/Phoenix:20251117T210000
DTSTAMP:20260421T193227
CREATED:20251105T230926Z
LAST-MODIFIED:20251105T230926Z
UID:10057111-1763402400-1763413200@myflr.org
SUMMARY:Fall Banquet
DESCRIPTION:Teen Challenge of Tucson\nFor over 60 years\, Teen Challenge of Arizona has helped men overcome addiction through Christ-centered recovery. Our Tucson center provides a safe place to heal\, grow\, and rebuild lives on a foundation of faith. \nFall Banquet\nJoin us for our Annual Fall Banquet—an inspiring evening of stories\, dinner\, and celebration of lives changed by God’s grace. Your support makes this ministry possible and helps bring hope and freedom to those trapped in addiction.
URL:https://myflr.org/event/fall-banquet/
LOCATION:El Conquistador Tucson\, A Hilton Resort\, 10000 n Oracle\, Tucson\, AZ\, 85704\, United States
CATEGORIES:Arizona
ATTACH;FMTTYPE=image/jpeg:https://eadn-wc05-15902914.nxedge.io/wp-content/uploads/2025/10/IMG_1283-1.jpeg
ORGANIZER;CN="Teen Challenge":MAILTO:Jefferson.moreland@tcaz.org
END:VEVENT
END:VCALENDAR