
BEGIN:VCALENDAR
VERSION:2.0
PRODID:-//Family Life Radio - ECPv6.15.20//NONSGML v1.0//EN
CALSCALE:GREGORIAN
METHOD:PUBLISH
X-WR-CALNAME:Family Life Radio
X-ORIGINAL-URL:https://myflr.org
X-WR-CALDESC:Events for Family Life Radio
REFRESH-INTERVAL;VALUE=DURATION:PT1H
X-Robots-Tag:noindex
X-PUBLISHED-TTL:PT1H
BEGIN:VTIMEZONE
TZID:America/Detroit
BEGIN:DAYLIGHT
TZOFFSETFROM:-0500
TZOFFSETTO:-0400
TZNAME:EDT
DTSTART:20230312T070000
END:DAYLIGHT
BEGIN:STANDARD
TZOFFSETFROM:-0400
TZOFFSETTO:-0500
TZNAME:EST
DTSTART:20231105T060000
END:STANDARD
BEGIN:DAYLIGHT
TZOFFSETFROM:-0500
TZOFFSETTO:-0400
TZNAME:EDT
DTSTART:20240310T070000
END:DAYLIGHT
BEGIN:STANDARD
TZOFFSETFROM:-0400
TZOFFSETTO:-0500
TZNAME:EST
DTSTART:20241103T060000
END:STANDARD
BEGIN:DAYLIGHT
TZOFFSETFROM:-0500
TZOFFSETTO:-0400
TZNAME:EDT
DTSTART:20250309T070000
END:DAYLIGHT
BEGIN:STANDARD
TZOFFSETFROM:-0400
TZOFFSETTO:-0500
TZNAME:EST
DTSTART:20251102T060000
END:STANDARD
BEGIN:DAYLIGHT
TZOFFSETFROM:-0500
TZOFFSETTO:-0400
TZNAME:EDT
DTSTART:20260308T070000
END:DAYLIGHT
BEGIN:STANDARD
TZOFFSETFROM:-0400
TZOFFSETTO:-0500
TZNAME:EST
DTSTART:20261101T060000
END:STANDARD
END:VTIMEZONE
BEGIN:VTIMEZONE
TZID:America/Phoenix
BEGIN:STANDARD
TZOFFSETFROM:-0700
TZOFFSETTO:-0700
TZNAME:MST
DTSTART:20240101T000000
END:STANDARD
END:VTIMEZONE
BEGIN:VEVENT
DTSTART;TZID=America/Detroit:20251004T110000
DTEND;TZID=America/Detroit:20251004T150000
DTSTAMP:20260421T143555
CREATED:20250922T143534Z
LAST-MODIFIED:20250923T155947Z
UID:10056564-1759575600-1759590000@myflr.org
SUMMARY:AC Auburn Hills Trunk or Treat & Community Celebration - Auburn Hills
DESCRIPTION:A free event for the whole community to come out and enjoy a day of fun! Live Music\, Face Painting\, petting zoo\, craft tent\, games\, candy\, (concessions available for a small purchase). Events begin at 11:00am. Trunk or treat begins at 1:00pm. Bring the whole family! \nAC Auburn Hills\n3655 N. Squirrel Rd.\nAuburn Hills\, MI 48326
URL:https://myflr.org/event/ac-auburn-hills-trunk-or-treat-community-celebration-auburn-hills/
LOCATION:The Apostolic Church of Auburn Hills\, 3655 N. Squirrel Rd.\, Auburn Hills\, MI\, 48326\, United States
CATEGORIES:Featured,Michigan
ATTACH;FMTTYPE=image/png:https://eadn-wc05-15902914.nxedge.io/wp-content/uploads/2025/09/AC-COMM-CELEB-SQ-931-scaled.png
ORGANIZER;CN="The Apostolic Church of Auburn Hills":MAILTO:mark@acauburnhills.com
END:VEVENT
BEGIN:VEVENT
DTSTART;TZID=America/Phoenix:20250117T190000
DTEND;TZID=America/Phoenix:20250117T220000
DTSTAMP:20260421T143555
CREATED:20241208T183828Z
LAST-MODIFIED:20241208T183828Z
UID:10037559-1737140400-1737151200@myflr.org
SUMMARY:Date Night with Dr Emerson Eggerichs
DESCRIPTION:Date Night at TAC\nFriday\, January 17\, 2025 | 7:00 PM – 10:00 PM \nLooking to reconnect and strengthen your relationship? Join us for Date Night\, an evening designed to inspire deeper connection and better communication with your significant other. \nWhat is Love and Respect?\nDiscover insights from Dr. Emerson Eggerichs that have revolutionized thousands of marriages. Based on groundbreaking research: \n– 83% of men feel disrespected during conflict.\n– 72% of women feel unloved during conflict.\nThis difference—like pink and blue—highlights how love and respect are uniquely felt by men and women. Learn practical tools to navigate these dynamics and foster a stronger relationship. \nThis 3-hour event includes:\n– Two life-changing sessions led by Dr. Emerson Eggerichs.\n– Focused time to connect and communicate with your partner. \nTicket Options: \nVIP: The Date Night Special ($100 per couple)\nDoors open at 5:00 PM\nSwag bag (over $50 value!)\nEarly entry with appetizers and premium seating access. \nEarly Access ($75 per couple)\nDoors open at 5:30 PM\nEarly entry to the lobby experience and premium seating access. \nGeneral Admission ($50 per couple)\nDoors open at 6:00 PM\nIncludes the full Date Night experience. \nReserve Your Spot Now!\nTickets are sold per couple for your convenience. Spots are limited—don’t miss out on this transformative experience. \nFor questions\, email: events@acauburnhills.com \nMake 2025 the year of love and respect in your relationship. We can’t wait to see you there! \nLimited VIP and Early Access tickets available.
URL:https://myflr.org/event/date-night-with-dr-emerson-eggerichs/
LOCATION:The Apostolic Church of Auburn Hills\, 3655 N. Squirrel Rd.\, Auburn Hills\, MI\, 48326\, United States
CATEGORIES:Featured,Michigan
ATTACH;FMTTYPE=image/png:https://eadn-wc05-15902914.nxedge.io/wp-content/uploads/2024/12/LRLOGO.png
ORGANIZER;CN="The Apostolic Church of Auburn Hills":MAILTO:mark@acauburnhills.com
END:VEVENT
BEGIN:VEVENT
DTSTART;TZID=America/Detroit:20241005T110000
DTEND;TZID=America/Detroit:20241005T170000
DTSTAMP:20260421T143555
CREATED:20240903T133041Z
LAST-MODIFIED:20240903T133041Z
UID:10033811-1728126000-1728147600@myflr.org
SUMMARY:AC Trunk-or-Treat and Community Celebration – Auburn Hills
DESCRIPTION:God’s at work and so are we! Come and celebrate “40 Days of Community” with us at this event. At The Apostolic Church we exist to love God and love people. We do this by growing in faith\, serving with love and reaching the world with the Gospel of Jesus Christ! We are inviting people to our church to celebrate with us all that God is doing in our church and local in our community and to get to know who we are. There will be food trucks\, entertainment\, contests\, giveaways and more! We are inviting you to celebrate with us and check out what we are doing\, on mission for Christ in our local community. RAIN DATE IS OCTOBER 12th.
URL:https://myflr.org/event/ac-trunk-or-treat-and-community-celebration-auburn-hills/
LOCATION:The Apostolic Church of Auburn Hills\, 3655 N. Squirrel Rd.\, Auburn Hills\, MI\, 48326\, United States
CATEGORIES:Michigan
ORGANIZER;CN="The Apostolic Church of Auburn Hills":MAILTO:mark@acauburnhills.com
END:VEVENT
END:VCALENDAR