
BEGIN:VCALENDAR
VERSION:2.0
PRODID:-//Family Life Radio - ECPv6.15.20//NONSGML v1.0//EN
CALSCALE:GREGORIAN
METHOD:PUBLISH
X-ORIGINAL-URL:https://myflr.org
X-WR-CALDESC:Events for Family Life Radio
REFRESH-INTERVAL;VALUE=DURATION:PT1H
X-Robots-Tag:noindex
X-PUBLISHED-TTL:PT1H
BEGIN:VTIMEZONE
TZID:America/Phoenix
BEGIN:STANDARD
TZOFFSETFROM:-0700
TZOFFSETTO:-0700
TZNAME:MST
DTSTART:20240101T000000
END:STANDARD
END:VTIMEZONE
BEGIN:VEVENT
DTSTART;TZID=America/Phoenix:20250518T110000
DTEND;TZID=America/Phoenix:20250518T140000
DTSTAMP:20260421T102942
CREATED:20250502T140445Z
LAST-MODIFIED:20250502T140445Z
UID:10041053-1747566000-1747576800@myflr.org
SUMMARY:The Assembly Community Outreach - Warner Robins
DESCRIPTION:Join The Assembly Community Outreach every third Saturday of the month for fellowship\, provisions\, a delicious meal\, and an inspiring message from Pastor Brandon. This month\, we’ll gather at The Table Church in Warner Robins\, GA\, from 11 AM to 2 PM. Our feature is Sequia Dental Ministry. All are welcome!!
URL:https://myflr.org/event/the-assembly-community-outreach-warner-robins/
LOCATION:Table Church\, 100 N. Houston RD\, Warner Robins\, GA\, 31098\, United States
CATEGORIES:Georgia
ATTACH;FMTTYPE=image/jpeg:https://eadn-wc05-15902914.nxedge.io/wp-content/uploads/2025/05/Outreach-Flyer-25.jpg
ORGANIZER;CN="The Assembly at Warner Robins":MAILTO:BHayes@theassemblyga.org
END:VEVENT
BEGIN:VEVENT
DTSTART;TZID=America/Phoenix:20250315T110000
DTEND;TZID=America/Phoenix:20250315T140000
DTSTAMP:20260421T102942
CREATED:20250303T175720Z
LAST-MODIFIED:20250303T175720Z
UID:10040117-1742036400-1742047200@myflr.org
SUMMARY:The Assembly Community Outreach – Warner Robbins
DESCRIPTION:The Assembly Community Outreach is a monthly gathering held on the third Saturday of each month at The Table Church (100 N Houston Rd\, Warner Robins\, GA). The event runs from 11am to 2pm\, offering a variety of free provisions such as a delicious hot meal\, hygiene kits\, seasonal outdoor gear\, gently used clothing\, snacks\, fresh fruits and vegetables\, bibles\, and fellowship with an inspirational word. This month’s special features include free dental services by Sequoia Dental Ministry and worship by Christian Hip Hop artist Ike Rhythm. \nFor more details\, please contact Outreach Pastor Brandon Hayes at Bhayes@theassemblyga.org
URL:https://myflr.org/event/the-assembly-community-outreach-warner-robbins/
LOCATION:The Table Church\, 100 N. Houston RD\, Warner Robins\, GA\, 31098\, United States
CATEGORIES:Georgia
ATTACH;FMTTYPE=image/jpeg:https://eadn-wc05-15902914.nxedge.io/wp-content/uploads/2025/02/Community-Outreach-Image-25.jpg
ORGANIZER;CN="The Assembly at Warner Robins":MAILTO:BHayes@theassemblyga.org
END:VEVENT
END:VCALENDAR