
BEGIN:VCALENDAR
VERSION:2.0
PRODID:-//Family Life Radio - ECPv6.15.20//NONSGML v1.0//EN
CALSCALE:GREGORIAN
METHOD:PUBLISH
X-WR-CALNAME:Family Life Radio
X-ORIGINAL-URL:https://myflr.org
X-WR-CALDESC:Events for Family Life Radio
REFRESH-INTERVAL;VALUE=DURATION:PT1H
X-Robots-Tag:noindex
X-PUBLISHED-TTL:PT1H
BEGIN:VTIMEZONE
TZID:America/Phoenix
BEGIN:STANDARD
TZOFFSETFROM:-0700
TZOFFSETTO:-0700
TZNAME:MST
DTSTART:20240101T000000
END:STANDARD
END:VTIMEZONE
BEGIN:VEVENT
DTSTART;TZID=America/Phoenix:20250503T070000
DTEND;TZID=America/Phoenix:20250503T233000
DTSTAMP:20260419T221557
CREATED:20250415T222333Z
LAST-MODIFIED:20250415T222333Z
UID:10040961-1746255600-1746315000@myflr.org
SUMMARY:Erik Hite Foundation 14th Annual Fallen Officer 5K and Family Festival
DESCRIPTION:Please join us at the 14th Annual Fallen Officers Memorial 5k and Family Festival. \nThis wonderful community event will be located at the Northwest corner of Reid Park (900 S. Randolph Way) on Saturday\, May 3\, 2025\, from 7:00 a.m. to 11:30 a.m. (race day check in begins at 6:00 a.m.). \nThe morning will begin with a special presentation and tribute to the Fallen Officers of Tucson Police Department and the Pima County Sheriff’s Office. \nThe official\, CERTIFIED (Certification Code: AZ25010JOE) Timed 5k course will begin immediately after the presentation followed by the 2-mile family fun walk. This is a great way to get out and appreciate the Spring weather while supporting a great cause. Proceeds from this part of the event benefit our local first responders and active duty military families! \nThere will also be vendor booths\, a FREE kids zone that includes jumping castles\, face painting\, crafts\, and a kids race (ages 5-12) with prizes. Our annual Community Vehicle Showcase will be in full force with local agencie vehicles including police and fire for families to explore! \nFood trucks\, raffles\, and more will be available at this special event. No need to register for the family festival\, just come on out and enjoy!
URL:https://myflr.org/event/erik-hite-foundation-14th-annual-fallen-officer-5k-and-family-festival/
LOCATION:Reid Park\, 900 S. Randolph Way\, Tucson\, AZ\, 85716\, United States
CATEGORIES:Arizona
ATTACH;FMTTYPE=image/jpeg:https://eadn-wc05-15902914.nxedge.io/wp-content/uploads/2025/04/13thFallenOfficer_WalkFinal_2025-1-scaled.jpg
ORGANIZER;CN="The Erik Hite Foundation":MAILTO:haylij@erikhitefoundation.org
END:VEVENT
END:VCALENDAR