
BEGIN:VCALENDAR
VERSION:2.0
PRODID:-//Family Life Radio - ECPv6.15.20//NONSGML v1.0//EN
CALSCALE:GREGORIAN
METHOD:PUBLISH
X-ORIGINAL-URL:https://myflr.org
X-WR-CALDESC:Events for Family Life Radio
REFRESH-INTERVAL;VALUE=DURATION:PT1H
X-Robots-Tag:noindex
X-PUBLISHED-TTL:PT1H
BEGIN:VTIMEZONE
TZID:America/Phoenix
BEGIN:STANDARD
TZOFFSETFROM:-0700
TZOFFSETTO:-0700
TZNAME:MST
DTSTART:20230101T000000
END:STANDARD
END:VTIMEZONE
BEGIN:VEVENT
DTSTART;TZID=America/Phoenix:20241027T183000
DTEND;TZID=America/Phoenix:20241027T203000
DTSTAMP:20260421T193237
CREATED:20241023T001533Z
LAST-MODIFIED:20241023T001533Z
UID:10037256-1730053800-1730061000@myflr.org
SUMMARY:The 1916 Project Documentary
DESCRIPTION:The 1916 Project” is a documentary film that exposes the hidden history of the secular moral decline exposing the architects of our current culture of death. Learn the underpinnings of our cultural deterioration and how we got to where we are as a society. “The 1916 Project\,” exposes the shocking connections between Margaret Sanger and the Eugenics Movement\, Planned Parenthood\, the Third Reich\, Playboy Magazine\, and more. “The 1916 Project” is a must-see for the Christian and pro-life community. \n“The 1916 Project”\nThe Light at Mission Viejo\n(4601 Mission Bend at Richards Avenue)\nSunday\, October 27\n6:30 pm.
URL:https://myflr.org/event/the-1916-project-documentary/
LOCATION:The Light at Mission Viejo\, Santa Fe\, NM\, 4601 Mission Bend\, Santa Fe\, NM\, 87507\, United States
CATEGORIES:New Mexico
ORGANIZER;CN="The Light at Mission Viejo%2C Santa Fe%2C NM":MAILTO:tlmvaa@thelightatmissionviejo.org
END:VEVENT
BEGIN:VEVENT
DTSTART;TZID=America/Phoenix:20240407T183000
DTEND;TZID=America/Phoenix:20240407T200000
DTSTAMP:20260421T193237
CREATED:20240408T195031Z
LAST-MODIFIED:20240408T195031Z
UID:10022965-1712514600-1712520000@myflr.org
SUMMARY:Film entitled\, “Letter to the American Church”-Santa Fe
DESCRIPTION:This is a film adaptation of the best-selling book\, “Letter to the American Church” by Eric Metaxas. The film lays out the parallels between 1930’s Nazi Germany and other totalitarian regimes with what is happening in America today and how the Church has been mostly silent facing this evil. The film is a wake-up call to the church to stand up and speak out against the evil that is manifesting in our country. If you love your children\, love your church\, love your country\, this is a must see!
URL:https://myflr.org/event/film-entitled-letter-to-the-american-church-santa-fe/
LOCATION:The Light at Mission Viejo\, Santa Fe\, NM\, 4601 Mission Bend\, Santa Fe\, NM\, 87507\, United States
CATEGORIES:New Mexico
ORGANIZER;CN="The Light at Mission Viejo%2C Santa Fe%2C NM":MAILTO:tlmvaa@thelightatmissionviejo.org
END:VEVENT
END:VCALENDAR