
BEGIN:VCALENDAR
VERSION:2.0
PRODID:-//Family Life Radio - ECPv6.15.20//NONSGML v1.0//EN
CALSCALE:GREGORIAN
METHOD:PUBLISH
X-WR-CALNAME:Family Life Radio
X-ORIGINAL-URL:https://myflr.org
X-WR-CALDESC:Events for Family Life Radio
REFRESH-INTERVAL;VALUE=DURATION:PT1H
X-Robots-Tag:noindex
X-PUBLISHED-TTL:PT1H
BEGIN:VTIMEZONE
TZID:America/Phoenix
BEGIN:STANDARD
TZOFFSETFROM:-0700
TZOFFSETTO:-0700
TZNAME:MST
DTSTART:20240101T000000
END:STANDARD
END:VTIMEZONE
BEGIN:VEVENT
DTSTART;TZID=America/Phoenix:20251115T183000
DTEND;TZID=America/Phoenix:20251115T203000
DTSTAMP:20260421T135727
CREATED:20250909T220047Z
LAST-MODIFIED:20250909T220047Z
UID:10052237-1763231400-1763238600@myflr.org
SUMMARY:Christmas Joy 2025 (Christmas is coming early-NOV 15\, 2025)
DESCRIPTION:Family Life Radio presents\, \nExperience the Miracle!….Awaken your heart to the true Spirit of Christmas in dance as Magnify Dance Ensemble will present the 41st season of its Bravos Award-winning holiday production\, Christmas Joy. Over sixty classically-trained dancers will once again inspire audiences in the National Hispanic Cultural Center’s Albuquerque Journal Theater with a collection of moving and inspirational classical ballet\, jazz and contemporary dance performances choreographed to traditional and contemporary Christmas music. A moving and uplifting production\, Christmas Joy has become an Albuquerque holiday tradition. In 1999\, members of the Albuquerque Arts Alliance conferred the Bravos Award for Dance Excellence upon The Performers Ballet & Jazz Company. In addition\, in 2012 Christmas Joy was awarded the Albuquerque Community Live Art and Performance Services (Q-Claps)\, Applause Award for favorite performance. \nThe 2025 production includes two performances: \nChristmas Joy 2025\nSaturday\, November 15th at 2pm and 6:30pm\nNational Hispanic Cultural Center-1701 4th St SW\, Albuquerque\, NM 87102\nTickets range from $36.00 to $42.00. Discounts available for groups\, students and seniors (handling fee of $2.00 included). Tickets are available online for purchase at www.nhccnm.org\, at the National Hispanic Cultural Center Box Office or by calling the NHCC Box Office to 505-724-4771. \nThe Performers Ballet and Jazz Company DBA Magnify Dance Ensemble is a not-for-profit organization incorporated in 1990 to provide professional training and performance experience to young aspiring dancers from New Mexico. Visit our website www.MagnifyDanceCenter.com/Ensemble.
URL:https://myflr.org/event/christmas-joy-2025-christmas-is-coming-early-nov-15-2025/2025-11-15/2/
LOCATION:National Hispanic Cultural Center\, 1701 4th St SW\, Albuquerque\, NM\, 87102\, United States
CATEGORIES:Featured,New Mexico
ATTACH;FMTTYPE=image/jpeg:https://eadn-wc05-15902914.nxedge.io/wp-content/uploads/2025/09/ChristmasJoy25_InstaPost.jpg
END:VEVENT
END:VCALENDAR