
BEGIN:VCALENDAR
VERSION:2.0
PRODID:-//Family Life Radio - ECPv6.15.20//NONSGML v1.0//EN
CALSCALE:GREGORIAN
METHOD:PUBLISH
X-ORIGINAL-URL:https://myflr.org
X-WR-CALDESC:Events for Family Life Radio
REFRESH-INTERVAL;VALUE=DURATION:PT1H
X-Robots-Tag:noindex
X-PUBLISHED-TTL:PT1H
BEGIN:VTIMEZONE
TZID:America/Phoenix
BEGIN:STANDARD
TZOFFSETFROM:-0700
TZOFFSETTO:-0700
TZNAME:MST
DTSTART:20250101T000000
END:STANDARD
END:VTIMEZONE
BEGIN:VEVENT
DTSTART;TZID=America/Phoenix:20260417T182902
DTEND;TZID=America/Phoenix:20260417T202902
DTSTAMP:20260420T002119
CREATED:20260225T231539Z
LAST-MODIFIED:20260225T231539Z
UID:10059096-1776450542-1776457742@myflr.org
SUMMARY:Topeka Youth for Christ Comedy Cafe'
DESCRIPTION:A Fun Night Out – In its tenth year\, the annual YFC Comedy Cafe’ is a fundraising event that helps fund the on-going ministries of Topeka Youth for Christ. \nThe Comedy Cafe’ treats participants to coffee and delicious desserts\, as well as a creative program that highlights young people and tells the YFC story. \nTopeka’s own Connie Hall is our featured comedian for this year’s Comedy Cafe’. You’ll enjoy humorous stories and perspectives on life. It will make this an unforgettable evening\, for a great cause! We hope you can join us. Seating is limited.
URL:https://myflr.org/event/topeka-youth-for-christ-comedy-cafe/2026-04-17/4/
LOCATION:Topeka Bible Church\, 1101 SW Mulvane Lower Level\, Topeka\, KS\, 66604\, United States
CATEGORIES:Kansas,Missouri
ATTACH;FMTTYPE=image/jpeg:https://eadn-wc05-15902914.nxedge.io/wp-content/uploads/2026/02/Comedy-Cafe-2026-Metro-Voice-Ad-Connie-Hall-head-shot-3.jpg
ORGANIZER;CN="Topeka Youth for Christ":MAILTO:tyfcoffice@gmail.com
END:VEVENT
END:VCALENDAR