
BEGIN:VCALENDAR
VERSION:2.0
PRODID:-//Family Life Radio - ECPv6.15.20//NONSGML v1.0//EN
CALSCALE:GREGORIAN
METHOD:PUBLISH
X-WR-CALNAME:Family Life Radio
X-ORIGINAL-URL:https://myflr.org
X-WR-CALDESC:Events for Family Life Radio
REFRESH-INTERVAL;VALUE=DURATION:PT1H
X-Robots-Tag:noindex
X-PUBLISHED-TTL:PT1H
BEGIN:VTIMEZONE
TZID:America/Phoenix
BEGIN:STANDARD
TZOFFSETFROM:-0700
TZOFFSETTO:-0700
TZNAME:MST
DTSTART:20240101T000000
END:STANDARD
END:VTIMEZONE
BEGIN:VTIMEZONE
TZID:America/Detroit
BEGIN:DAYLIGHT
TZOFFSETFROM:-0500
TZOFFSETTO:-0400
TZNAME:EDT
DTSTART:20230312T070000
END:DAYLIGHT
BEGIN:STANDARD
TZOFFSETFROM:-0400
TZOFFSETTO:-0500
TZNAME:EST
DTSTART:20231105T060000
END:STANDARD
BEGIN:DAYLIGHT
TZOFFSETFROM:-0500
TZOFFSETTO:-0400
TZNAME:EDT
DTSTART:20240310T070000
END:DAYLIGHT
BEGIN:STANDARD
TZOFFSETFROM:-0400
TZOFFSETTO:-0500
TZNAME:EST
DTSTART:20241103T060000
END:STANDARD
BEGIN:DAYLIGHT
TZOFFSETFROM:-0500
TZOFFSETTO:-0400
TZNAME:EDT
DTSTART:20250309T070000
END:DAYLIGHT
BEGIN:STANDARD
TZOFFSETFROM:-0400
TZOFFSETTO:-0500
TZNAME:EST
DTSTART:20251102T060000
END:STANDARD
BEGIN:DAYLIGHT
TZOFFSETFROM:-0500
TZOFFSETTO:-0400
TZNAME:EDT
DTSTART:20260308T070000
END:DAYLIGHT
BEGIN:STANDARD
TZOFFSETFROM:-0400
TZOFFSETTO:-0500
TZNAME:EST
DTSTART:20261101T060000
END:STANDARD
END:VTIMEZONE
BEGIN:VEVENT
DTSTART;TZID=America/Phoenix:20250807T190000
DTEND;TZID=America/Phoenix:20250807T213000
DTSTAMP:20260421T065852
CREATED:20241018T170648Z
LAST-MODIFIED:20250314T211831Z
UID:10037164-1754593200-1754602200@myflr.org
SUMMARY:CeCe Winans-More Than This Tour 2025-RESCHEDULE AUG 7\, 2025-SOLD OUT!
DESCRIPTION:RESCHEDULE\, AUGUST 7\, 2025\, this is a SOLD OUT SHOW!\n\nFamily Life Radio and  TPR Live Productions brings you\,\n\n\nCeCe Winans- More Than This Tour-Spring 2025\n 7:00 pm\n\n\nSheffield Family Life Center – 5700 Winner Rd\, Kansas City\, MO\n\nSCHEDULE (subject to change):5:30 PM – VIP doors5:45 PM – Early Entry doors6:00 PM – General Admission doors7:00 PM – Concert begins \nGet TICKETS HERE! \nMore information go to: https://tprlive.co/event/cece-winans-more-than-this-tour-kansas-city-mo-february-19-2025/?t_id=Mjgw
URL:https://myflr.org/event/cece-winans-more-than-this-tour-2025/
LOCATION:Sheffield Family Life Center-Kansas City\, 5700 Winner Rd\, Kansas City\, 64127\, 64127\, United States
CATEGORIES:Featured,Kansas,Missouri
ATTACH;FMTTYPE=image/jpeg:https://eadn-wc05-15902914.nxedge.io/wp-content/uploads/2024/10/CeCeWinan_MTTT_KC_1080x1080.jpg
ORGANIZER;CN="TPR Live":MAILTO:info@tprlive.co
END:VEVENT
BEGIN:VEVENT
DTSTART;TZID=America/Detroit:20250425T190000
DTEND;TZID=America/Detroit:20250425T213000
DTSTAMP:20260421T065852
CREATED:20250127T184526Z
LAST-MODIFIED:20250127T184526Z
UID:10038916-1745607600-1745616600@myflr.org
SUMMARY:Seph Schlueter – Counting My Blessings Tour – Brighton
DESCRIPTION:Join Seph Schlueter on his first headline tour\, featuring songs from his debut EP\, Counting My Blessings. Rooted in his journey of faith and shaped by years of worship leading\, Seph’s music offers a simple but powerful message of hope. Don’t miss this opportunity to hear Seph live as he shares his journey\, his songs\, and his prayer for revival. \n  \nFor artist and songwriter Seph Schlueter\, his debut single “Counting My Blessings” hitting No. 1 on Spotify Brazil’s Viral Playlist was beyond unexpected. It’s a story covered in God’s fingerprints\, one Seph is all too happy to share. As a young high school graduate\, Seph joined a missionary group/youth retreat in Ohio as a worship leader. “I gave my life to the Lord in high school\,” Seph shares\, “and made the decision to give Him my whole life. I joined Damascus to be a part of bringing revival to the Catholic church\, for students and families to have a real encounter with Jesus.” As he grew in leadership at Damascus\, Seph was also developing his songwriting skills. The more he wrote\, the more his songs gained traction within the Damascus and Catholic community. Friends encouraged him to send his songs to record labels in Nashville. “I didn’t know anyone in the music industry or where to send my music. An artist I followed on Instagram made a post thanking a bunch of people at her label\, so I wrote down all their names and sent my song to them as well as a bunch of artists I looked up to. That usually doesn’t work too well\,” Seph jokes. For Seph\, launching Counting My Blessings on the heels of a viral hit only adds to his prayer for these songs. “I hope this EP gives people a framework for Jesus. These songs are my loaves and my fish for the Lord. If He wants to multiply it\, that’s great. Multiplication isn’t my job\, faithfulness is. If no one on earth heard my songs but only heaven sang them\, that would be enough.” \n  \nSCHEDULE (subject to change):\n5:15PM – VIP doors open\n6:00PM – Early Entry doors open\n6:15PM – General Admission doors open\n7:00PM – Show begins
URL:https://myflr.org/event/seph-schlueter-counting-my-blessings-tour-brighton/
LOCATION:Northridge Church (Brighton\, Mi)\, 7555 Brighton Rd\, Brighton\, MI\, 48116\, United States
CATEGORIES:Featured,Michigan
ATTACH;FMTTYPE=image/webp:https://eadn-wc05-15902914.nxedge.io/wp-content/uploads/2025/01/SS_CMBTour_1080X1080_General-1.webp
ORGANIZER;CN="TPR Live":MAILTO:info@tprlive.co
END:VEVENT
BEGIN:VEVENT
DTSTART;TZID=America/Phoenix:20250422T190000
DTEND;TZID=America/Phoenix:20250422T210000
DTSTAMP:20260421T065852
CREATED:20250313T234402Z
LAST-MODIFIED:20250313T234402Z
UID:10040348-1745348400-1745355600@myflr.org
SUMMARY:Charity Gayle – The Rejoice! Tour – Spring 2025 (Kansas City\, MO)
DESCRIPTION:Family Life Radio 88.1 FM and TPR presents\,\nCharity Gayle – The Rejoice! Tour – Spring 2025\nTues\, Apr 22 2025\nVineyard Church\n12300 Arrowhead Trafficway Kansas City\, MO 64165 \nSCHEDULE (subject to change):\n5:00pm – VIP doors open\n5:15pm – VIP Q&A starts\n5:30pm – Early Entry doors\n6:00pm – General Admission doors\n7:00pm – Event begins 7:00 PM (Doors 6:00 PM)\nGet your tickets HERE! \n\nJoin us for an unforgettable night of worship with Charity Gayle\, one of the world’s leading worship artists. Celebrated for her anthems like “I Speak Jesus\,” “Thank You Jesus for the Blood\,” and “I Believe\,” sung in churches around the globe\, Charity has inspired millions with her music\, amassing over half a billion streams worldwide. Charity and her team will be leading a night of authentic worship that is not to be missed as they tour the country\, leading songs from their newest album\, REJOICE\, and their breakthrough release\, ENDLESS PRAISE.\n 
URL:https://myflr.org/event/charity-gayle-the-rejoice-tour-spring-2025-kansas-city-mo/
LOCATION:Vineyard Church (Kanasas City\, MO)\, 12300 Arrowhead Trafficway\, Kansas City\, MO\, MO\, 64165\, United States
CATEGORIES:Featured,Kansas,Missouri
ATTACH;FMTTYPE=image/jpeg:https://eadn-wc05-15902914.nxedge.io/wp-content/uploads/2025/03/1080x1080_CharityGayleRejoice_NoAddlCopy.jpg
ORGANIZER;CN="TPR Live":MAILTO:info@tprlive.co
END:VEVENT
BEGIN:VEVENT
DTSTART;TZID=America/Phoenix:20250305T190000
DTEND;TZID=America/Phoenix:20250305T210000
DTSTAMP:20260421T065852
CREATED:20250120T150103Z
LAST-MODIFIED:20250120T194008Z
UID:10038808-1741201200-1741208400@myflr.org
SUMMARY:Lysa TerKeurst & Tasha Layton ‘Trust Again Tour’
DESCRIPTION:When something or someone breaks our heart\, it can feel like our trust in God is shattered too. Maybe you find yourself asking: Why would He allow this to happen? Am I the only one suffering while the person who hurt me got away with it? God\, where is your goodness in this? Friend\, please know\, you are not alone in these struggles. Lysa TerKeurst has been in your shoes and deeply understands. But she’s also learned this truth: There will always be gaps in the trust we have with people\, but there are no gaps in the trustworthiness of God. \nThat’s why she’s creating a special one night event on the Trust Again Tour during the spring of 2025 with worship leader\, Tasha Layton. This night will be filled with powerful worship\, Biblical teaching and practical takeaways to help you experience healing in your heart\, mind and soul.
URL:https://myflr.org/event/lysa-terkeurst-and-tasha-layton-trust-again-tour/
LOCATION:City of Grace Church\, 655 E University Dr.\, Mesa\, AZ\, 85203\, United States
CATEGORIES:Arizona,Featured
ATTACH;FMTTYPE=image/png:https://eadn-wc05-15902914.nxedge.io/wp-content/uploads/2025/01/Lysa-Terkeuerst.png
ORGANIZER;CN="TPR Live":MAILTO:info@tprlive.co
END:VEVENT
BEGIN:VEVENT
DTSTART;TZID=America/Phoenix:20250302T190000
DTEND;TZID=America/Phoenix:20250302T220000
DTSTAMP:20260421T065852
CREATED:20241002T205239Z
LAST-MODIFIED:20241216T224427Z
UID:10036653-1740942000-1740952800@myflr.org
SUMMARY:ELEVATION NIGHTS TOUR with Elevation Worship & Steven Furtick
DESCRIPTION:Tickets and info at https://www.ticketmaster.com/event/08006141334E60B6?CAMEFROM=CFC_TRANSPARENT_PRODUCTIONS_WEB_RADIO_1
URL:https://myflr.org/event/elevation-nights-tour-with-elevation-worship-steven-furtick/
LOCATION:Little Caesars Arena (Detroit\, MI)\, 2645 Woodward Ave\, Detroit\, MI\, 48201\, United States
CATEGORIES:Featured,Michigan
ATTACH;FMTTYPE=image/png:https://eadn-wc05-15902914.nxedge.io/wp-content/uploads/2024/10/EN25-1X1-MAR2-DETROIT.png
ORGANIZER;CN="TPR Live":MAILTO:info@tprlive.co
END:VEVENT
BEGIN:VEVENT
DTSTART;TZID=America/Phoenix:20250222T190000
DTEND;TZID=America/Phoenix:20250222T213000
DTSTAMP:20260421T065852
CREATED:20250114T203158Z
LAST-MODIFIED:20250114T203158Z
UID:10038784-1740250800-1740259800@myflr.org
SUMMARY:Kirk Cameron: Strong Families\, Strong Communities Tour – Kansas City\, KS
DESCRIPTION:Kirk Cameron: Strong Families\, Strong Communities Tour – Kansas City\, KS\n\nSat Feb 22 2025\n7:00 PM (Doors 6:15 PM)\nSCHEDULE (subject to change):\n5:00PM – VIP doors open\n5:15PM – Q+A Begins\n6:00PM – Early Entry doors\n6:15PM – General Admission doors\n7:00PM – Event begins \n\n\nOpen Door Baptist Church\n3033 N 103rd TerrarceKansas City\, KS 66109\nJoin actor Kirk Cameron for an inspiring evening of worship and teaching as he unveils the transformative insights of his new book\, “Born to Be Brave.” In a time of exciting cultural transition\, Cameron delivers a compelling message of hope and courage\, urging Christians to reclaim a vision of victory to strengthen our families and our communities. Drawing on biblical insights and personal stories\, Cameron will gather the family of faith to encourage us to live compassionately\, act with unwavering confidence and courage\, to not just “stand strong\,” but win the hearts and minds of this generation. The night also includes worship from special guest Matt Hammitt. Don’t miss this opportunity to be inspired and walk away equipped to make a meaningful impact on our communities and beyond.
URL:https://myflr.org/event/kirk-cameron-strong-families-strong-communities-tour-kansas-city-ks/
LOCATION:Open Door KC\, 3033 N 103rd Terrace\, Kansas City\, KS\, 66109\, United States
CATEGORIES:Featured,Kansas,Missouri
ATTACH;FMTTYPE=image/jpeg:https://eadn-wc05-15902914.nxedge.io/wp-content/uploads/2025/01/KirkCameron_SFSC2025_KansasCity_1080x1080-copy.jpg
ORGANIZER;CN="TPR Live":MAILTO:info@tprlive.co
END:VEVENT
BEGIN:VEVENT
DTSTART;TZID=America/Phoenix:20250221T190000
DTEND;TZID=America/Phoenix:20250221T220000
DTSTAMP:20260421T065852
CREATED:20241113T220036Z
LAST-MODIFIED:20241113T220036Z
UID:10037452-1740164400-1740175200@myflr.org
SUMMARY:SINGALONG 2025 with PHIL WICKHAM feat. CODY CARNES and KRISTIAN STANFILL
DESCRIPTION:Join the powerhouse lineup of Phil Wickham\, Kristian Stanfill\, and Cody Carnes for an in-person\, one of a kind worship atmosphere featuring both solo and collaborative performances. The heart of this tour is to create a sacred space where communities gather to encounter Jesus in deep and authentic ways through the collective worship experience. We’d love for you to be apart of it. \nSCHEDULE (subject to change):\n5:15PM – VIP doors open\n5:45PM – Early Entry doors open\n6:00PM – General Admission doors open\n7:00PM – Concert begins \nVIP\, Early Entry and General Admission tickets available @ https://www.ticketweb.com/event/singalong-2025-with-phil-wickham-abbas-house-tickets/13593254?pl=transparentprod&REFID=radio \nAdditional info @ https://www.facebook.com/events/2693196624174926\nand https://tprlive.co/event/phil-wickham-singalong-2025-chattanooga-hixson-tn-february-21-2025/
URL:https://myflr.org/event/singalong-2025-with-phil-wickham-feat-cody-carnes-and-kristian-stanfill/
LOCATION:Abba’s House (Hixon\, TN)\, 5208 Hixson Pike\, Hixson\, TN\, 37343\, United States
CATEGORIES:Featured,Tennesee
ATTACH;FMTTYPE=image/jpeg:https://eadn-wc05-15902914.nxedge.io/wp-content/uploads/2024/11/PW_Sing25_Local_1080x1080_Chattanooga.jpg
ORGANIZER;CN="TPR Live":MAILTO:info@tprlive.co
END:VEVENT
BEGIN:VEVENT
DTSTART;TZID=America/Detroit:20241205T190000
DTEND;TZID=America/Detroit:20241205T220000
DTSTAMP:20260421T065852
CREATED:20241029T154004Z
LAST-MODIFIED:20241029T154004Z
UID:10037375-1733425200-1733436000@myflr.org
SUMMARY:TAUREN WELLS & JORDAN FELIZ – THE TAKEBACK TOUR
DESCRIPTION:Don’t miss the chance to catch Tauren Wells and Jordan Feliz with special guests Ryan Ellis and Davies. live on The Takeback Tour this Winter\, hitting 8 cities across the nation! Experience nights filled with contagious energy and heartfelt worship\, designed to uplift not only the church but the community beyond. Get ready to be moved and inspired by their chart-topping hits including “Take It All Back\,” “Known\,” “Joy in the Morning\,” “Hills and Valleys” and “The River\,” as well as some brand new songs! Grab your tickets now and be part of these unforgettable nights! \nTicket Prices (Additional taxes & fees may apply; ticket prices subject to change) \nVIP: $100.00 \nVIP Ticket includes pre-show Q&A with Tauren Wells as well as first access to seats for the event! VIP Doors at 5:00PM\, Q&A begins at 5:30PM. Show at 7PM. Must arrive by 6:00PM to take advantage of VIP seating. \nEarly Entry: $50.00 \nBeat the rush and get early access to the best seats. Doors open at 6:00pm. Event begins at 7:00pm. Seating is general admission – first come\, first served. Must arrive before 6:15pm to receive early entry. \nGeneral Admission: $29.95 \nSeating is general admission – first come\, first served. Doors open at 6:15pm\, event begins at 7:00pm. \nSCHEDULE (subject to change):\n5:00 PM – VIP doors open\n5:30 PM – Q + A begins\n6:00 PM – Early Entry doors open\n6:15 PM – General Admission doors open\n7:00 PM – Concert begins \nInfo and Tickets @ https://www.ticketweb.com/event/the-takeback-tour-with-tauren-abbas-house-tickets/13630914?pl=transparentprod
URL:https://myflr.org/event/tauren-wells-jordan-feliz-the-takeback-tour/
LOCATION:Abba’s House (Hixon\, TN)\, 5208 Hixson Pike\, Hixson\, TN\, 37343\, United States
CATEGORIES:Featured,Tennesee
ATTACH;FMTTYPE=image/jpeg:https://eadn-wc05-15902914.nxedge.io/wp-content/uploads/2024/10/TheTakebackTour2024_General_1080x1080.jpg
ORGANIZER;CN="TPR Live":MAILTO:info@tprlive.co
END:VEVENT
END:VCALENDAR