
BEGIN:VCALENDAR
VERSION:2.0
PRODID:-//Family Life Radio - ECPv6.15.20//NONSGML v1.0//EN
CALSCALE:GREGORIAN
METHOD:PUBLISH
X-ORIGINAL-URL:https://myflr.org
X-WR-CALDESC:Events for Family Life Radio
REFRESH-INTERVAL;VALUE=DURATION:PT1H
X-Robots-Tag:noindex
X-PUBLISHED-TTL:PT1H
BEGIN:VTIMEZONE
TZID:America/Phoenix
BEGIN:STANDARD
TZOFFSETFROM:-0700
TZOFFSETTO:-0700
TZNAME:MST
DTSTART:20230101T000000
END:STANDARD
END:VTIMEZONE
BEGIN:VEVENT
DTSTART;TZID=America/Phoenix:20250503T090000
DTEND;TZID=America/Phoenix:20250503T140000
DTSTAMP:20260421T171500
CREATED:20250408T130158Z
LAST-MODIFIED:20250408T130158Z
UID:10040940-1746262800-1746280800@myflr.org
SUMMARY:Youth Outdoor Day – Free Community Event – Sixth Annual
DESCRIPTION:This is a free community event for youth to experience outdoor activities (BB gun\, archery\, duck ID\, archery tag\, RC flying\, hiking\, hunter safety\, Michigan DNR\, Fire/Police/Ambulance tours and more.) Plan for 1.5 hours to see all the exhibitors.\nGifts\, T shirts\, and a door prize are given to the first 150 youth attending. A free lunch is also provided.\nA grand prize drawing takes place at 1 PM\, you must be present to win.
URL:https://myflr.org/event/youth-outdoor-day-free-community-event-sixth-annual/
LOCATION:Rod Mills Park (Jackson\, MI)\, 3300 West Parnall Road\, Jackson\, MI\, 49201\, United States
CATEGORIES:Michigan
ATTACH;FMTTYPE=image/jpeg:https://eadn-wc05-15902914.nxedge.io/wp-content/uploads/2025/04/Sixth-Annual-Youth-Outdoor-Day-Event-Flyer-2025.jpg
ORGANIZER;CN="Trail Life Troop MI0317":MAILTO:doug@usdrews.com
END:VEVENT
BEGIN:VEVENT
DTSTART;TZID=America/Phoenix:20240504T090000
DTEND;TZID=America/Phoenix:20240504T140000
DTSTAMP:20260421T171500
CREATED:20240403T111523Z
LAST-MODIFIED:20240403T111523Z
UID:10022953-1714813200-1714831200@myflr.org
SUMMARY:Youth Outdoor Day – Free Community Event – Fifth Annual
DESCRIPTION:This is a free community event for youth to experience outdoor activities (BB gun\, archery\, duck ID\, archery tag\, RC flying\, hiking\, hunter safety and more.\nFree prize bag & T shirts are given to first 125 youth attending. A free lunch is also provided.\nA multiple prize drawing takes place at 1 PM\, you do not have to be present to win.
URL:https://myflr.org/event/youth-outdoor-day-free-community-event-fifth-annual/
LOCATION:Rod Mills Park (Jackson\, MI)\, 3300 West Parnall Road\, Jackson\, MI\, 49201\, United States
CATEGORIES:Michigan
ATTACH;FMTTYPE=image/jpeg:https://eadn-wc05-15902914.nxedge.io/wp-content/uploads/2024/04/Flyer-one-page.jpg
ORGANIZER;CN="Trail Life Troop MI0317":MAILTO:doug@usdrews.com
END:VEVENT
END:VCALENDAR