
BEGIN:VCALENDAR
VERSION:2.0
PRODID:-//Family Life Radio - ECPv6.15.20//NONSGML v1.0//EN
CALSCALE:GREGORIAN
METHOD:PUBLISH
X-WR-CALNAME:Family Life Radio
X-ORIGINAL-URL:https://myflr.org
X-WR-CALDESC:Events for Family Life Radio
REFRESH-INTERVAL;VALUE=DURATION:PT1H
X-Robots-Tag:noindex
X-PUBLISHED-TTL:PT1H
BEGIN:VTIMEZONE
TZID:America/Phoenix
BEGIN:STANDARD
TZOFFSETFROM:-0700
TZOFFSETTO:-0700
TZNAME:MST
DTSTART:20230101T000000
END:STANDARD
END:VTIMEZONE
BEGIN:VEVENT
DTSTART;TZID=America/Phoenix:20251019T080000
DTEND;TZID=America/Phoenix:20251019T170000
DTSTAMP:20260421T120343
CREATED:20241122T234006Z
LAST-MODIFIED:20241122T234006Z
UID:10037426-1760860800-1760893200@myflr.org
SUMMARY:Tucson Coin Club Coin Show
DESCRIPTION:The Tucson Coin Club will be holding a Coin Show at the Tucson Woman’s Club\, 6245 East Bellevue St.\, Tucson\, Arizona 85712. The show hours are from 9 AM to 3 PM. Admission and parking are free. There will be 35 tables of dealers with US and world coins and paper money\, tokens\, medals\, gold and\, silver and numismatic supplies and stamps. Several dealers will be available to buy precious metals and there will be free appraisals available. Go to www.tucsoncoinclub.com for more information.
URL:https://myflr.org/event/tucson-coin-club-coin-show/2025-10-19/
LOCATION:Tucson Woman’s Club\, 6245 East Bellevue Street\, Tucson\, AZ 85712\, Tucson\, AZ\, 85712\, United States
CATEGORIES:Arizona
ATTACH;FMTTYPE=image/jpeg:https://eadn-wc05-15902914.nxedge.io/wp-content/uploads/2024/11/TCC-Logo-2.jpg
ORGANIZER;CN="Tucson Coin Club":MAILTO:jerryaz631@gmail.com
END:VEVENT
BEGIN:VEVENT
DTSTART;TZID=America/Phoenix:20241020T090000
DTEND;TZID=America/Phoenix:20241020T150000
DTSTAMP:20260421T120343
CREATED:20240805T153445Z
LAST-MODIFIED:20240805T153445Z
UID:10032391-1729414800-1729436400@myflr.org
SUMMARY:Tucson Coin Club Coin Show
DESCRIPTION:The Tucson Coin Club Coin and Stamp Show will be on Sunday October 20\, 2024 at the Tucson Woman’s Club\, 6245 East Bellevue St.\, Tucson\, Arizona 85712 from 9 AM to 3 PM. Admission and parking are free. 38 tables. Go to www.tucsoncoinclub.com for more information.
URL:https://myflr.org/event/tucson-coin-club-coin-show-5/
LOCATION:Tucson Woman’s Club\, 6245 East Bellevue Street\, Tucson\, AZ\, AZ\, 85712\, United States
CATEGORIES:Arizona
ATTACH;FMTTYPE=image/jpeg:https://eadn-wc05-15902914.nxedge.io/wp-content/uploads/2024/08/TCC-logo-large-Cropped.jpg
ORGANIZER;CN="Tucson Coin Club":MAILTO:jerryaz631@gmail.com
END:VEVENT
END:VCALENDAR