
BEGIN:VCALENDAR
VERSION:2.0
PRODID:-//Family Life Radio - ECPv6.15.20//NONSGML v1.0//EN
CALSCALE:GREGORIAN
METHOD:PUBLISH
X-WR-CALNAME:Family Life Radio
X-ORIGINAL-URL:https://myflr.org
X-WR-CALDESC:Events for Family Life Radio
REFRESH-INTERVAL;VALUE=DURATION:PT1H
X-Robots-Tag:noindex
X-PUBLISHED-TTL:PT1H
BEGIN:VTIMEZONE
TZID:America/Phoenix
BEGIN:STANDARD
TZOFFSETFROM:-0700
TZOFFSETTO:-0700
TZNAME:MST
DTSTART:20250101T000000
END:STANDARD
END:VTIMEZONE
BEGIN:VEVENT
DTSTART;TZID=America/Phoenix:20260428T180000
DTEND;TZID=America/Phoenix:20260429T163000
DTSTAMP:20260421T065829
CREATED:20251010T001551Z
LAST-MODIFIED:20251010T001551Z
UID:10056960-1777399200-1777480200@myflr.org
SUMMARY:Faith Incorporated 2026 (Olathe)
DESCRIPTION:Join hundreds of like-minded professionals for two days filled with transformative keynotes\, inspiring panel discussions\, and powerful networking. This is your opportunity to dive into meaningful conversations on integrating faith in all aspects of work and leadership. \nThis is more than a conference\, it’s a community of people who believe in the power of faith to make a real difference in the world. You’ll leave inspired\, equipped\, and ready to bring new purpose and perspective to your work. \nLet’s make faith at work more than just a concept. Together\, we’ll advance the movement throughout the marketplace.
URL:https://myflr.org/event/faith-incorporated-2026-olathe/
LOCATION:Olathe Conference Center\, 10401 S Ridgeview Rd\, Olathe\, KS\, Olathe\, KS\, 66061\, United States
CATEGORIES:Kansas,Missouri
ATTACH;FMTTYPE=image/png:https://eadn-wc05-15902914.nxedge.io/wp-content/uploads/2025/10/UBN-Faith-Inc-Slide.png
ORGANIZER;CN="Unconventional Business Network":MAILTO:events@unconventionalbusiness.org
END:VEVENT
END:VCALENDAR