
BEGIN:VCALENDAR
VERSION:2.0
PRODID:-//Family Life Radio - ECPv6.15.20//NONSGML v1.0//EN
CALSCALE:GREGORIAN
METHOD:PUBLISH
X-ORIGINAL-URL:https://myflr.org
X-WR-CALDESC:Events for Family Life Radio
REFRESH-INTERVAL;VALUE=DURATION:PT1H
X-Robots-Tag:noindex
X-PUBLISHED-TTL:PT1H
BEGIN:VTIMEZONE
TZID:America/Detroit
BEGIN:DAYLIGHT
TZOFFSETFROM:-0500
TZOFFSETTO:-0400
TZNAME:EDT
DTSTART:20230312T070000
END:DAYLIGHT
BEGIN:STANDARD
TZOFFSETFROM:-0400
TZOFFSETTO:-0500
TZNAME:EST
DTSTART:20231105T060000
END:STANDARD
BEGIN:DAYLIGHT
TZOFFSETFROM:-0500
TZOFFSETTO:-0400
TZNAME:EDT
DTSTART:20240310T070000
END:DAYLIGHT
BEGIN:STANDARD
TZOFFSETFROM:-0400
TZOFFSETTO:-0500
TZNAME:EST
DTSTART:20241103T060000
END:STANDARD
BEGIN:DAYLIGHT
TZOFFSETFROM:-0500
TZOFFSETTO:-0400
TZNAME:EDT
DTSTART:20250309T070000
END:DAYLIGHT
BEGIN:STANDARD
TZOFFSETFROM:-0400
TZOFFSETTO:-0500
TZNAME:EST
DTSTART:20251102T060000
END:STANDARD
BEGIN:DAYLIGHT
TZOFFSETFROM:-0500
TZOFFSETTO:-0400
TZNAME:EDT
DTSTART:20260308T070000
END:DAYLIGHT
BEGIN:STANDARD
TZOFFSETFROM:-0400
TZOFFSETTO:-0500
TZNAME:EST
DTSTART:20261101T060000
END:STANDARD
END:VTIMEZONE
BEGIN:VTIMEZONE
TZID:America/Phoenix
BEGIN:STANDARD
TZOFFSETFROM:-0700
TZOFFSETTO:-0700
TZNAME:MST
DTSTART:20220101T000000
END:STANDARD
END:VTIMEZONE
BEGIN:VEVENT
DTSTART;VALUE=DATE:20250806
DTEND;VALUE=DATE:20250810
DTSTAMP:20260421T171948
CREATED:20250115T215111Z
LAST-MODIFIED:20250702T181847Z
UID:10038799-1754438400-1754783999@myflr.org
SUMMARY:UNITY CHRISTIAN MUSIC FESTIVAL
DESCRIPTION:Unity Christian Music Festival is a four day festival\, focused on the best in Christian music\, but also including great food\, fellowship and family fun! In addition to our three full days\, Unity also includes a full night of totally free concerts during our Day Zero pre-event the Wednesday before the festival. \nWednesday August 6 – Festival gates open at 4:00 p.m. \n\n5:00 p.m. – Eli Gable\n6:00 p.m. – The Band JAREN\n7:10 p.m. – Jason Crabb\n8:10 p.m. – Speaker – TBA\n9:00 p.m. – Ben Fuller\n\nThursday August 7 – Festival gates open at 1:00 p.m. \n\n2:00 p.m. – Unity Praise\n2:45 p.m. – Sean Rodriguez\n4:00 p.m. – Caleb & John\n5:40 p.m. – Terrian\n7:00 p.m. – Josh Baldwin\n9:00 p.m. – Matthew West\n\nFriday August 8 – Festival gates open at 1:00 p.m. \n\n2:00 p.m. – Unity Praise\n2:45 p.m. – Jamie MacDonald\n4:00 p.m. – Seph Schlueter\n5:40 p.m. – Cochren & Co.\n7:00 p.m. – Rebecca St. James\n9:00 p.m. – Steven Curtis Chapman\n\nSaturday August 9 – Festival gates open at 1:00 p.m. \n\n2:00 p.m. – Unity Praise\n2:45 p.m. – Nathan Sheridan\n4:00 p.m. – Jonathan Traylor\n6:00 p.m. – Andrew Ripp\n7:20 p.m. – Sidewalk Prophets\n9:00 p.m. – Crowder\n\nEvent info @ https://www.unitymusicfestival.com/
URL:https://myflr.org/event/unity-christian-music-festival-2/
LOCATION:Heritage Landing (Muskegon\, MI)\, 1050 7th St\, Muskegon\, MI\, 49441\, United States
CATEGORIES:Featured,Michigan
ATTACH;FMTTYPE=image/jpeg:https://eadn-wc05-15902914.nxedge.io/wp-content/uploads/2024/02/Unity-Fest-Logo-SQ.jpg
ORGANIZER;CN="Unity Christian Events":MAILTO:kevin@unitychristianevents.com
END:VEVENT
BEGIN:VEVENT
DTSTART;TZID=America/Detroit:20250320T190000
DTEND;TZID=America/Detroit:20250320T220000
DTSTAMP:20260421T171948
CREATED:20241122T150111Z
LAST-MODIFIED:20250311T184743Z
UID:10037500-1742497200-1742508000@myflr.org
SUMMARY:BIG DADDY WEAVE – LET IT BEGIN TOUR – AUBURN HILLS
DESCRIPTION:Schedule: \n5:30 PM Premium GA Ticket Doors \n5:45 PM Q&A and Photo op with artists \n6:15 PM Early Entry GA doors \n6:30 PM General Doors \n7:00 PM Show \nThe Let It Begin Tour with Big Daddy Weave\, Ben Fuller\, and Megan Woods live is coming\nyour way! This will be an unforgettable night of inspiration and joy featuring your favorite\nsongs from Big Daddy Weave\, including their latest hits Let It Begin\, Heaven Changes\nEverything\, and God Is In This Story\, alongside favorites like Redeemed\, My Story\, and The\nOnly Name (Yours Will Be). Ben Fuller (If I Got Jesus\, Who I Am) and breakout artist Megan\nWoods (The Truth) complete the line-up for what promises to be an evening of praise and\ncelebration. Get your ticketsfor this one-of-a-kind concert experience today! \nPremium GA Ticket:\n5:30p early entry and premium GA seating section\n5:45p Q&A and photo op \nEarly Entry Ticket:\n6:15p door time to beat the rush to find your seat (If you arrive after 6:30p the benefits of this ticket will be lost) \nGeneral Admission:\n6:30p doors. come in and find a seat and enjoy the show! \n\n*All GA seating is first come first served \nInfo and tickets @ https://www.itickets.com/events/481622
URL:https://myflr.org/event/big-daddy-weave-let-it-begin-tour-auburn-hills/
LOCATION:Apostolic Church of Auburn Hills (Auburn Hills\, MI)\, 3655 N Squirrel Rd\, Auburn Hills\, MI\, 48326\, United States
CATEGORIES:Featured,Michigan
ATTACH;FMTTYPE=image/jpeg:https://eadn-wc05-15902914.nxedge.io/wp-content/uploads/2024/11/BDWSpring2025_1080x1080-copy.jpg
ORGANIZER;CN="Unity Christian Events":MAILTO:kevin@unitychristianevents.com
END:VEVENT
BEGIN:VEVENT
DTSTART;VALUE=DATE:20240807
DTEND;VALUE=DATE:20240811
DTSTAMP:20260421T171948
CREATED:20240227T204256Z
LAST-MODIFIED:20240227T204256Z
UID:10020782-1722988800-1723334399@myflr.org
SUMMARY:UNITY CHRISTIAN MUSIC FESTIVAL
DESCRIPTION:Unity Christian Music Festival is a four day festival\, focused on the best in Christian music\, but also including great food\, fellowship and family fun! In addition to our three full days\, Unity also includes a full night of totally free concerts during our Day Zero pre-event the Wednesday before the festival. \nWednesday August 7 – Festival gates open at 4:00 p.m. \n\n5:00 p.m. – Laurel Taylor\n6:00 p.m. – Bryan Terrel\n7:10 p.m. – Brandon Heath\n8:10 p.m. – Speaker – Luke LeFevre\n9:00 p.m. – Matt Maher\n\nThursday August 8 – Festival gates open at 1:00 p.m. \n\n2:00 p.m. – Unity Praise\n2:45 p.m. – Sean Be\n3:45 p.m. – The Band JAREN\n4:45 p.m. – The Sound\n6:15 p.m. – Consumed by Fire\n7:20 p.m. – Tasha Layton\n9:00 p.m. – Matthew West\n\nFriday August 9 – Festival gates open at 1:00 p.m. \n\n2:00 p.m. – Unity Praise\n2:45 p.m. – Jason Fowler\n4:00 p.m. – Stars Go Dim\n5:45 p.m. – Meredith Andrews\n7:00 p.m. – Mac Powell\n9:00 p.m. – Zach Williams\n\nSaturday August 10 – Festival gates open at 1:00 p.m. \n\n2:00 p.m. – Unity Praise\n2:45 p.m. – Seph Schlueter\n4:00 p.m. – Natalie Layne\n6:00 p.m. – David Leonard\n7:20 p.m. – Tenth Avenue North\n9:00 p.m. – We Are Messengers\n\nEvent info @ https://www.unitymusicfestival.com/
URL:https://myflr.org/event/unity-christian-music-festival/
LOCATION:Heritage Landing (Muskegon\, MI)\, 1050 7th St\, Muskegon\, MI\, 49441\, United States
CATEGORIES:Featured,Michigan
ATTACH;FMTTYPE=image/jpeg:https://eadn-wc05-15902914.nxedge.io/wp-content/uploads/2024/02/Unity-Fest-Logo-SQ.jpg
ORGANIZER;CN="Unity Christian Events":MAILTO:kevin@unitychristianevents.com
END:VEVENT
BEGIN:VEVENT
DTSTART;TZID=America/Detroit:20240413T190000
DTEND;TZID=America/Detroit:20240413T220000
DTSTAMP:20260421T171948
CREATED:20240110T140427Z
LAST-MODIFIED:20240110T140427Z
UID:10019495-1713034800-1713045600@myflr.org
SUMMARY:WE ARE MESSENGERS – WHERE THE JOY IS TOUR – FRUITPORT
DESCRIPTION:With special guests: Ben Fuller and Jonathan Traylor. \nShow Begins: 7pm \nVIP Doors: 5:15pm \nVIP Q&A: 5:30pm \nGA Doors: 6pm \nVIP Ticket Includes: early entry to the venue (5:15pm)\, early access to merch shopping (5:15-5:30pm)\, 30 minute pre-show Q&A with Darren of We Are Messengers (5:30-6pm)\, best seats in the house\, VIP exclusive tour laminate. \nEvent info at https://unitychristianevents.com/event/we-are-messengers-where-the-joy-is-usa-tour/\nTicket info at https://www.itickets.com/events/476446 \nAdditional tour dates include April 11 in Toledo\, OH and April 12 in Traverse City.  Tour info at https://unitychristianevents.com/
URL:https://myflr.org/event/we-are-messengers-where-the-joy-is-tour-fruitport/
LOCATION:The Lakes Church – Calvary Christian Schools (Fruitport\, MI)\, 5873 Kendra Road\, Fruitport\, 49415\, United States
CATEGORIES:Michigan
ATTACH;FMTTYPE=image/jpeg:https://eadn-wc05-15902914.nxedge.io/wp-content/uploads/2024/01/WAM-Ben-Fuller-Jonathan-Traylor-3-dates.jpg
ORGANIZER;CN="Unity Christian Events":MAILTO:kevin@unitychristianevents.com
END:VEVENT
BEGIN:VEVENT
DTSTART;TZID=America/Detroit:20240412T190000
DTEND;TZID=America/Detroit:20240412T220000
DTSTAMP:20260421T171948
CREATED:20240110T140029Z
LAST-MODIFIED:20240110T140029Z
UID:10019494-1712948400-1712959200@myflr.org
SUMMARY:WE ARE MESSENGERS – WHERE THE JOY IS TOUR – TRAVERSE CITY
DESCRIPTION:With special guests: Ben Fuller and Jonathan Traylor. \nShow Begins: 7pm \nVIP Doors: 5:15pm \nVIP Q&A: 5:30pm \nGA Doors: 6pm \nVIP Ticket Includes: early entry to the venue (5:15pm)\, early access to merch shopping (5:15-5:30pm)\, 30 minute pre-show Q&A with Darren of We Are Messengers (5:30-6pm)\, best seats in the house\, VIP exclusive tour laminate. \nEvent info at https://unitychristianevents.com/event/we-are-messengers-where-the-joy-is-usa-tour-2/\nTicket info at https://www.itickets.com/events/476445 \nAdditional tour dates include April 11 in Toledo\, OH and April 13 in Fruitport.  Tour info at https://unitychristianevents.com/
URL:https://myflr.org/event/we-are-messengers-where-the-joy-is-tour-traverse-city/
LOCATION:New Hope Community Church (Williamsburg\, MI)\, 5100 Bethesda Court\, Williamsburg\, MI\, 49690\, United States
CATEGORIES:Michigan
ATTACH;FMTTYPE=image/jpeg:https://eadn-wc05-15902914.nxedge.io/wp-content/uploads/2024/01/WAM-Ben-Fuller-Jonathan-Traylor-3-dates.jpg
ORGANIZER;CN="Unity Christian Events":MAILTO:kevin@unitychristianevents.com
END:VEVENT
BEGIN:VEVENT
DTSTART;TZID=America/Detroit:20240411T190000
DTEND;TZID=America/Detroit:20240411T220000
DTSTAMP:20260421T171948
CREATED:20240110T135511Z
LAST-MODIFIED:20240312T135403Z
UID:10019493-1712862000-1712872800@myflr.org
SUMMARY:WE ARE MESSENGERS – WHERE THE JOY IS TOUR – Ottawa Lake
DESCRIPTION:With special guests: Ben Fuller and Jonathan Traylor. \nShow Begins: 7pm \nVIP Doors: 5:15pm \nVIP Q&A: 5:30pm \nGA Doors: 6pm \nVIP Ticket Includes: early entry to the venue (5:15pm)\, early access to merch shopping (5:15-5:30pm)\, 30 minute pre-show Q&A with Darren of We Are Messengers (5:30-6pm)\, best seats in the house\, VIP exclusive tour laminate. \nEvent info at https://unitychristianevents.com/event/we-are-messengers-where-the-joy-is-usa-tour-3/\nTicket info at https://www.itickets.com/events/477094 \nAdditional tour dates include April 12 in Traverse City and April 13 in Fruitport.  Tour info at https://unitychristianevents.com/
URL:https://myflr.org/event/we-are-messengers-where-the-joy-is-tour-toledo-oh/
LOCATION:Crossroads Community Church (Ottawa Lake\, MI)\, 6960 Sylvania-Petersburg Rd\, Ottawa Lake\, 49267\, United States
CATEGORIES:Featured,Michigan
ATTACH;FMTTYPE=image/jpeg:https://eadn-wc05-15902914.nxedge.io/wp-content/uploads/2024/01/WAM-Spring-2024-Posters-OTTAWA-LAKE.jpg
ORGANIZER;CN="Unity Christian Events":MAILTO:kevin@unitychristianevents.com
END:VEVENT
BEGIN:VEVENT
DTSTART;TZID=America/Phoenix:20231014T190000
DTEND;TZID=America/Phoenix:20231014T220000
DTSTAMP:20260421T171948
CREATED:20230615T135443Z
LAST-MODIFIED:20230626T183249Z
UID:10010899-1697310000-1697320800@myflr.org
SUMMARY:CASTING CROWNS 20TH ANNIVERSARY TOUR – KALAMAZOO
DESCRIPTION:Multi-platinum selling Grammy winners Casting Crowns will take their powerful live performances on the road this fall with The Casting Crowns 20thAnniversary Tour: A Live Symphony Experience. Featuring hit songs from the band’s current chart-topping Healer album (“Scars In Heaven\,” “Crazy People”)\, concert goers will also experience a night of worship like no other celebrating an incredible 20-year repertoire of songs like “Only Jesus\,” “Nobody\,” “Praise You In This Storm\,” “East To West” and many more. For the first time ever\, Casting Crowns will be joined by a live symphony on this special anniversary tour. With more than 12 million albums sold and multiple Grammy\, Dove and American Music Awards to their name\, Casting Crowns might be best known for their fan-favorite live concert events – and The Casting Crowns 20th Anniversary Tour promises to be no different and they will be in Kalamazoo\, MI at Miller Auditorium on Oct. 14! \nTickets on sale now!
URL:https://myflr.org/event/casting-crowns-20th-anniversary-tour-kalamazoo/
LOCATION:Miller Auditorium (Kalamazoo\, MI)\, 1341 Theatre Dr.\, Kalamazoo\, MI\, 49008\, United States
CATEGORIES:Featured,Michigan
ATTACH;FMTTYPE=image/png:https://eadn-wc05-15902914.nxedge.io/wp-content/uploads/2023/06/img_23-24_castingcrowns.png
ORGANIZER;CN="Unity Christian Events":MAILTO:kevin@unitychristianevents.com
END:VEVENT
BEGIN:VEVENT
DTSTART;VALUE=DATE:20230809
DTEND;VALUE=DATE:20230813
DTSTAMP:20260421T171948
CREATED:20230517T222026Z
LAST-MODIFIED:20230517T222026Z
UID:10009499-1691539200-1691884799@myflr.org
SUMMARY:UNITY CHRISTIAN MUSIC FESTIVAL 2023
DESCRIPTION:Unity Christian Music Festival is back again for its 22nd year with the top artists in Christian Music. Buy your tickets now to reserve your spot at the beautiful Heritage Landing waterfront\, in Muskegon\, Michigan. \nUnity 2023-August 9-12\, including the totally FREE “Day Zero” on Wed.\, August 9th! \n4 Days of the best in Christian music from the Country Dairy Main Stage featuring for KING & COUNTRY\, We The Kingdom\, Casting Crowns\, Colton Dixon\, Racheal Lampa\, Jordan Feliz and more! \nUnity is the Family-Affordable Event of the summer; make plans now to join us in Muskegon \nEnjoy the Hometown Pharmacy “Family Fun Zone” with free games and activities for kids of all ages. \nExperience new artists like Ben Fuller\, Blessing Offor\, Jonathan Traylor\, Katy Nichole\, John Tibbs\, Evan Egerer\, and many more! \nVisit our dozens of ministry booths and find great ways to put your faith in action! \nGet all the info\, schedules and your link for tickets at unitymusicfestival.com
URL:https://myflr.org/event/unity-christian-music-festival-2023/
LOCATION:Heritage Landing (Muskegon\, MI)\, 1050 7th St\, Muskegon\, MI\, 49441\, United States
CATEGORIES:Featured,Michigan
ATTACH;FMTTYPE=image/jpeg:https://eadn-wc05-15902914.nxedge.io/wp-content/uploads/2023/05/Unity-2023.jpg
ORGANIZER;CN="Unity Christian Events":MAILTO:kevin@unitychristianevents.com
END:VEVENT
END:VCALENDAR