
BEGIN:VCALENDAR
VERSION:2.0
PRODID:-//Family Life Radio - ECPv6.15.20//NONSGML v1.0//EN
CALSCALE:GREGORIAN
METHOD:PUBLISH
X-ORIGINAL-URL:https://myflr.org
X-WR-CALDESC:Events for Family Life Radio
REFRESH-INTERVAL;VALUE=DURATION:PT1H
X-Robots-Tag:noindex
X-PUBLISHED-TTL:PT1H
BEGIN:VTIMEZONE
TZID:America/Phoenix
BEGIN:STANDARD
TZOFFSETFROM:-0700
TZOFFSETTO:-0700
TZNAME:MST
DTSTART:20230101T000000
END:STANDARD
END:VTIMEZONE
BEGIN:VEVENT
DTSTART;TZID=America/Phoenix:20241019T110000
DTEND;TZID=America/Phoenix:20241019T160000
DTSTAMP:20260421T195638
CREATED:20241009T221215Z
LAST-MODIFIED:20241009T221215Z
UID:10036647-1729335600-1729353600@myflr.org
SUMMARY:Annual Utica Lutheran Church Lutefisk and Meatball Dinner
DESCRIPTION:Annual Utica Lutheran Church Lutefisk and Meatball Dinner \nMenu includes \nLutefisk\, Meatballs\, gravy\, Lefse\, Potatoes\, Rutabagas\, cranberries\, coffee\, milk\, pastries and rommegrot.\nHandicap accessible.
URL:https://myflr.org/event/annual-utica-lutheran-church-lutefisk-and-meatball-dinner/
LOCATION:14974 State Hwy 27\, Ferryville\, WI. 54628\, WI\, 54628\, United States
CATEGORIES:Iowa,Wisconsin
END:VEVENT
END:VCALENDAR