
BEGIN:VCALENDAR
VERSION:2.0
PRODID:-//Family Life Radio - ECPv6.15.20//NONSGML v1.0//EN
CALSCALE:GREGORIAN
METHOD:PUBLISH
X-WR-CALNAME:Family Life Radio
X-ORIGINAL-URL:https://myflr.org
X-WR-CALDESC:Events for Family Life Radio
REFRESH-INTERVAL;VALUE=DURATION:PT1H
X-Robots-Tag:noindex
X-PUBLISHED-TTL:PT1H
BEGIN:VTIMEZONE
TZID:America/Phoenix
BEGIN:STANDARD
TZOFFSETFROM:-0700
TZOFFSETTO:-0700
TZNAME:MST
DTSTART:20240101T000000
END:STANDARD
END:VTIMEZONE
BEGIN:VEVENT
DTSTART;VALUE=DATE:20250707
DTEND;VALUE=DATE:20250712
DTSTAMP:20260421T075554
CREATED:20250613T003447Z
LAST-MODIFIED:20250613T003447Z
UID:10045774-1751846400-1752278399@myflr.org
SUMMARY:Vacation Bible School
DESCRIPTION:Kids will hear stories from the Bible each night followed by fun activities. Come create crafts\, play games and eat delicious snacks! This free event is for children pre-K -5th grade. Tag along on our road trip! We look forward to lots of faith-filled fun each evening. 6-8:30pm nightly
URL:https://myflr.org/event/vacation-bible-school-14/
LOCATION:Valley Christian Church\, 5968 E Fairmount St.\, Tucson\, AZ\, 85712\, United States
CATEGORIES:Arizona
ATTACH;FMTTYPE=image/jpeg:https://eadn-wc05-15902914.nxedge.io/wp-content/uploads/2025/06/IMG_4466.jpeg
END:VEVENT
END:VCALENDAR