
BEGIN:VCALENDAR
VERSION:2.0
PRODID:-//Family Life Radio - ECPv6.15.20//NONSGML v1.0//EN
CALSCALE:GREGORIAN
METHOD:PUBLISH
X-ORIGINAL-URL:https://myflr.org
X-WR-CALDESC:Events for Family Life Radio
REFRESH-INTERVAL;VALUE=DURATION:PT1H
X-Robots-Tag:noindex
X-PUBLISHED-TTL:PT1H
BEGIN:VTIMEZONE
TZID:America/Phoenix
BEGIN:STANDARD
TZOFFSETFROM:-0700
TZOFFSETTO:-0700
TZNAME:MST
DTSTART:20230101T000000
END:STANDARD
END:VTIMEZONE
BEGIN:VTIMEZONE
TZID:America/Denver
BEGIN:DAYLIGHT
TZOFFSETFROM:-0700
TZOFFSETTO:-0600
TZNAME:MDT
DTSTART:20230312T090000
END:DAYLIGHT
BEGIN:STANDARD
TZOFFSETFROM:-0600
TZOFFSETTO:-0700
TZNAME:MST
DTSTART:20231105T080000
END:STANDARD
BEGIN:DAYLIGHT
TZOFFSETFROM:-0700
TZOFFSETTO:-0600
TZNAME:MDT
DTSTART:20240310T090000
END:DAYLIGHT
BEGIN:STANDARD
TZOFFSETFROM:-0600
TZOFFSETTO:-0700
TZNAME:MST
DTSTART:20241103T080000
END:STANDARD
BEGIN:DAYLIGHT
TZOFFSETFROM:-0700
TZOFFSETTO:-0600
TZNAME:MDT
DTSTART:20250309T090000
END:DAYLIGHT
BEGIN:STANDARD
TZOFFSETFROM:-0600
TZOFFSETTO:-0700
TZNAME:MST
DTSTART:20251102T080000
END:STANDARD
END:VTIMEZONE
BEGIN:VEVENT
DTSTART;TZID=America/Phoenix:20251213T110000
DTEND;TZID=America/Phoenix:20251213T130000
DTSTAMP:20260421T121719
CREATED:20251115T013919Z
LAST-MODIFIED:20251115T014455Z
UID:10057316-1765623600-1765630800@myflr.org
SUMMARY:Winter Wonderland-Jesus Is the Greatest Gift (ABQ Toy Distrubition Event)
DESCRIPTION:🎄 Winter Wonderland – JESUS Is the Greatest Gift! 🎁Presented by Family Life Radio & Victory Outreach ABQ 🤝 In partnership with Albuquerque Police Department\, Stand True 4 Blue\, and Next Gen VOABQ \nJoin us for a FREE Christmas community celebration for kids and families! \n✨ LIVE Kids Christmas Production🎁 Christmas Toys for ages 4–18 (while supplies last)🎅 Santa\, his elves & friends📸 Free Photo Booth☕ Hot Cocoa🎈 Jumpers & Reindeer Games\n \n📅 Saturday\, December 13\, 2025⏰ 11am–1pm📍 Victory Outreach ABQ \nWe are prioritizing at-risk youth from the International District who have been nominated to receive gifts first.Please RSVP to Victory Outreach ABQ so we can prepare for your family 📞 Call VOABQ at 505-203-0029 \nIf you want to Volunteer for this community event\, please sign up HERE: https://signup.com/go/HnWtSEQ
URL:https://myflr.org/event/winter-wonderland-jesus-is-the-greatest-gift-abq-toy-distrubition-event/
LOCATION:Victory Outreach ABQ\, 435 Jefferson St SE\, Albuquerque\, NM\, 87108\, United States
CATEGORIES:Featured,New Mexico
ATTACH;FMTTYPE=image/jpeg:https://eadn-wc05-15902914.nxedge.io/wp-content/uploads/2025/11/2025-JITGG.jpeg
END:VEVENT
BEGIN:VEVENT
DTSTART;TZID=America/Phoenix:20241214T090000
DTEND;TZID=America/Phoenix:20241214T110000
DTSTAMP:20260421T121719
CREATED:20241112T184700Z
LAST-MODIFIED:20241112T231535Z
UID:10037448-1734166800-1734174000@myflr.org
SUMMARY:Jesus is the Greatest Gift 2024 EVENT! (Toy Distrubition Event in International District)
DESCRIPTION:“Jesus is the Greatest Gift”- Event with Family Life Radio 91.5 FM & Victory Outreach Church of Albuquerque and Stand True for Blue... Invite YOU\, your family to join us… for our TOY DISTRUBITION EVENT 2024… \nSaturday\, December 14\, 2024 \nVictory Outreach ABQ \n435 Jefferson St SE \nABQ\, NM 87108 \nMeet at VOABQ: \n7:00am: Decorate your vehicle for Christmas Parade \n8:00am: Volunteer Training/Instruction (inside) \n8:30am: Group Photo inside VOABQ \n8:45am: Leave VOABQ Starting at 1st Street (we will go down 5 streets\, parade style passing out gifts\, hot cocoa\, gloves\, hats\, scarves+ with Mr. & Mrs. Santa\, The Grinch\, Christmas Music\, Prayers and more+) \n9:00am-11am: EVENT 5 streets passing out TOYS\, Socks\, Gloves & Scarves & hot cocoa \n12pm: If we have extra TOYS\, we will End Parade at Mesa Verde Park–8098 Marquette Ave NE to finish handing out TOYS etc It’s a gathering place for all families and cumulation of families from all these streets. \nWe would like to keep all the Participants & Volunteers together for communication basis for this event: By signing up at this link: https://signup.com/go/bqRrZub There will be follow up emails reminders and communication will be sent with this sign up! \nHere is Reel to help you SEE what happens at this event: https://www.facebook.com/share/r/vnkfV3v3J18V4qti/ \nWe’d love for you to join us in impacting our community together for Christmas in the International District in ABQ for Christmas! \nOur goal for the TOY DRIVE that’s currently going on is 1\,000 TOYS\, socks\, gloves\, beanies & scarves to reach 500 Kids/Families in NM. Jesus is the REASON FOR THE SEASON!
URL:https://myflr.org/event/jesus-is-the-greatest-gift-2024-event-toy-distrubition-event-in-international-district/
LOCATION:Victory Outreach ABQ\, 435 Jefferson St SE\, Albuquerque\, NM\, 87108\, United States
CATEGORIES:Featured,New Mexico
ATTACH;FMTTYPE=image/png:https://eadn-wc05-15902914.nxedge.io/wp-content/uploads/2024/11/Jesus-is-the-greatest-gift-2024-Graphic-EVENT.png
END:VEVENT
BEGIN:VEVENT
DTSTART;TZID=America/Phoenix:20241102T140000
DTEND;TZID=America/Phoenix:20241102T160000
DTSTAMP:20260421T121719
CREATED:20241025T191341Z
LAST-MODIFIED:20241025T191341Z
UID:10037361-1730556000-1730563200@myflr.org
SUMMARY:Cookies and Cocoa with Santa!
DESCRIPTION:Family Life Radio 91.5 FM and Victory Outreach Church of Albuquerque invites you to a free fun afternoon with the kids and family… \nCookies & Cocoa with Santa!\nSaturday\, November 2\, 2024   \n@10am-12pm \nVictory Outreach Church of ABQ \n435 Jefferson St SE \nABQ\, NM 87108 \nBring an unwrapped toy for our FLR TOY DRIVE 2024 for boys and girls 0-3yrs-18yrs old n the International District. Get a photo with Mr. & Mrs. Santa\, possibly the Grinch and with your family. Eat cookies and have hot cocoa\, play Christmas games and drop off your toy donation! \nShop NOW at Amazon Wish List! \n­­­­­­­­­­­­­­­­­­­­­­­­If you cannot make this Kick-off event for our FLR TOY DRIVE 2024\, you can donate all month long to local ABQ drop off locations until December 8th! \nToy Drive Drop off locations will be available Nov 4th\, 2024 with a online link!
URL:https://myflr.org/event/cookies-and-cocoa-with-santa/
LOCATION:Victory Outreach ABQ\, 435 Jefferson St SE\, Albuquerque\, NM\, 87108\, United States
CATEGORIES:Featured,New Mexico
ATTACH;FMTTYPE=image/jpeg:https://eadn-wc05-15902914.nxedge.io/wp-content/uploads/2024/10/Cookis-and-Cocoa-with-Santa-VOABQ-Nov-2.2024.jpeg
END:VEVENT
BEGIN:VEVENT
DTSTART;TZID=America/Denver:20240330T110000
DTEND;TZID=America/Denver:20240330T140000
DTSTAMP:20260421T121719
CREATED:20240213T174936Z
LAST-MODIFIED:20240213T174954Z
UID:10019731-1711796400-1711807200@myflr.org
SUMMARY:Easter Extravaganza-Mesa Verde Park
DESCRIPTION:One of the largest egg hunts in the city of Albuquerque New Mexico. \nFree food\, live music\, fun skits\, carnival style kidz zone\, free gift baskets\, and great prizes all centered around Jesus Christ. \nGiant Egg Hunt \nMarch 30th \n11am-2pm \nMesa Verde Park-ABQ
URL:https://myflr.org/event/easter-extravaganza-mesa-verde-park/
LOCATION:Mesa Verde Park\, 8098 Marquette Ave NE\, Albuquerque\, 87108\, United States
CATEGORIES:New Mexico
ATTACH;FMTTYPE=image/jpeg:https://eadn-wc05-15902914.nxedge.io/wp-content/uploads/2024/02/Screenshot_20240211_113402_Chrome.jpg
END:VEVENT
END:VCALENDAR