
BEGIN:VCALENDAR
VERSION:2.0
PRODID:-//Family Life Radio - ECPv6.15.20//NONSGML v1.0//EN
CALSCALE:GREGORIAN
METHOD:PUBLISH
X-ORIGINAL-URL:https://myflr.org
X-WR-CALDESC:Events for Family Life Radio
REFRESH-INTERVAL;VALUE=DURATION:PT1H
X-Robots-Tag:noindex
X-PUBLISHED-TTL:PT1H
BEGIN:VTIMEZONE
TZID:America/Phoenix
BEGIN:STANDARD
TZOFFSETFROM:-0700
TZOFFSETTO:-0700
TZNAME:MST
DTSTART:20240101T000000
END:STANDARD
END:VTIMEZONE
BEGIN:VEVENT
DTSTART;TZID=America/Phoenix:20250315T100000
DTEND;TZID=America/Phoenix:20250315T110000
DTSTAMP:20260421T201209
CREATED:20250205T213913Z
LAST-MODIFIED:20250205T213913Z
UID:10039056-1742032800-1742036400@myflr.org
SUMMARY:Learn About Becoming a CASA Volunteer
DESCRIPTION:Join Voices for CASA Children for a live\, online Information Session about becoming a Court Appointed Special Advocate (CASA) volunteer in Maricopa County. A CASA volunteer is a trained community member appointed to advocate on behalf of the best interest of a child in foster care. \nShare this event with your community of change makers! This is a perfect opportunity to learn exactly what it takes to be a CASA. VOICES staff and a CASA volunteer will explain the program and be available to answer questions. \nWe would love to see you; the meeting link will be sent via email one week prior to the session.
URL:https://myflr.org/event/learn-about-becoming-a-casa-volunteer-2/
LOCATION:4300 North Miller Road 101 Scottsdale\, AZ 85251\, 4300 North Miller Road 101\, Scottsdale\, AZ\, 85251\, United States
CATEGORIES:Arizona
ATTACH;FMTTYPE=image/jpeg:https://eadn-wc05-15902914.nxedge.io/wp-content/uploads/2025/02/casa-for-kids-pic.jpeg
ORGANIZER;CN="Voices for CASA Children":MAILTO:childenrichment@voicesforcasachildren.org
END:VEVENT
END:VCALENDAR